Workbook

Sheet Compliance Summary
A1: Compliance Audit Summary Report
A3: Contract Number: | E3: Overall Comments (Auditor):
A4: Auditor:
A5: Audit Date:
A6: Contractor:
A7: Superintendent / MR Rep:
A8: Project Manager (MR):
A9: Project Manager (Contr.)
A10: Start Date (works):
A11: Previous Audits (total)
G12: Opportunities for Improvement
A14: Clause Number:
A16: Clause Number:
A18: Clause Number:
A20: Clause Number:
A22: Clause Number:
A24: Clause Number:
A26: Clause Number:
V28: MCS # | W28: Total count
V29: MCS1 | W29: =C47 -> 0
E30: Specification Compliance Audit | I30: General Site Inspection | M30: Minimum Control Standard (MCS) Compliance Audit Summary Total | V30: MCS2 | W30: =G47 -> 0
V31: MCS3 | W31: =K47 -> 0
E32: Non Conformance (Major) | F32: =COUNTIF('203 Compliance Audit'!D8:D104,'Compliance Summary'!E32) -> 0 | I32: Non Conformance (Major) | J32: =COUNTIF('General Site Inspection'!C8:C57,'Compliance Summary'!I32) -> 0 | M32: Total MCS Evaluated | O32: =COUNTIF(W29:W49,">0") -> 0 | Q32: Non Conformance (Major) | R32: =SUM(B42,F42,J42,N42,R42,B49,F49,J49,N49,R49,B56,F56,J56,N56,R56,B63,F63,J63,N63,R63,B70) -> 0 | V32: MCS4 | W32: =O47 -> 0
E33: Non Conformance (Minor) | F33: =COUNTIF('203 Compliance Audit'!D8:D104,'Compliance Summary'!E33) -> 0 | I33: Non Conformance (Minor) | J33: =COUNTIF('General Site Inspection'!C8:C58,'Compliance Summary'!I33) -> 0 | Q33: Non Conformance (Minor) | R33: =SUM(B43,F43,J43,N43,R43,B50,F50,J50,N50,R50,B57,F57,J57,N57,R57,B64,F64,J64,N64,R64,B71) -> 0 | V33: MCS5 | W33: =S47 -> 0
E34: Observation | F34: =COUNTIF('203 Compliance Audit'!D8:D104,'Compliance Summary'!E34) -> 0 | I34: Observation | J34: =COUNTIF('General Site Inspection'!C8:C59,'Compliance Summary'!I34) -> 0 | Q34: Observation | R34: =SUM(B44,F44,J44,N44,R44,B51,F51,J51,N51,R51,B58,F58,J58,N58,R58,B65,F65,J65,N65,R65,B72) -> 0 | V34: MCS6 | W34: =C54 -> 0
E35: Conformance | F35: =COUNTIF('203 Compliance Audit'!D8:D105,'Compliance Summary'!E35) -> 0 | I35: Conformance | J35: =COUNTIF('General Site Inspection'!C8:C60,'Compliance Summary'!I35) -> 0 | Q35: Conformance | R35: =SUM(B45,F45,J45,N45,R45,B52,F52,J52,N52,R52,B59,F59,J59,N59,R59,B66,F66,J66,N66,R66,B73) -> 0 | V35: MCS7 | W35: =G54 -> 0
E36: Not Applicable | F36: =COUNTIF('203 Compliance Audit'!D8:D106,'Compliance Summary'!E36) -> 0 | I36: Not Applicable | J36: =COUNTIF('General Site Inspection'!C8:C61,'Compliance Summary'!I36) -> 0 | Q36: Not Applicable | R36: =SUM(B46,F46,J46,N46,R46,B53,F53,J53,N53,R53,B60,F60,J60,N60,R60,B67,F67,J67,N67,R67,B74) -> 0 | V36: MCS8 | W36: =K54 -> 0
V37: MCS9 | W37: =O54 -> 0
V38: MCS10 | W38: =S54 -> 0
V39: MCS11 | W39: =C61 -> 0
V40: MCS12 | W40: =G61 -> 0
A41: MCS 1 - Working at Height | E41: MCS 2 - Demolition Work | I41: MCS 3 - Asbestos Removal and Control | M41: MCS 4 - Work in Confined Spaces | Q41: MCS 5 - Excavation and Trenching | V41: MCS13 | W41: =K61 -> 0
A42: Non Conformance (Major) | B42: =COUNTIF('MCS 1'!D9:D41,'Compliance Summary'!A42) -> 0 | E42: Non Conformance (Major) | F42: =COUNTIF('MCS 2'!D9:D31,'Compliance Summary'!E42) -> 0 | I42: Non Conformance (Major) | J42: =COUNTIF('MCS 3'!D9:D29,'Compliance Summary'!I42) -> 0 | M42: Non Conformance (Major) | N42: =COUNTIF('MCS 4'!D9:D29,'Compliance Summary'!M42) -> 0 | Q42: Non Conformance (Major) | R42: =COUNTIF('MCS 5'!D9:D24,'Compliance Summary'!Q42) -> 0 | V42: MCS14 | W42: =O61 -> 0
A43: Non Conformance (Minor) | B43: =COUNTIF('MCS 1'!D9:D41,'Compliance Summary'!A43) -> 0 | E43: Non Conformance (Minor) | F43: =COUNTIF('MCS 2'!D9:D31,'Compliance Summary'!E43) -> 0 | I43: Non Conformance (Minor) | J43: =COUNTIF('MCS 3'!D9:D29,'Compliance Summary'!I43) -> 0 | M43: Non Conformance (Minor) | N43: =COUNTIF('MCS 4'!D9:D29,'Compliance Summary'!M43) -> 0 | Q43: Non Conformance (Minor) | R43: =COUNTIF('MCS 5'!D9:D24,'Compliance Summary'!Q43) -> 0 | V43: MCS15 | W43: =S61 -> 0
A44: Observation | B44: =COUNTIF('MCS 1'!D9:D41,'Compliance Summary'!A44) -> 0 | E44: Observation | F44: =COUNTIF('MCS 2'!D9:D31,'Compliance Summary'!E44) -> 0 | I44: Observation | J44: =COUNTIF('MCS 3'!D9:D29,'Compliance Summary'!I44) -> 0 | M44: Observation | N44: =COUNTIF('MCS 4'!D9:D29,'Compliance Summary'!M44) -> 0 | Q44: Observation | R44: =COUNTIF('MCS 5'!D9:D24,'Compliance Summary'!Q44) -> 0 | V44: MCS16 | W44: =C68 -> 0
A45: Conformance | B45: =COUNTIF('MCS 1'!D9:D41,'Compliance Summary'!A45) -> 0 | E45: Conformance | F45: =COUNTIF('MCS 2'!D9:D31,'Compliance Summary'!E45) -> 0 | I45: Conformance | J45: =COUNTIF('MCS 3'!D12:D32,'Compliance Summary'!I45) -> 0 | M45: Conformance | N45: =COUNTIF('MCS 4'!D9:D29,'Compliance Summary'!M45) -> 0 | Q45: Conformance | R45: =COUNTIF('MCS 5'!D9:D24,'Compliance Summary'!Q45) -> 0 | V45: MCS17 | W45: =G68 -> 0
A46: Not Applicable | B46: =COUNTIF('MCS 1'!D9:D41,'Compliance Summary'!A46) -> 0 | E46: Not Applicable | F46: =COUNTIF('MCS 2'!D9:D31,'Compliance Summary'!E46) -> 0 | I46: Not Applicable | J46: =COUNTIF('MCS 3'!D9:D29,'Compliance Summary'!I46) -> 0 | M46: Not Applicable | N46: =COUNTIF('MCS 4'!D9:D29,'Compliance Summary'!M46) -> 0 | Q46: Not Applicable | R46: =COUNTIF('MCS 5'!D9:D24,'Compliance Summary'!Q46) -> 0 | V46: MCS18 | W46: =K68 -> 0
C47: =SUM(B42:C46) -> 0 | G47: =SUM(F42:G46) -> 0 | K47: =SUM(J42:K46) -> 0 | O47: =SUM(N42:O46) -> 0 | S47: =SUM(R42:S46) -> 0 | V47: MCS19 | W47: =O68 -> 0
A48: MCS 6 - Explosive Blasting | E48: MCS 7 - Above Ground Services | I48: MCS 8 - Below Ground Services | M48: MCS 9 - Tilt Up and Pre-cast Concrete | Q48: MCS 10 - Interaction with Live Traffic | V48: MCS20 | W48: =S68 -> 0
A49: Non Conformance (Major) | B49: =COUNTIF('MCS 6'!D9:D27,'Compliance Summary'!A49) -> 0 | E49: Non Conformance (Major) | F49: =COUNTIF('MCS 7'!D9:D20,'Compliance Summary'!E49) -> 0 | I49: Non Conformance (Major) | J49: =COUNTIF('MCS 8'!D9:D33,'Compliance Summary'!I49) -> 0 | M49: Non Conformance (Major) | N49: =COUNTIF('MCS 9'!D9:D28,'Compliance Summary'!M49) -> 0 | Q49: Non Conformance (Major) | R49: =COUNTIF('MCS 10'!D9:D34,'Compliance Summary'!Q49) -> 0 | V49: MCS21 | W49: =C75 -> 0
...

Sheet Photos (findings)
C1: Photographs: Evidence of audit findings as verification of identified deficiencies (where applicable).
C4: Clause No: | E4: Specification / Minimum Control Standard | J4: Clause No: | L4: Specification / Minimum Control Standard | Q4: Clause No: | S4: Specification / Minimum Control Standard | X4: Clause No: | Z4: Specification / Minimum Control Standard | AE4: Clause No: | AG4: Specification / Minimum Control Standard
C20: Clause No: | E20: Specification / Minimum Control Standard | J20: Clause No: | L20: Specification / Minimum Control Standard | Q20: Clause No: | S20: Specification / Minimum Control Standard | X20: Clause No: | Z20: Specification / Minimum Control Standard | AE20: Clause No: | AG20: Specification / Minimum Control Standard
C36: Clause No: | E36: Specification / Minimum Control Standard | J36: Clause No: | L36: Specification / Minimum Control Standard | Q36: Clause No: | S36: Specification / Minimum Control Standard | X36: Clause No: | Z36: Specification / Minimum Control Standard | AE36: Clause No: | AG36: Specification / Minimum Control Standard
C52: Clause No: | E52: Specification / Minimum Control Standard | J52: Clause No: | L52: Specification / Minimum Control Standard | Q52: Clause No: | S52: Specification / Minimum Control Standard | X52: Clause No: | Z52: Specification / Minimum Control Standard | AE52: Clause No: | AG52: Specification / Minimum Control Standard
C68: Clause No: | E68: Specification / Minimum Control Standard | J68: Clause No: | L68: Specification / Minimum Control Standard | Q68: Clause No: | S68: Specification / Minimum Control Standard | X68: Clause No: | Z68: Specification / Minimum Control Standard | AE68: Clause No: | AG68: Specification / Minimum Control Standard
C84: Clause No: | E84: Specification / Minimum Control Standard | J84: Clause No: | L84: Specification / Minimum Control Standard | Q84: Clause No: | S84: Specification / Minimum Control Standard | X84: Clause No: | Z84: Specification / Minimum Control Standard | AE84: Clause No: | AG84: Specification / Minimum Control Standard
C100: Clause No: | E100: Specification / Minimum Control Standard | J100: Clause No: | L100: Specification / Minimum Control Standard | Q100: Clause No: | S100: Specification / Minimum Control Standard | X100: Clause No: | Z100: Specification / Minimum Control Standard | AE100: Clause No: | AG100: Specification / Minimum Control Standard
C116: Clause No: | E116: Specification / Minimum Control Standard | J116: Clause No: | L116: Specification / Minimum Control Standard | Q116: Clause No: | S116: Specification / Minimum Control Standard | X116: Clause No: | Z116: Specification / Minimum Control Standard | AE116: Clause No: | AG116: Specification / Minimum Control Standard
C132: Clause No: | E132: Specification / Minimum Control Standard | J132: Clause No: | L132: Specification / Minimum Control Standard | Q132: Clause No: | S132: Specification / Minimum Control Standard | X132: Clause No: | Z132: Specification / Minimum Control Standard | AE132: Clause No: | AG132: Specification / Minimum Control Standard
C148: Clause No: | E148: Specification / Minimum Control Standard | J148: Clause No: | L148: Specification / Minimum Control Standard | Q148: Clause No: | S148: Specification / Minimum Control Standard | X148: Clause No: | Z148: Specification / Minimum Control Standard | AE148: Clause No: | AG148: Specification / Minimum Control Standard

Sheet 203 Compliance Audit
A1: Compliance Audit - Specification 203 Health and Safety Management | D1: Non Conformance (Major) | E1: Non Conformance (Major) - The absence of, or a significant failure to implement and/or maintain conformance to the clause criteria requirements.
D2: Non Conformance (Minor) | E2: Non Conformance (Minor) - A system weakness or deviation from the clause criteria requirements which could lead to a major non-conformance if not addressed.
A3: Author's Note: The Main Roads document titled, Guideline Specification 203 Health and Safety Management - Suitability and Compliance Audit Requirements, must be read and understood prior to conducting a compliance audit on the Specification 203 and the applicable Minimum WHS Control Standards where they apply. | D3: Observation | E3: Observation - An observed deviation or minor oversight from an otherwise well-implemented process meeting the clause criteria requirements.
D4: Conformance | E4: Conformance - Conformance and implementation of the clause criteria requirements.
D5: Not Applicable | E5: Not Applicable - The clause has been identified as not applicable during the audit.
A6: Note: Any cells in the compliance column (C) that are designated as Not Applicable in red, do not require compliance audit assessment due to the nature of the clause.
A7: Clause No. | B7: Evaluation Question | C7: Possible Verification (Field) | D7: Compliance | E7: Auditor Comment (Finding)
A8: 203.10 (1) | B8: Not applicable to the compliance audit. | C8: Not Applicable
A9: 203.11 (1) | B9: Not applicable to the compliance audit. | C9: Not Applicable
A10: 203.12 (1) | B10: Not applicable to the compliance audit. | C10: Not Applicable
A11: 203.12 (2) | B11: Not applicable to the compliance audit. | C11: Not Applicable
A12: 203.13 (1) | B12: Not applicable to the compliance audit. | C12: Not Applicable
A13: 203.13 (2) | B13: Not applicable to the compliance audit. | C13: Not Applicable
A14: 203.13 (3) | B14: Not applicable to the compliance audit. | C14: Not Applicable
A15: 203.13 (4) | B15: Not applicable to the compliance audit. | C15: Not Applicable
A16: 203.14 (1) | B16: Has the Contractor detailed how they will manage WHS for the stated clause stakeholders and the clause criteria elements a-d? | C16: Discuss with the WHS Representative and select senior Site representatives of the Contractor to demonstrate by example how the clause criteria a - d is implemented on the Site.
A17: 203.14 (2) | B17: Not applicable to the compliance audit. | C17: Not Applicable
A18: 203.15 (1) | B18: Has the Contractor detailed the requirements of clause criteria a-d upon approval of the plan by the Superintendent? | C18: Discuss with Workers whether the requirement of the Safety Management Plan is understood and whether changes are communicated through Site WHS communication arrangements. Review the induction to ensure the information is sufficient to enable Worker understanding.
A19: 203.15 (2) | B19: Has the Contractor detailed consultation, co-operation and co-ordination arrangements which meet the requirements of Section 22 of the WHS Act including a resolution process? | C19: Discuss with Site SHR's and Workers whether WHS issues are resolved when they are raised in safety related forums. Review safety committee minutes and the Contractor's hazard report systems to determine whether corrective actions have addressed the identified hazard.
... A42: 203.26 (2) | B42: Has the Contractor detailed requirements for retaining copies of inductions for visitors and short term workers? | C42: Review the Contractor's records to identify inductions of all visitors and short term workers.
A43: 203.26 (3) | B43: Has the Contractor detailed the requirements to provide advanced notice of site safety rules and inductions to visitors and short term workers prior to their attendance on the Site.
A44: 203.27 (1) | B44: Has the Contractor detailed the requirements for SWMS for the clause criteria elements a - d ? | C44: Review Site activities and where High Risk Work is being undertaken, ask the Workers to produce a copy of the SWMS (review for currency, accuracy and application).
A45: 203.27 (2) | B45: Has the Contractor detailed the content requirement for the SWMS which meets the clause criteria ? | C45: Review a selection of subcontractor SWMS to determine compliance to the clause criteria elements. Ask the Contractor about the review and approval of SWMS and request records of the approvals.
A46: 203.27 (3) | B46: Has the Contractor detailed the revision requirements of the SWMS for clause criteria elements a - c ? | C46: Review a selection of SWMS to verify the SWMS has been reviewed and authorised. Discuss with the Contractor their process for review and approval prior to commencing High Risk Work.
A47: 203.27 (4) | B47: Has the Contractor confirmed that the SWMS will be detailed in the control column of the Works WHS Risk Assessment (Project Risk Register) and the authorisation requirements ? | C47: Review the Works WHS Risk Assessment to ensure SWMS have been details in the control column.
A48: 203.28 (1) | B48: Not applicable to the compliance audit. | C48: Not Applicable
A49: 203.28 (2) | B49: Not applicable to the compliance audit. | C49: Not Applicable
A50: 203.28 (3) | B50: Has the Contractor detailed compliance with clause criteria elements a - f for the management and control of subcontractors on the Site ? | C50: Review the surveillance undertaken by the Contractor on subcontractors, evaluate identified deficiencies to ensure adequate corrective actions have been issued by the Contractors and addressed by the subcontractor.
A51: 203.29 (1) | B51: Has the Contractor detailed compliance to clause criteria for WHS inspections for the duration of the work under the Contract ? | C51: Review the Contractor's Inspection Test Plan to evaluate consistency of the inspections and a selection of corrective actions through to closure (where applicable).
A52: 203.29 (2) | B52: Has the contractor demonstrated compliance with the clause criteria. | C52: Review the Contractor's Inspection Test Plan to confirm compliance with the clause criteria.
A53: 203.30 (1) | B53: Has the Contractor documented that non-conformances and corrective actions will be managed in accordance with Specification 201 and ISO 9001 ? | C53: Review a selection of corrective actions which have been raised by the Contractor or issued by the Superintendent. Evaluate from initiation through to approval and close out.
A54: 203.30 (2) | B54: Has the Contractor detailed compliance to clause criteria elements a - g where a non-conformance has been identified ? | C54: Review a selection of corrective actions which have been raised by the Contractor or issued by the Superintendent. Evaluate from initiation through to approval and close out.
A55: 203.31 (1) | B55: Has the Contractor detailed compliance to clause criteria elements a - d for providing immediate notification to the Superintendent and the requirement for raising a non-conformance ? | C55: Ask the Contractor of any notices, orders and convictions (where applicable) relating to the works. Where applicable, review and verify the non-conformance requirements in accordance with Specification 201 - QUALITY SYSTEMS.
... A104: 203.91 - 99 | B104: Not applicable - unless contract specific requirements are added to the specification. | C104: Not Applicable unless as built requirements are added.

Sheet General Site Inspection
A1: Compliance Audit - General Site Inspection | C1: Non Conformance (Major) | D1: Non Conformance (Major) - The absence of, or a significant failure to implement and/or maintain conformance to the clause criteria requirements.
C2: Non Conformance (Minor) | D2: Non Conformance (Minor) - A system weakness or deviation from the clause criteria requirements which could lead to a major non-conformance if not addressed.
C3: Observation | D3: Observation - An observed deviation or minor oversight from an otherwise well-implemented process meeting the clause criteria requirements.
C4: Conformance | D4: Conformance - Conformance and implementation of the clause criteria requirements.
C5: Not Applicable | D5: Not Applicable - The clause has been identified as not applicable during the audit.
A7: Heading | B7: Evaluation Criteria | C7: Compliance | D7: Comment (on compliance or identified deficiencies)
A8: HAND TOOLS & EQUIPMENT | B8: Are all tools and equipment used by workers in a good general condition ?
B9: Are broken or fractured handles on hammers, axes and similar equipment replaced promptly ?
B10: Are the heads of hammers and sledgehammers in good condition with no splintering ?
B11: Are tool handles wedged tightly in the head of all tools?
B12: Are suitable grip and anti slip handles fitted to hand tools ?
B13: Are workers wearing appropriate safety glasses, face shields or similar where debris or flying objects are caused by tools and equipment ?
B14: Are tools stored in dry, secure location where they won't be tampered with ?
A15: PORTABLE (POWER OPERATED) TOOLS & EQUIPMENT | B15: Are grinders, saws (i.e. quick cut) and similar equipment provided with appropriate safety guards ?
B16: Are cradles used when cutting pipes with quick cut saws ?
B17: Are portable circular saws equipped with guards above and below the base shoe?
B18: Are circular saw guards checked for guard wedging which may leave a portion of the blade exposed ?
B19: Are rotating or moving parts of equipment guarded to prevent physical contact?
B20: Is there safe operation of electrical tools and equipment (incl RCD protection) where electrical cords are connected to prevent cutting or severing ?
B21: Are effective guards in place over belts, pulleys, chains, and sprockets, on equipment where there are rotating parts ?
B22: Are pneumatic and hydraulic hoses on power-operated tools checked regularly for deterioration or damage?
A23: MACHINE GAURDING | B23: Is there a regular program of safety inspection of machinery and equipment?
B24: Is all machinery and equipment kept clean and properly maintained and are guards fitted to sharp rotating parts, pinch and nip points ?
B25: Are machinery guards secure and so arranged that they do not present a hazard in their use ?
B26: Are provisions made to prevent machines from automatically starting when power is restored after a power failure or shutdown ?
B27: If machinery is cleaned with compressed air, is air pressure controlled and personal protective equipment or other safeguards used to protect operators and other workers from eye and body injury ?
A28: HOUSEKEEPING AND AMENITIES | B28: Work areas free from rubbish & obstructions ?
B29: Clear access and egress in the workplace ?
B30: Surfaces safe and suitable ?
B31: General surfaces are free from slip/trip hazards ?
B32: Stock/material stored safely ?
B33: Washrooms, toilets are clean to prevent potential infection ?
B34: Meal rooms are clean and tidy ?
B35: Rubbish bins available, covered and adequately stored ?
A36: MANUAL HANDLING | B36: Mechanical aids provided and used where lifting of excessive loads are conducted ?
B37: Manual handling risk assessment and manual handling controls have been assessed ?
B38: Ergonomic factors considered in work layout and task design ?
B39: Use of excessive force and repetitive movements minimised
B40: Are tools and equipment positioned and handled so that tasks can be performed comfortably ?
A41: NOISE EXPOSURE | B41: Are excessively noisy work tasks isolated away from high worker volume locations (i.e. crib rooms) ?
...

Sheet MCS 1
B2: Minimum Control Standard - Working at Height | D2: Non Conformance (Major) | E2: Non Conformance (Major) - The absence of, or a significant failure to implement and/or maintain conformance to the clause criteria requirements.
D3: Non Conformance (Minor) | E3: Non Conformance (Minor) - A system weakness or deviation from the clause criteria requirements which could lead to a major non-conformance if not addressed.
D4: Observation | E4: Observation - An observed deviation or minor oversight from an otherwise well-implemented process meeting the clause criteria requirements.
D5: Conformance | E5: Conformance - Conformance and implementation of the clause criteria requirements.
D6: Not Applicable | E6: Not Applicable - The clause has been identified as not applicable during the audit.
A8: MCS Clause No: | B8: Evaluation Question | C8: Possible Verification | D8: Compliance | E8: Auditor Comment (Compliance or Identified Deficiency)
A9: 1.1.1 | B9: Training Competency and Awareness - Are workers trained and competent to work at height and hold a nationally recognised qualification ? | C9: Select a number of workers who perform working at height tasks required to wear personal fall protection equipment (PFPE) and verify their competencies.
A10: 1.1.2 | B10: Training Competency and Awareness - Are workers who are working at height working under a permit (excl. EWP), a SWMS, is the work supervised, if fall arrest equipment is being worn - emergency response equipment is in place and workers are trained and competent in it's use ? | C10: Observe a working at height task to make sure these requirements are in place for the work or discuss with workers who generally perform working at height tasks.
A11: 1.2.1 | B11: Personal Fall Protection Equipment - Are workers wearing compliant personal fall protection equipment (PFPE) to Australian Standards ? | C11: Select a working at height task and discuss with workers or find the location where fall protection is located, check the equipment for compliance.
A12: 1.2.2 | B12: Personal Fall Protection Equipment - Is PFPE inspected before each use by workers and defective equipment withdrawn from service when defects are identified. | C12: Review a working at height task and/or permits to ensure PFPE is checked before each use. Discuss with a selection of workers that PFPE is checked prior to use. Check the PFPE register to see whether any equipment has been tagged out of service.
A13: 1.2.3 | B13: Personal Fall Protection Equipment - Is there a Height Equipment Register in place for PFPE ? | C13: Select a number of PFPE and check the serial numbers are listed in the Register. Check the Register to ensure it meets the requirements of Table 9.1 of AS/NZS 1891.4.
A14: 1.2.4 | B14: Personal Fall Protection Equipment - Are anchorage point AS rated and capacity rated 15kn (one person) and 21kn (two person) ? Have anchorages been inspected by a height safety inspector, inspected by the worker prior to working at height ? Is there a safe means of access and egress to designated anchorage points ? | C14: Review a working at height task and/or permits to check on anchorages. Discuss with workers who perform W@H tasks and check the PFPE register for verification.
A15: 1.3.1 | B15: Mobile Elevated Work Platform - Do workers have the appropriate training to operate an EWP (Work Safely at Heights, EWP Yellow Card or unit of competency, HRWL (where applicable), (driver’s license when on a public road), VOC'd and Perform EWP Rescue (for select personnel) ? | C15: Check training records and discuss with workers who are working at height in an EWP. Permits can also be checked.
A16: 1.3.2 | B16: Mobile Elevated Work Platform - Have workers selected the most appropriate EWP for the task and assessed the risks ? public access (including public roads), safe working load (i.e. weight of workers, tools and equipment), stability (i.e. falling loads, wind, travelling mobile plant, positioning of outrigger, stabilizers & extending axles ? | C16: Discuss with workers performing working at height tasks in an EWP. Review the workers risk assessment for the task to identify the risks they have identified as well as the risk register (where practicable).
A17: 1.3.3 | B17: Mobile Elevated Work Platform - Does the EWP meet the specified design requirements as stated in Table 2.10: Safety Device Function of an EWP and Required Reliability Levels in AS/NZS 1418.10 (2011) Cranes, Hoists and Winches - Elevating Work Platforms ? | C17: Review the EWP design and OEM specifications. Review the attached specification requirements based on AS/NZS 1418.10 (2011) Cranes, Hoists and Winches - Elevating Work Platforms.
A18: 1.3.4 | B18: Mobile Elevated Work Platform - Does the EWP have the appropriate signage in accordance with Section 4.2 of AS/NZS 1418.10 (2011) Cranes, Hoists and Winches - Elevating Work Platforms. | C18: Review the EWP design and OEM specifications. Review the attached specification requirements based on Section 4.2 of AS/NZS 1418.10 (2011) Cranes, Hoists and Winches - Elevating Work Platforms.
A19: 1.3.5 | B19: Mobile Elevated Work Platform - Are workers operating an EWP (boom type) elevated at height, wearing PPE (full body harness and a restraining lanyard attached to the manufacturer specified anchorage point) ? | C19: Check and EWP task to see that workers are wearing PFPE and also check current available and archived permits for the project.
A20: 1.3.6 | B20: Mobile Elevated Work Platform - Is a spotter must be in place for each EWP where a worker is elevated at height ? Does the spotter have the same qualifications as the EWP operator ? | C20: Visually observe that a spotter is in place for any EWP task. Where unavailable discuss with workers who perform working at height in an EWP.
... A41: 1.7.4 | B41: Open Edge Protection - Are exposed holes, edges, penetrations or openings protected from workers falling ? | C41: Check around the site and observe activities or structures where there are exposed edges penetrations and holes. Discuss with workers where available.

Sheet MCS 2
B2: Minimum Control Standard - Demolition Work | D2: Non Conformance (Major) | E2: Non Conformance (Major) - The absence of, or a significant failure to implement and/or maintain conformance to the clause criteria requirements.
D3: Non Conformance (Minor) | E3: Non Conformance (Minor) - A system weakness or deviation from the clause criteria requirements which could lead to a major non-conformance if not addressed.
D4: Observation | E4: Observation - An observed deviation or minor oversight from an otherwise well-implemented process meeting the clause criteria requirements.
D5: Conformance | E5: Conformance - Conformance and implementation of the clause criteria requirements.
D6: Not Applicable | E6: Not Applicable - The clause has been identified as not applicable during the audit.
A8: MCS Clause No: | B8: Evaluation Question | C8: Possible Verification (Field) | D8: Compliance | E8: Auditor Comment (Compliance or Identified Deficiency)
A9: 2.2.1 | B9: Training, Competency and Licensing - Are all workers trained and competent in the specific role or function associated with the demolition work. Are training and competency requirements applied collectively | C9: Select available demolition workers and view relevant competencies / licences. Check the viewed competencies / licences against site training records.
A10: 2.1.2 | B10: Training, Competency and Licensing - If a dedicated demolition worker, demolition plant operator or demolition leading hand form part of the demolition team, do they possess a Certificate 3 in Demolition from a registered training organisation ? | C10: Select a dedicated demolition workers and verify all workers have a certificate 3 in demolition.
A11: 2.1.3 | B11: Training, Competency and Licensing - Is a demolition supervisor on site at all times while demolition work is being undertaken ? Does the supervisor (demolition) or a dedicated contracted demolition supervisor in charge of the demolition work hold a current Certificate 3 in Demolition and Certificate 4 in Demolition ? | C11: Ask the demolition supervisor if they are onsite while demolition work is being undertaken. Confirm that the demolition supervisor holds a current Certificate 3 and Certificate 4 in Demolition. Confirm that the qualification has been verified (VOC) prior to commencing work.
A12: 2.1.4 | B12: Training, Competency and Licensing - Where the scope of demolition work meets the requirement of class 1, 2 or 3 demolition, does the demolition contractor have the appropriate demolition license ? | C12: Ask the demolition contractor to present their current demolition license. Verify this meets the requirement of class 1, 2 or 3 for demolition in the WHS Regulations, and that this was current prior to any demolition work occurring.
A13: 2.1.5 | B13: Training, Competency and Licensing - Where class 1, 2 or 3 demolition work is conducted has the commissioner been notified 5 days prior to the intended demolition work with a copy the notification provided to the Principal ? | C13: For Class 1,2 or 3 Demolition work, ask the contractor if the commissioner was notified 5 days prior to intended demolition work with a copy of the notification provided to the Principal
A14: 2.1.6 | B14: Training, Competency and Licensing - Where class 1, 2 or 3 demolition work is not conducted in a manner which meets the requirements of AS 2601 (2001) Demolition of Structures, has the Worksafe Commissioner been notified 10 days prior to the demolition start date to seek approval of the intended demolition method ? | C14: Ask the contractor if any class 1,2, or 3 demolition work was completed which did not meet AS 2601(2001). In this case, verify that the Worksafe Commissioner was notified 10 days prior to the demolition start date. Verify any conditions imposed were met with subsequent approval by the Worksafe Commissioner and initial notification, conditions imposed and subsequent approval were provided to the Principal.
A15: 2.2.1 | B15: Safe Design and Planning - Where a structure is to be demolished under a class 1, 2 or 3 demolition license, have site and structural investigations been completed (demolition engineer) in accordance with Appendix A of AS2601 (2001) Demolition of Structures ? Have site investigations to ensure the safe demolition of the structure ? | C15: For demolitions under a class 1, 2 or 3 demolition licenses, ask the contractor if site and structural investigations were completed by a competent person (demolition engineer). Ask the contractor how they ensured safe demolition of the structure. Verify that risk assessments included location, structural designs, layout and condition of the structure and adjoining structures.
A16: 2.2.2 | B16: Safe Design and Planning - Has a hazardous substances audit been completed to identify their presence on or near the structure which has the potential to impact workers or members of the public ? | C16: Ask the contractor how hazardous substances were identified (if present)
A17: 2.2.3 | B17: Safe Design and Planning - Has a Demolition Management Plan (DMP) been developed by a competent person (demolition engineer) and authorised (Regulator and Principal) prior to demolition work commencing ? Where hazardous substances or explosive blasting is part of the scope, have plans been developed in addition to the DMP ? | C17: Ask the contractor who developed the Demolition Management Plan. Verify this was completed by a competent person (demolition engineer) and authorised (Regulator and Principal) prior to demolition work commencing. Ask the worker if hazardous substances were identified were they documented in a Hazardous Substance Management Plan and Blast Management Plan.
A18: 2.3.1 | B18: Exclusion Zones and Access Control - Have exclusion zones been established for all demolition work ? Do they prevent health and safety risks to workers and members of public ? Where multiple exclusions zones apply, are they applied collectively ? | C18: Ask the contractor to outline how exclusion zones are established for all demolition work. Confirm that these are effective in preventing unauthorised access.
A19: 2.3.2 | B19: Exclusion Zones and Access Control - Is access to the demolition site strictly controlled to prevent unauthorised access from members of the public and workers ? Is access controlled by signage, barriers, fences etc. to control access ? | C19: Ask the demolition contractor to outline how access to the demolition site is controlled and verify that this prevents all unauthorised access.
A20: 2.4.1 | B20: Mobile Plant, Equipment and Materials - Where mobile plant is used in the demolition work, are the requirements of the other MCS applied collectively to the demolition work ? | C20: Verify that if mobile plant form part of the demolition work, that the requirements specified within Minimum control standards applied collectively.
... A31: 2.6.7 | B31: Safe Execution of the Demolition Plan - Prior to the completion of daily demolition, has a post work inspection of the demolition site been completed ? | C31: Ask the worker if they conduct post work inspections and verify that this is comprehensive in eliminating all risks and hazards associated with the demolition work.

Sheet MCS 3
B2: Minimum Control Standard - Absestos Removal and Control | D2: Non Conformance (Major) | E2: Non Conformance (Major) - The absence of, or a significant failure to implement and/or maintain conformance to the clause criteria requirements.
D3: Non Conformance (Minor) | E3: Non Conformance (Minor) - A system weakness or deviation from the clause criteria requirements which could lead to a major non-conformance if not addressed.
D4: Observation | E4: Observation - An observed deviation or minor oversight from an otherwise well-implemented process meeting the clause criteria requirements.
D5: Conformance | E5: Conformance - Conformance and implementation of the clause criteria requirements.
D6: Not Applicable | E6: Not Applicable - The clause has been identified as not applicable during the audit.
A8: MCS Clause No: | B8: Evaluation Question | C8: Possible Verification (Field) | D8: Compliance | E8: Auditor Comment (Compliance or Identified Deficiency)
A9: 3.1.1 | B9: Training, Competency and Awareness – Are all workers who are conducting ACM removal working under an ACM license ? | C9: Select available workers engaged in ACM removal and view relevant competencies / licences. Check the viewed competencies / licences against site training records.
A10: 3.1.2 | B10: Training, Competency and Awareness - Is removal work directly supervised at all times by a supervisor who holds the current qualification “Supervise Asbestos Removal” ? In addition, are the working in accordance with the Code of Practice (is this physical copy on site) ? | C10: Review the training records of the Supervisor and verify that they hold a current qualification "Supervise Asbestos Removal" Ask the supervisor do they directly supervise work at all times and how they ensure all control measures are in place compliant with the COP.
A11: 3.1.3 | B11: Training, Competency and Awareness - For bonded non-friable ACM to be removed are workers directly supervised at all times by a supervisor who holds the current qualification “Supervise Asbestos Removal” ? | C11: Select a supervisor involved in removal of bonded non-friable asbestos. Check they hold the relevant licence. Verify that the supervisor directly supervises workers involved with bonded non-friable asbestos.
A12: 3.1.4 | B12: Training, Competency and Awareness - Where workers are conducting asbestos removal work under a unrestricted asbestos removal license, have all workers completed asbestos awareness training and under the supervision of a Workers who hold the qualification “Supervise Asbestos Removal” ? | C12: Review the training records of the Supervisor and verify that they hold a current qualification "Supervise Asbestos Removal". Check all workers working under an unrestricted asbestos removal license have completed asbestos awareness training and are under appropriate supervision.
A13: 3.1.5 | B13: Training, Competency and Awareness - Have the hazards associated with asbestos removal been considered ? (i.e. The type, amount, condition, the method or removal, PPE requirements, impacts to other workers and/or members of the public, wind conditions, direction and any other environmental factors) | C13: Review worker/supervisor training & competency records. Verify that prior to performing asbestos removal work all workers possess a current qualification "Asbestos Awareness" and that the supervisor possesses the current qualification "Supervise Asbestos Removal" from a registered training organisation
A14: 3.1.6 | B14: Training, Competency and Awareness - Where the scope of work and impact from asbestos requires the development of an Asbestos Management Plan (refer clause criteria), has a Plan been developed ? | C14: Review a selection of risk assessments performed for Asbestos removal. Verify an asbestos management plan has been developed and is effective in controlling risks of asbestos exposure.
A15: 3.2.1 | B15: Barricading, Demarcation and Exclusion Zones - Are demarcated and barricaded exclusion zones established for the asbestos removal work consistent with respective Australian Standards ? | C15: Review any demarcated and barricaded exclusion zones established for the asbestos removal work. Check they are consistent with respective Australian Standards
A16: 3.2.2 | B16: Barricading, Demarcation and Exclusion Zones - are demarcated and barricaded exclusion zones in place for the duration of the removal works including after hours ? | C16: Review any present (or past) demarcated and barricaded exclusion zones in place and check that they were present for the duration of the removal works including after hours
A17: 3.2.3 | B17: Barricading, Demarcation and Exclusion Zones - Are communication and consultation arrangements in place for the intended asbestos removal work ? (i.e. workers, non-ACM removal workers and members of public) ? | C17: Select a group of workers and review that communication and consultation arrangements are in place for the intended asbestos removal work. Check that this cover worker, non-ACM workers and members of the public
A18: 3.2.4 | B18: Barricading, Demarcation and Exclusion Zones - Has there been a breach of an exclusion zone by non ACM workers or MOP where there has been a risk of exposure ? | C18: Discuss with workers and the supervisor of ACM removal work their methods of communication (MOP, workers and workers in the vicinity). Review SWMS and permit for removal.
A19: 3.3.1 | B19: Personal Protective Equipment - are workers who perform asbestos removal supplied with suitable respiratory protection device (RPD) based on the risk assessment ? | C19: Discuss with workers incidents involving breach of excl. zone and the reporting of the incident. Where this has not occurred ask the supervisor the process for reporting of excl. zone breaches.
A20: 3.3.2 | B20: Personal Protective Equipment - In addition to RPD has additional asbestos PPE been provided and used by removal workers ? (coveralls incl for footwear, gloves) based on the risk assessment ? | C20: Select workers involved in ACM removal. Verify workers are wearing appropriate PPE (in addition to RPD). Where this is not occurring review ACM removal permits, SWMS and ACM removal plan to verify PPE was documented by workers.
... A29: 3.6.3 | B29: Decontamination and Disposal - is asbestos waste sealed and secured prior to transit ? Is asbestos waste disposed of at a licensed facility with records retained and provided to the Principal ? | C29: Check with workers that asbestos waste sealed and secured prior to transit. Verify that asbestos waste disposed of at a licensed facility with records retained and provided to the Principal

Sheet MCS 4
B2: Minimum Control Standard - Work in Confined Spaces | D2: Non Conformance (Major) | E2: Non Conformance (Major) - The absence of, or a significant failure to implement and/or maintain conformance to the clause criteria requirements.
D3: Non Conformance (Minor) | E3: Non Conformance (Minor) - A system weakness or deviation from the clause criteria requirements which could lead to a major non-conformance if not addressed.
D4: Observation | E4: Observation - An observed deviation or minor oversight from an otherwise well-implemented process meeting the clause criteria requirements.
D5: Conformance | E5: Conformance - Conformance and implementation of the clause criteria requirements.
D6: Not Applicable | E6: Not Applicable - The clause has been identified as not applicable during the audit.
A8: MCS Clause No: | B8: Evaluation Question | C8: Possible Verification (Field) | D8: Compliance | E8: Auditor Comment (Compliance or Identified Deficiency)
A9: 4.1.1 | B9: Training, Competency and Awareness – Are identified confined spaces consistent with the AS :2685(2009) determination of a confined space ? Are there locations which have not been classed as a confined space which workers are working in ? | C9: Ask the worker to outline how a space is identified as a confined space. Verify in site documents that this is consistent with Section 3.2 – Identification of a Confined Space AS: 2685 (2009) Confined Spaces.
A10: 4.1.2 | B10: Training, Competency and Awareness – Is a risk assessment completed prior to work commencing to determine the safest method of work in a confined space ? | C10: Review SWMS documentation related to work in a confined space, and review a current work task (if possible) where confined space entry is required. Verify that appropriate risk assessments were completed consistent with Section 3.3 Risk Assessment in AS: 2685 (2009) Confined Spaces.
A11: 4.1.3 | B11: Training, Competency and Awareness – Are workers trained and competent for the specific role in association with the intended confined space entry ? (Identify Confined Space; Test Confined Space Environment; Enter Confined Space; Enter and work in Confined Spaces; Undertake Confined Space Rescue; Apply First Aid) | C11: Select available workers and view relevant competencies / licences. Check the viewed competencies / licences against site training records.
A12: 4.1.4 | B12: Training, Competency and Awareness – Do workers have the appropriate training and qualifications for the work they are performing in a confined space ? | C12: View qualifications for workers involved in issuing permits for confined space entry, identifying a confined space, working in a confined space, acting as a confined space standby person, and emergency response/first aid. Confirm they meet the minimum requirements in AS 2685 (2009) Confined Spaces
A13: 4.1.5 | B13: Training, Competency and Awareness – Has the person with overall responsibility for the confined space met their duties to ensure emergency response is effectively managed with trained and competent workers, emergency equipment ? Has each confined space been risk assessed ? | C13: Ask the contractor to outline how the emergency response team are trained/assessed in confined space rescue. Check they possess appropriate equipment and authority to conduct a rescue from a confined space. Verify training competencies and view rescue plans for currency.
A14: 4.2.1 | B14: Confined Space Stand by Worker - Does the confined space standby person have the relevant qualifications to perform the function of the stand by person ? | C14: Select a worker who acts as the confined space standby person. Check they have the appropriate qualifications and experience to act in this capacity, they understand risks to workers within a confined space and that they know how to initiate emergency response procedures.
A15: 4.2.2 | B15: Confined Space Stand by Worker - Does the person with overall responsibility of the confined space ensure the stand by person is performing their stand by function effectively ? (remain outside the confined space at all times, maintain constant communication with workers, not involved in multiple tasks etc.) | C15: Select a worker acting as a confined space standby worker. Verify they remain outside the confined space at all times, maintain communication with workers in the confined space, are not involved in any other tasks while acting as the standby worker and are only substituted by a worker with the equivalent qualifications
A16: 4.3.1 | B16: Confined Space Entry Permit, Signage and Record Management - Is a confined space entry permit completed prior to entry to a confined space ? | C16: Ask the contractor to outline the permitting process completed for work in confined spaces. Check this in accordance with AS2685(2009) Confined space entry - Section 3. Ask where the confined space entry permit is located. Verify that the permit is located where confined space work is being conducted.
A17: 4.3.2 | B17: Confined Space Entry Permit, Signage and Record Management - How are confined spaces identified? Are confined spaces placarded with appropriate signage ? | C17: Review confined space works and verify signage identifies the confined space and other identified risks. If no confined space work is occurring, ask workers to outline the process for identification and signage for confined space work. Verify that this is consistent with AS2685(2009) – Confined Spaces
A18: 4.3.3 | B18: Confined Space Entry Permit, Signage and Record Management - Are all workers briefed on the confined space entry permit requirements and understand their role prior to entering the confined space ? Does this include emergency response workers? | C18: Review confined space permits. Verify they outline specific controls/role requirements for the confined space. Ask contractors (including emergency response workers) to outline their understanding of the requirements of the confined space permit and check this is consistent with the permit
A19: 4.3.4 | B19: Confined Space Entry Permit, Signage and Record Management - How is documentation for Confined Space recorded ? (register recording confined space entry permits, confined space locations, risk assessments, confined space inspections & audits, required training and competencies, atmospheric testing etc..) | C19: Review the Confined Space Register. Verify it documents all relevant records related to confined spaces e.g. permits, locations, risk assessments, audits & inspections, work procedures, documented worker training, monitoring of atmospheric testing, and incidences related to confined spaces.
A20: 4.4.1 | B20: Atmosphere and Atmospheric Testing - Is atmospheric testing conducted prior to entry in confined spaces ? (i.e. the concentration of oxygen, flammable and airborne contaminants) Is retesting and continuous atmospheric monitoring conducted ? | C20: Ask the contractor to present records of atmospheric testing and monitoring of confined spaces based on risk assessments. Verify these determine the safe concentration for atmospheric gasses and contaminants for worker entry of the confined space and that the monitoring is consistent with AS2685(2009) - Confined Spaces
... A29: 4.6.1 | B29: Safe Work in a Confined Space - Are safe work practices in place when workers are working in a confined space ? (refer to clause criteria) | C29: Review confined space work (if possible). Confirm Safe work practices outlined in MCS 4.6.1 are in existence. Review Confined space permit & SWMS. Verify risk assessment and controls exist for the confined space work, all workers involved have signed these documents, and that all other work permits are in place.

Sheet MCS 5
B2: Minimum Control Standard - Excavation and Trench Work | D2: Non Conformance (Major) | E2: Non Conformance (Major) - The absence of, or a significant failure to implement and/or maintain conformance to the clause criteria requirements.
D3: Non Conformance (Minor) | E3: Non Conformance (Minor) - A system weakness or deviation from the clause criteria requirements which could lead to a major non-conformance if not addressed.
D4: Observation | E4: Observation - An observed deviation or minor oversight from an otherwise well-implemented process meeting the clause criteria requirements.
D5: Conformance | E5: Conformance - Conformance and implementation of the clause criteria requirements.
D6: Not Applicable | E6: Not Applicable - The clause has been identified as not applicable during the audit.
A8: MCS Clause No: | B8: Evaluation Question | C8: Possible Verification (Field) | D8: Compliance | E8: Auditor Comment (Compliance or Identified Deficiency)
A9: 5.1.1 | B9: Safe Design and Planning - Are the risks associated with excavation and trench work (>1.5m depth) evaluated during the planning and design stage ? Are these documented in the safe design plan ? | C9: Check the safe design plan is consistent with regulatory requirements for any excavation or trench which is greater than 1.5 meters in depth Ask the worker(designer) what risks were evaluated and how they were evaluated during the planning and design stage
A10: 5.1.2 | B10: Safe Design and Planning - Has a safe design plan identified potential unexploded ordinates (UXO) ? What processes are in place when UXO has been identified ? | C10: Check the Safe Design Report for an assessment to identify unexploded ordinates. Ask the worker (designer) what processes are followed where UXO is identified (e.g. Department of Fire and Emergency Services (DFES) and Department of Defence notification & processes consistent with regulations)
A11: 5.1.3 | B11: Safe Design and Planning - Are the risks of underground or overhead utilities have been identified ? Are controls for all risks which may impact excavation and trench work been adequately assessed ? | C11: Review the safe design plan and verify controls were implemented to managed risks identified with underground or overhead utilities.
A12: 5.1.4 | B12: Safe Design and Planning - Does the safe design report identify the need for ground support system in accordance with AS 1726 (2017) Geotechnical Site Investigations ? Are Geotechnical investigations conducted by a trained and competent worker ? (i.e. geotechnical engineer) | C12: Review the safe design report. Verify Geotechnical Investigation occurred, and was performed by a trained and competent worker. Check training competencies of the Geotechnical Engineer, and review certificates of calibration for any equipment used in this tasks for currency.
A13: 5.1.5 | B13: Safe Design and Planning - Where ground support systems are used, did the geotechnical investigation identify the hazards which for the specific excavation ? (i.e. depth of the excavation/trench, local site conditions, variable soil types, stability, shear strength, underground water, fractures or faults in rock, stressors from vibration) | C13: Review the safe design plan. Check that a comprehensive risk assessment was conducted when assessing the need for ground support systems. Ask the worker (designer) what factors were considered when establishing the need for ground support systems.
A14: 5.2.1 | B14: Ground Support Systems - Where benching and battering is conducted, is it conducted by a trained and competent mobile plant operator ? | C14: Select work where benching and battering is conducted and check this is conducted by a trained and competent mobile plant operator. Check the viewed competencies / licences against site training records.
A15: 5.2.2 | B15: Ground Support Systems - Are safe work practices used for benching / battering ? ( vertical faces consistent with geotechnical design and soil type, access to excavation prevents authorised entry, unstable and loose material identified). | C15: Select a worker performing benching/battering for excavation or trench work. Check they operate within safe work practice requirements. Verify that operating procedures meet the specified requirements in the Code of Practice for Excavation (2005) WA. & consider safety factors outlined in MCS 5.2.2
A16: 5.2.3 | B16: Ground Support Systems - Where shoring / shielding is used, are the systems compliant with Australian Standards ? (AS 5047 (2015): Hydraulic Shoring and Trench Lining Equipment / AS 4744.1 (2000): Steel Shoring and Trench Lining – Design) | C16: Ask the worker to outline how ground support systems are consistent with the outlined Australian Standards. Verify these methods are consistent with AS5047(2015) & AS4744.1(2000)
A17: 5.2.4 | B17: Ground Support Systems - Are shoring or shield system installed by trained and competent workers in accordance with manufacturer instructions and the safe design plan ? | C17: Review training competencies of workers involved in installation of shoring or shield systems. Verify that these are current and from a registered training organisation. Confirm that the shoring systems used are compliant with Australian Standards.
A18: 5.2.5 | B18: Ground Support Systems - Are safe work practices used when installing, maintaining and removing temporary shoring or shield system ? (where required a spotter, mobile plant operating at a safe distance from trench, no workers in trench when it is being excavated, safe placement of excavated material) | C18: Ask (or observe) workers involved in installing, maintaining and removing temporary shoring to outline work practices for this task. Check these are consistent with the Code of Practice for Excavation (2005) and that safe work practices are observed at all times.
A19: 5.2.6 | B19: Ground Support Systems - In addition to clause 5.2.5 are the following safe work practices in place (where applicable) ? (authorised excavation permit, task specific SWMS, safety signage; secure access/egress, edge protection consistent with AS/NZS 4994.1 & 4994:3 barricading, authorised/inspected by geotechnical engineer) | C19: Ask the worker(s) to outline work practices where bench, batter or shoring ground systems are in place. Verify that this is in accordance with safe work practices and Australian Standards outlined in MCS5.2.6 potentially review this in the field if such work is occurring for further confirmation of safe work practices.
A20: 5.3.1 | B20: Geotechnical Monitoring and Inspection - Where trenches are > 1.5m is the geotechnical design and monitoring completed by a trained, competent and qualified worker (geotechnical engineer) ? What are the requirements for geotechnical monitoring and inspection? | C20: Review and verify that designer of any trenches has approved qualifications of a geotechnical engineer and that any monitoring and inspection was determined by the geotechnical engineer in the design report and in accordance with AS 1726 (2017).
... A24: 5.4.3 | B24: Exclusion Zones and Access Control - Are exclusion zones established and documented in the sites vehicle movement plan ? Is this communicated to workers or any other person(s) who may be affected by the trench or excavation ? How is the exclusion zone deemed adequate in preventing cave in of the trench ? | C24: Review the site movement plan. Verify that an exclusion zones exists which is effective in preventing trench collapse and it includes all factors impacting the trench. Ask a selection of workers to outline site vehicle movement plan to verify the effectiveness of site communication regarding exclusion zones.

Sheet MCS 6
B2: Minimum Control Standard - Explosive Blasting | D2: Non Conformance (Major) | E2: Non Conformance (Major) - The absence of, or a significant failure to implement and/or maintain conformance to the clause criteria requirements.
D3: Non Conformance (Minor) | E3: Non Conformance (Minor) - A system weakness or deviation from the clause criteria requirements which could lead to a major non-conformance if not addressed.
D4: Observation | E4: Observation - An observed deviation or minor oversight from an otherwise well-implemented process meeting the clause criteria requirements.
D5: Conformance | E5: Conformance - Conformance and implementation of the clause criteria requirements.
D6: Not Applicable | E6: Not Applicable - The clause has been identified as not applicable during the audit.
A8: MCS Clause No: | B8: Evaluation Question | C8: Possible Verification (Field) | D8: Compliance | E8: Auditor Comment (Compliance or Identified Deficiency)
A9: 6.1.1 | B9: Training, Competency and Awareness - Does the blast controller have the appropriate qualifications and training to perform this task (including shotfirer) ? Does the blast controller perform the following functions; manage the exclusion zone, complete blast checklist, conducts checks on the blast guard and perform siren runs pre-blast to give the shot firer the all clear ? | C9: Where available at pre-blast, discuss with the blast controller his duties in the management and control of the blast prior to initiation. Where this is not possible, review the Blast Management Plan and consult with the Contractor.
A10: 6.1.2 | B10: Training, Competency and Awareness - Does the shotfirer hold a current shotfirer license issued by the DMIRS ? In addition does the shotfirer hold a explosives drivers license and the appropriate licences when blasting inside or outside of a town's perimeter ? | C10: Review training records of the shotfirer and the qualifications of the person transporting the explosives. Check these details are detailed in the Blast Management Plan and are in accordance with the Dangerous Good Safety (Explosives) Regulation 2007:
A11: 6.1.3 | B11: Training, Competency and Awareness - The worker who transports, stores and handles explosives must have a Explosives Driver’s License and the “Store, Handle and Transport Explosives” qualification ? | C11: Review training records and or the Blast Management Plan to ensure the appropriate workers hold the required qualifications and competencies.
A12: 6.1.4 | B12: Training, Competency and Awareness - Does the company who are conducting the blasting activity have a permit (Regulation 131) from the Local Government of where the blasting is to occur ? Does the company have the appropriate level of insurance approved by the Local Government ? | C12: Review the Blast Management Plan to ensure the blast permit is documented and a copy of the permit is verified as well as the insurances.
A13: 6.1.5 | B13: Training, Competency and Awareness - Has the company completed and documented an explosive blast risk assessment, which must be specific to the blasting activities being undertaken ? | C13: Review the blast risk assessment, discuss with the contractor the attendance of the risk assessment and review for quality.
