Workbook

Sheet Compliance Summary
A1: Compliance Audit Summary Report
A3: Contract Number: | E3: Overall Comments (Auditor):
A4: Auditor:
A5: Audit Date:
A6: Contractor:
A7: Superintendent / MR Rep:
A8: Project Manager (MR):
A9: Project Manager (Contr.)
A10: Start Date (works):
A11: Previous Audits (total)
G12: Opportunities for Improvement
A14: Clause Number:
A16: Clause Number:
A18: Clause Number:
A20: Clause Number:
A22: Clause Number:
A24: Clause Number:
A26: Clause Number:
V28: MCS # | W28: Total count
V29: MCS1 | W29: =C47 -> 0
E30: Specification Compliance Audit | I30: General Site Inspection | M30: Minimum Control Standard (MCS) Compliance Audit Summary Total | V30: MCS2 | W30: =G47 -> 0
V31: MCS3 | W31: =K47 -> 0
E32: Non Conformance (Major) | F32: =COUNTIF('203 Compliance Audit'!D8:D104,'Compliance Summary'!E32) -> 0 | I32: Non Conformance (Major) | J32: =COUNTIF('General Site Inspection'!C8:C57,'Compliance Summary'!I32) -> 0 | M32: Total MCS Evaluated | O32: =COUNTIF(W29:W49,">0") -> 0 | Q32: Non Conformance (Major) | R32: =SUM(B42,F42,J42,N42,R42,B49,F49,J49,N49,R49,B56,F56,J56,N56,R56,B63,F63,J63,N63,R63,B70) -> 0 | V32: MCS4 | W32: =O47 -> 0
E33: Non Conformance (Minor) | F33: =COUNTIF('203 Compliance Audit'!D8:D104,'Compliance Summary'!E33) -> 0 | I33: Non Conformance (Minor) | J33: =COUNTIF('General Site Inspection'!C8:C58,'Compliance Summary'!I33) -> 0 | Q33: Non Conformance (Minor) | R33: =SUM(B43,F43,J43,N43,R43,B50,F50,J50,N50,R50,B57,F57,J57,N57,R57,B64,F64,J64,N64,R64,B71) -> 0 | V33: MCS5 | W33: =S47 -> 0
E34: Observation | F34: =COUNTIF('203 Compliance Audit'!D8:D104,'Compliance Summary'!E34) -> 0 | I34: Observation | J34: =COUNTIF('General Site Inspection'!C8:C59,'Compliance Summary'!I34) -> 0 | Q34: Observation | R34: =SUM(B44,F44,J44,N44,R44,B51,F51,J51,N51,R51,B58,F58,J58,N58,R58,B65,F65,J65,N65,R65,B72) -> 0 | V34: MCS6 | W34: =C54 -> 0
E35: Conformance | F35: =COUNTIF('203 Compliance Audit'!D8:D105,'Compliance Summary'!E35) -> 0 | I35: Conformance | J35: =COUNTIF('General Site Inspection'!C8:C60,'Compliance Summary'!I35) -> 0 | Q35: Conformance | R35: =SUM(B45,F45,J45,N45,R45,B52,F52,J52,N52,R52,B59,F59,J59,N59,R59,B66,F66,J66,N66,R66,B73) -> 0 | V35: MCS7 | W35: =G54 -> 0
E36: Not Applicable | F36: =COUNTIF('203 Compliance Audit'!D8:D106,'Compliance Summary'!E36) -> 0 | I36: Not Applicable | J36: =COUNTIF('General Site Inspection'!C8:C61,'Compliance Summary'!I36) -> 0 | Q36: Not Applicable | R36: =SUM(B46,F46,J46,N46,R46,B53,F53,J53,N53,R53,B60,F60,J60,N60,R60,B67,F67,J67,N67,R67,B74) -> 0 | V36: MCS8 | W36: =K54 -> 0
V37: MCS9 | W37: =O54 -> 0
V38: MCS10 | W38: =S54 -> 0
V39: MCS11 | W39: =C61 -> 0
V40: MCS12 | W40: =G61 -> 0
A41: MCS 1 - Working at Height | E41: MCS 2 - Demolition Work | I41: MCS 3 - Asbestos Removal and Control | M41: MCS 4 - Work in Confined Spaces | Q41: MCS 5 - Excavation and Trenching | V41: MCS13 | W41: =K61 -> 0
A42: Non Conformance (Major) | B42: =COUNTIF('MCS 1'!D9:D41,'Compliance Summary'!A42) -> 0 | E42: Non Conformance (Major) | F42: =COUNTIF('MCS 2'!D9:D31,'Compliance Summary'!E42) -> 0 | I42: Non Conformance (Major) | J42: =COUNTIF('MCS 3'!D9:D29,'Compliance Summary'!I42) -> 0 | M42: Non Conformance (Major) | N42: =COUNTIF('MCS 4'!D9:D29,'Compliance Summary'!M42) -> 0 | Q42: Non Conformance (Major) | R42: =COUNTIF('MCS 5'!D9:D24,'Compliance Summary'!Q42) -> 0 | V42: MCS14 | W42: =O61 -> 0
A43: Non Conformance (Minor) | B43: =COUNTIF('MCS 1'!D9:D41,'Compliance Summary'!A43) -> 0 | E43: Non Conformance (Minor) | F43: =COUNTIF('MCS 2'!D9:D31,'Compliance Summary'!E43) -> 0 | I43: Non Conformance (Minor) | J43: =COUNTIF('MCS 3'!D9:D29,'Compliance Summary'!I43) -> 0 | M43: Non Conformance (Minor) | N43: =COUNTIF('MCS 4'!D9:D29,'Compliance Summary'!M43) -> 0 | Q43: Non Conformance (Minor) | R43: =COUNTIF('MCS 5'!D9:D24,'Compliance Summary'!Q43) -> 0 | V43: MCS15 | W43: =S61 -> 0
A44: Observation | B44: =COUNTIF('MCS 1'!D9:D41,'Compliance Summary'!A44) -> 0 | E44: Observation | F44: =COUNTIF('MCS 2'!D9:D31,'Compliance Summary'!E44) -> 0 | I44: Observation | J44: =COUNTIF('MCS 3'!D9:D29,'Compliance Summary'!I44) -> 0 | M44: Observation | N44: =COUNTIF('MCS 4'!D9:D29,'Compliance Summary'!M44) -> 0 | Q44: Observation | R44: =COUNTIF('MCS 5'!D9:D24,'Compliance Summary'!Q44) -> 0 | V44: MCS16 | W44: =C68 -> 0
A45: Conformance | B45: =COUNTIF('MCS 1'!D9:D41,'Compliance Summary'!A45) -> 0 | E45: Conformance | F45: =COUNTIF('MCS 2'!D9:D31,'Compliance Summary'!E45) -> 0 | I45: Conformance | J45: =COUNTIF('MCS 3'!D12:D32,'Compliance Summary'!I45) -> 0 | M45: Conformance | N45: =COUNTIF('MCS 4'!D9:D29,'Compliance Summary'!M45) -> 0 | Q45: Conformance | R45: =COUNTIF('MCS 5'!D9:D24,'Compliance Summary'!Q45) -> 0 | V45: MCS17 | W45: =G68 -> 0
A46: Not Applicable | B46: =COUNTIF('MCS 1'!D9:D41,'Compliance Summary'!A46) -> 0 | E46: Not Applicable | F46: =COUNTIF('MCS 2'!D9:D31,'Compliance Summary'!E46) -> 0 | I46: Not Applicable | J46: =COUNTIF('MCS 3'!D9:D29,'Compliance Summary'!I46) -> 0 | M46: Not Applicable | N46: =COUNTIF('MCS 4'!D9:D29,'Compliance Summary'!M46) -> 0 | Q46: Not Applicable | R46: =COUNTIF('MCS 5'!D9:D24,'Compliance Summary'!Q46) -> 0 | V46: MCS18 | W46: =K68 -> 0
C47: =SUM(B42:C46) -> 0 | G47: =SUM(F42:G46) -> 0 | K47: =SUM(J42:K46) -> 0 | O47: =SUM(N42:O46) -> 0 | S47: =SUM(R42:S46) -> 0 | V47: MCS19 | W47: =O68 -> 0
A48: MCS 6 - Explosive Blasting | E48: MCS 7 - Above Ground Services | I48: MCS 8 - Below Ground Services | M48: MCS 9 - Tilt Up and Pre-cast Concrete | Q48: MCS 10 - Interaction with Live Traffic | V48: MCS20 | W48: =S68 -> 0
A49: Non Conformance (Major) | B49: =COUNTIF('MCS 6'!D9:D27,'Compliance Summary'!A49) -> 0 | E49: Non Conformance (Major) | F49: =COUNTIF('MCS 7'!D9:D20,'Compliance Summary'!E49) -> 0 | I49: Non Conformance (Major) | J49: =COUNTIF('MCS 8'!D9:D33,'Compliance Summary'!I49) -> 0 | M49: Non Conformance (Major) | N49: =COUNTIF('MCS 9'!D9:D28,'Compliance Summary'!M49) -> 0 | Q49: Non Conformance (Major) | R49: =COUNTIF('MCS 10'!D9:D34,'Compliance Summary'!Q49) -> 0 | V49: MCS21 | W49: =C75 -> 0
A50: Non Conformance (Minor) | B50: =COUNTIF('MCS 6'!D9:D27,'Compliance Summary'!A50) -> 0 | E50: Non Conformance (Minor) | F50: =COUNTIF('MCS 7'!D9:D20,'Compliance Summary'!E50) -> 0 | I50: Non Conformance (Minor) | J50: =COUNTIF('MCS 8'!D9:D34,'Compliance Summary'!I50) -> 0 | M50: Non Conformance (Minor) | N50: =COUNTIF('MCS 9'!D9:D28,'Compliance Summary'!M50) -> 0 | Q50: Non Conformance (Minor) | R50: =COUNTIF('MCS 10'!D9:D34,'Compliance Summary'!Q50) -> 0
A51: Observation | B51: =COUNTIF('MCS 6'!D9:D27,'Compliance Summary'!A51) -> 0 | E51: Observation | F51: =COUNTIF('MCS 7'!D9:D20,'Compliance Summary'!E51) -> 0 | I51: Observation | J51: =COUNTIF('MCS 8'!D9:D35,'Compliance Summary'!I51) -> 0 | M51: Observation | N51: =COUNTIF('MCS 9'!D9:D28,'Compliance Summary'!M51) -> 0 | Q51: Observation | R51: =COUNTIF('MCS 10'!D9:D34,'Compliance Summary'!Q51) -> 0
A52: Conformance | B52: =COUNTIF('MCS 6'!D9:D27,'Compliance Summary'!A52) -> 0 | E52: Conformance | F52: =COUNTIF('MCS 7'!D9:D20,'Compliance Summary'!E52) -> 0 | I52: Conformance | J52: =COUNTIF('MCS 8'!D9:D36,'Compliance Summary'!I52) -> 0 | M52: Conformance | N52: =COUNTIF('MCS 9'!D9:D28,'Compliance Summary'!M52) -> 0 | Q52: Conformance | R52: =COUNTIF('MCS 10'!D9:D34,'Compliance Summary'!Q52) -> 0
A53: Not Applicable | B53: =COUNTIF('MCS 6'!D9:D27,'Compliance Summary'!A53) -> 0 | E53: Not Applicable | F53: =COUNTIF('MCS 7'!D9:D20,'Compliance Summary'!E53) -> 0 | I53: Not Applicable | J53: =COUNTIF('MCS 8'!D9:D37,'Compliance Summary'!I53) -> 0 | M53: Not Applicable | N53: =COUNTIF('MCS 9'!D9:D28,'Compliance Summary'!M53) -> 0 | Q53: Not Applicable | R53: =COUNTIF('MCS 10'!D9:D34,'Compliance Summary'!Q53) -> 0
C54: =SUM(B49:C53) -> 0 | G54: =SUM(F49:G53) -> 0 | K54: =SUM(J49:K53) -> 0 | O54: =SUM(N49:O53) -> 0 | S54: =SUM(R49:S53) -> 0
A55: MCS 11 - Mobile Plant Operation | E55: MCS 12 - Work On, Over, Adjacent to Water | I55: MCS 13 - Vehicles and Driving | M55: MCS 14 - Bushfire Management | Q55: MCS 15 - Cranes and Lifting Operations
A56: Non Conformance (Major) | B56: =COUNTIF('MCS 11'!D9:D43,'Compliance Summary'!A56) -> 0 | E56: Non Conformance (Major) | F56: =COUNTIF('MCS 12'!D9:D26,'Compliance Summary'!E56) -> 0 | I56: Non Conformance (Major) | J56: =COUNTIF('MCS 13'!D9:D22,'Compliance Summary'!I56) -> 0 | M56: Non Conformance (Major) | N56: =COUNTIF('MCS 14'!D9:D28,'Compliance Summary'!M56) -> 0 | Q56: Non Conformance (Major) | R56: =COUNTIF('MCS 15'!D9:D30,'Compliance Summary'!Q56) -> 0
A57: Non Conformance (Minor) | B57: =COUNTIF('MCS 11'!D9:D43,'Compliance Summary'!A57) -> 0 | E57: Non Conformance (Minor) | F57: =COUNTIF('MCS 12'!D9:D26,'Compliance Summary'!E57) -> 0 | I57: Non Conformance (Minor) | J57: =COUNTIF('MCS 13'!D9:D22,'Compliance Summary'!I57) -> 0 | M57: Non Conformance (Minor) | N57: =COUNTIF('MCS 14'!D9:D28,'Compliance Summary'!M57) -> 0 | Q57: Non Conformance (Minor) | R57: =COUNTIF('MCS 15'!D9:D30,'Compliance Summary'!Q57) -> 0
A58: Observation | B58: =COUNTIF('MCS 11'!D9:D43,'Compliance Summary'!A58) -> 0 | E58: Observation | F58: =COUNTIF('MCS 12'!D9:D26,'Compliance Summary'!E58) -> 0 | I58: Observation | J58: =COUNTIF('MCS 13'!D9:D22,'Compliance Summary'!I58) -> 0 | M58: Observation | N58: =COUNTIF('MCS 14'!D9:D28,'Compliance Summary'!M58) -> 0 | Q58: Observation | R58: =COUNTIF('MCS 15'!D9:D30,'Compliance Summary'!Q58) -> 0
A59: Conformance | B59: =COUNTIF('MCS 11'!D9:D43,'Compliance Summary'!A59) -> 0 | E59: Conformance | F59: =COUNTIF('MCS 12'!D9:D26,'Compliance Summary'!E59) -> 0 | I59: Conformance | J59: =COUNTIF('MCS 13'!D9:D22,'Compliance Summary'!I59) -> 0 | M59: Conformance | N59: =COUNTIF('MCS 14'!D9:D28,'Compliance Summary'!M59) -> 0 | Q59: Conformance | R59: =COUNTIF('MCS 15'!D9:D30,'Compliance Summary'!Q59) -> 0
A60: Not Applicable | B60: =COUNTIF('MCS 11'!D9:D43,'Compliance Summary'!A60) -> 0 | E60: Not Applicable | F60: =COUNTIF('MCS 12'!D9:D26,'Compliance Summary'!E60) -> 0 | I60: Not Applicable | J60: =COUNTIF('MCS 13'!D9:D22,'Compliance Summary'!I60) -> 0 | M60: Not Applicable | N60: =COUNTIF('MCS 14'!D9:D28,'Compliance Summary'!M60) -> 0 | Q60: Not Applicable | R60: =COUNTIF('MCS 15'!D9:D30,'Compliance Summary'!Q60) -> 0
C61: =SUM(B56:C60) -> 0 | G61: =SUM(F56:G60) -> 0 | K61: =SUM(J56:K60) -> 0 | O61: =SUM(N56:O60) -> 0 | S61: =SUM(R56:S60) -> 0
A62: MCS 16 - Dropped Objects from Height | E62: MCS 17 - Exposure to Thermal Stress | I62: MCS 18 - Hazardous Substances | M62: MCS 19 - Electrical Work | Q62: MCS 20 - Piling Rig Operations
A63: Non Conformance (Major) | B63: =COUNTIF('MCS 16'!D9:D32,'Compliance Summary'!A63) -> 0 | E63: Non Conformance (Major) | F63: =COUNTIF('MCS 17'!D9:D18,'Compliance Summary'!E63) -> 0 | I63: Non Conformance (Major) | J63: =COUNTIF('MCS 18'!D9:D22,'Compliance Summary'!I63) -> 0 | M63: Non Conformance (Major) | N63: =COUNTIF('MCS 19'!D9:D39,'Compliance Summary'!M63) -> 0 | Q63: Non Conformance (Major) | R63: =COUNTIF('MCS 20'!D9:D27,'Compliance Summary'!Q63) -> 0
A64: Non Conformance (Minor) | B64: =COUNTIF('MCS 16'!D9:D32,'Compliance Summary'!A64) -> 0 | E64: Non Conformance (Minor) | F64: =COUNTIF('MCS 17'!D9:D18,'Compliance Summary'!E64) -> 0 | I64: Non Conformance (Minor) | J64: =COUNTIF('MCS 18'!D9:D22,'Compliance Summary'!I64) -> 0 | M64: Non Conformance (Minor) | N64: =COUNTIF('MCS 19'!D9:D39,'Compliance Summary'!M64) -> 0 | Q64: Non Conformance (Minor) | R64: =COUNTIF('MCS 20'!D9:D27,'Compliance Summary'!Q64) -> 0
A65: Observation | B65: =COUNTIF('MCS 16'!D9:D32,'Compliance Summary'!A65) -> 0 | E65: Observation | F65: =COUNTIF('MCS 17'!D9:D18,'Compliance Summary'!E65) -> 0 | I65: Observation | J65: =COUNTIF('MCS 18'!D9:D22,'Compliance Summary'!I65) -> 0 | M65: Observation | N65: =COUNTIF('MCS 19'!D9:D39,'Compliance Summary'!M65) -> 0 | Q65: Observation | R65: =COUNTIF('MCS 20'!D9:D27,'Compliance Summary'!Q65) -> 0
A66: Conformance | B66: =COUNTIF('MCS 16'!D9:D32,'Compliance Summary'!A66) -> 0 | E66: Conformance | F66: =COUNTIF('MCS 17'!D9:D18,'Compliance Summary'!E66) -> 0 | I66: Conformance | J66: =COUNTIF('MCS 18'!D9:D22,'Compliance Summary'!I66) -> 0 | M66: Conformance | N66: =COUNTIF('MCS 19'!D9:D39,'Compliance Summary'!M66) -> 0 | Q66: Conformance | R66: =COUNTIF('MCS 20'!D9:D27,'Compliance Summary'!Q66) -> 0
A67: Not Applicable | B67: =COUNTIF('MCS 16'!D9:D32,'Compliance Summary'!A67) -> 0 | E67: Not Applicable | F67: =COUNTIF('MCS 17'!D9:D18,'Compliance Summary'!E67) -> 0 | I67: Not Applicable | J67: =COUNTIF('MCS 18'!D9:D22,'Compliance Summary'!I67) -> 0 | M67: Not Applicable | N67: =COUNTIF('MCS 19'!D9:D39,'Compliance Summary'!M67) -> 0 | Q67: Not Applicable | R67: =COUNTIF('MCS 20'!D9:D27,'Compliance Summary'!Q67) -> 0
C68: =SUM(B63:C67) -> 0 | G68: =SUM(F63:G67) -> 0 | K68: =SUM(J63:K67) -> 0 | O68: =SUM(N63:O67) -> 0 | S68: =SUM(R63:S67) -> 0
A69: MCS 21 - Respirable Crystalline Silica
A70: Non Conformance (Major) | B70: =COUNTIF('MCS 21'!D9:D22,'Compliance Summary'!A70) -> 0
A71: Non Conformance (Minor) | B71: =COUNTIF('MCS 21'!D9:D22,'Compliance Summary'!A71) -> 0
A72: Observation | B72: =COUNTIF('MCS 21'!D9:D22,'Compliance Summary'!A72) -> 0
A73: Conformance | B73: =COUNTIF('MCS 21'!D9:D22,'Compliance Summary'!A73) -> 0
A74: Not Applicable | B74: =COUNTIF('MCS 21'!D9:D22,'Compliance Summary'!A74) -> 0
C75: =SUM(B70:C74) -> 0

Sheet Photos (findings)
C1: Photographs: Evidence of audit findings as verification of identified deficiencies (where applicable).
C4: Clause No: | E4: Specification / Minimum Control Standard | J4: Clause No: | L4: Specification / Minimum Control Standard | Q4: Clause No: | S4: Specification / Minimum Control Standard | X4: Clause No: | Z4: Specification / Minimum Control Standard | AE4: Clause No: | AG4: Specification / Minimum Control Standard
C20: Clause No: | E20: Specification / Minimum Control Standard | J20: Clause No: | L20: Specification / Minimum Control Standard | Q20: Clause No: | S20: Specification / Minimum Control Standard | X20: Clause No: | Z20: Specification / Minimum Control Standard | AE20: Clause No: | AG20: Specification / Minimum Control Standard
C36: Clause No: | E36: Specification / Minimum Control Standard | J36: Clause No: | L36: Specification / Minimum Control Standard | Q36: Clause No: | S36: Specification / Minimum Control Standard | X36: Clause No: | Z36: Specification / Minimum Control Standard | AE36: Clause No: | AG36: Specification / Minimum Control Standard
C52: Clause No: | E52: Specification / Minimum Control Standard | J52: Clause No: | L52: Specification / Minimum Control Standard | Q52: Clause No: | S52: Specification / Minimum Control Standard | X52: Clause No: | Z52: Specification / Minimum Control Standard | AE52: Clause No: | AG52: Specification / Minimum Control Standard
C68: Clause No: | E68: Specification / Minimum Control Standard | J68: Clause No: | L68: Specification / Minimum Control Standard | Q68: Clause No: | S68: Specification / Minimum Control Standard | X68: Clause No: | Z68: Specification / Minimum Control Standard | AE68: Clause No: | AG68: Specification / Minimum Control Standard
C84: Clause No: | E84: Specification / Minimum Control Standard | J84: Clause No: | L84: Specification / Minimum Control Standard | Q84: Clause No: | S84: Specification / Minimum Control Standard | X84: Clause No: | Z84: Specification / Minimum Control Standard | AE84: Clause No: | AG84: Specification / Minimum Control Standard
C100: Clause No: | E100: Specification / Minimum Control Standard | J100: Clause No: | L100: Specification / Minimum Control Standard | Q100: Clause No: | S100: Specification / Minimum Control Standard | X100: Clause No: | Z100: Specification / Minimum Control Standard | AE100: Clause No: | AG100: Specification / Minimum Control Standard
C116: Clause No: | E116: Specification / Minimum Control Standard | J116: Clause No: | L116: Specification / Minimum Control Standard | Q116: Clause No: | S116: Specification / Minimum Control Standard | X116: Clause No: | Z116: Specification / Minimum Control Standard | AE116: Clause No: | AG116: Specification / Minimum Control Standard
C132: Clause No: | E132: Specification / Minimum Control Standard | J132: Clause No: | L132: Specification / Minimum Control Standard | Q132: Clause No: | S132: Specification / Minimum Control Standard | X132: Clause No: | Z132: Specification / Minimum Control Standard | AE132: Clause No: | AG132: Specification / Minimum Control Standard
C148: Clause No: | E148: Specification / Minimum Control Standard | J148: Clause No: | L148: Specification / Minimum Control Standard | Q148: Clause No: | S148: Specification / Minimum Control Standard | X148: Clause No: | Z148: Specification / Minimum Control Standard | AE148: Clause No: | AG148: Specification / Minimum Control Standard

Sheet 203 Compliance Audit
A1: Compliance Audit - Specification 203 Health and Safety Management | D1: Non Conformance (Major) | E1: Non Conformance (Major) - The absence of, or a significant failure to implement and/or maintain conformance to the clause criteria requirements.
D2: Non Conformance (Minor) | E2: Non Conformance (Minor) - A system weakness or deviation from the clause criteria requirements which could lead to a major non-conformance if not addressed.
A3: Author's Note: The Main Roads document titled, Guideline Specification 203 Health and Safety Management - Suitability and Compliance Audit Requirements, must be read and understood prior to conducting a compliance audit on the Specification 203 and the applicable Minimum WHS Control Standards where they apply. | D3: Observation | E3: Observation - An observed deviation or minor oversight from an otherwise well-implemented process meeting the clause criteria requirements.
D4: Conformance | E4: Conformance - Conformance and implementation of the clause criteria requirements.
D5: Not Applicable | E5: Not Applicable - The clause has been identified as not applicable during the audit.
A6: Note: Any cells in the compliance column (C) that are designated as Not Applicable in red, do not require compliance audit assessment due to the nature of the clause.
A7: Clause No. | B7: Evaluation Question | C7: Possible Verification (Field) | D7: Compliance | E7: Auditor Comment (Finding)
A8: 203.10 (1) | B8: Not applicable to the compliance audit. | C8: Not Applicable
A9: 203.11 (1) | B9: Not applicable to the compliance audit. | C9: Not Applicable
A10: 203.12 (1) | B10: Not applicable to the compliance audit. | C10: Not Applicable
A11: 203.12 (2) | B11: Not applicable to the compliance audit. | C11: Not Applicable
A12: 203.13 (1) | B12: Not applicable to the compliance audit. | C12: Not Applicable
A13: 203.13 (2) | B13: Not applicable to the compliance audit. | C13: Not Applicable
A14: 203.13 (3) | B14: Not applicable to the compliance audit. | C14: Not Applicable
A15: 203.13 (4) | B15: Not applicable to the compliance audit. | C15: Not Applicable
A16: 203.14 (1) | B16: Has the Contractor detailed how they will manage WHS for the stated clause stakeholders and the clause criteria elements a-d? | C16: Discuss with the WHS Representative and select senior Site representatives of the Contractor to demonstrate by example how the clause criteria a - d is implemented on the Site.
A17: 203.14 (2) | B17: Not applicable to the compliance audit. | C17: Not Applicable
A18: 203.15 (1) | B18: Has the Contractor detailed the requirements of clause criteria a-d upon approval of the plan by the Superintendent? | C18: Discuss with Workers whether the requirement of the Safety Management Plan is understood and whether changes are communicated through Site WHS communication arrangements. Review the induction to ensure the information is sufficient to enable Worker understanding.
A19: 203.15 (2) | B19: Has the Contractor detailed consultation, co-operation and co-ordination arrangements which meet the requirements of Section 22 of the WHS Act including a resolution process? | C19: Discuss with Site SHR's and Workers whether WHS issues are resolved when they are raised in safety related forums. Review safety committee minutes and the Contractor's hazard report systems to determine whether corrective actions have addressed the identified hazard.
... A42: 203.26 (2) | B42: Has the Contractor detailed requirements for retaining copies of inductions for visitors and short term workers? | C42: Review the Contractor's records to identify inductions of all visitors and short term workers.
A43: 203.26 (3) | B43: Has the Contractor detailed the requirements to provide advanced notice of site safety rules and inductions to visitors and short term workers prior to their attendance on the Site.
A44: 203.27 (1) | B44: Has the Contractor detailed the requirements for SWMS for the clause criteria elements a - d ? | C44: Review Site activities and where High Risk Work is being undertaken, ask the Workers to produce a copy of the SWMS (review for currency, accuracy and application).
A45: 203.27 (2) | B45: Has the Contractor detailed the content requirement for the SWMS which meets the clause criteria ? | C45: Review a selection of subcontractor SWMS to determine compliance to the clause criteria elements. Ask the Contractor about the review and approval of SWMS and request records of the approvals.
A46: 203.27 (3) | B46: Has the Contractor detailed the revision requirements of the SWMS for clause criteria elements a - c ? | C46: Review a selection of SWMS to verify the SWMS has been reviewed and authorised. Discuss with the Contractor their process for review and approval prior to commencing High Risk Work.
A47: 203.27 (4) | B47: Has the Contractor confirmed that the SWMS will be detailed in the control column of the Works WHS Risk Assessment (Project Risk Register) and the authorisation requirements ? | C47: Review the Works WHS Risk Assessment to ensure SWMS have been details in the control column.
A48: 203.28 (1) | B48: Not applicable to the compliance audit. | C48: Not Applicable
A49: 203.28 (2) | B49: Not applicable to the compliance audit. | C49: Not Applicable
A50: 203.28 (3) | B50: Has the Contractor detailed compliance with clause criteria elements a - f for the management and control of subcontractors on the Site ? | C50: Review the surveillance undertaken by the Contractor on subcontractors, evaluate identified deficiencies to ensure adequate corrective actions have been issued by the Contractors and addressed by the subcontractor.
A51: 203.29 (1) | B51: Has the Contractor detailed compliance to clause criteria for WHS inspections for the duration of the work under the Contract ? | C51: Review the Contractor's Inspection Test Plan to evaluate consistency of the inspections and a selection of corrective actions through to closure (where applicable).
A52: 203.29 (2) | B52: Has the contractor demonstrated compliance with the clause criteria. | C52: Review the Contractor's Inspection Test Plan to confirm compliance with the clause criteria.
A53: 203.30 (1) | B53: Has the Contractor documented that non-conformances and corrective actions will be managed in accordance with Specification 201 and ISO 9001 ? | C53: Review a selection of corrective actions which have been raised by the Contractor or issued by the Superintendent. Evaluate from initiation through to approval and close out.
A54: 203.30 (2) | B54: Has the Contractor detailed compliance to clause criteria elements a - g where a non-conformance has been identified ? | C54: Review a selection of corrective actions which have been raised by the Contractor or issued by the Superintendent. Evaluate from initiation through to approval and close out.
A55: 203.31 (1) | B55: Has the Contractor detailed compliance to clause criteria elements a - d for providing immediate notification to the Superintendent and the requirement for raising a non-conformance ? | C55: Ask the Contractor of any notices, orders and convictions (where applicable) relating to the works. Where applicable, review and verify the non-conformance requirements in accordance with Specification 201 - QUALITY SYSTEMS.
... A104: 203.91 - 99 | B104: Not applicable - unless contract specific requirements are added to the specification. | C104: Not Applicable unless as built requirements are added.

Sheet General Site Inspection
A1: Compliance Audit - General Site Inspection | C1: Non Conformance (Major) | D1: Non Conformance (Major) - The absence of, or a significant failure to implement and/or maintain conformance to the clause criteria requirements.
C2: Non Conformance (Minor) | D2: Non Conformance (Minor) - A system weakness or deviation from the clause criteria requirements which could lead to a major non-conformance if not addressed.
C3: Observation | D3: Observation - An observed deviation or minor oversight from an otherwise well-implemented process meeting the clause criteria requirements.
C4: Conformance | D4: Conformance - Conformance and implementation of the clause criteria requirements.
C5: Not Applicable | D5: Not Applicable - The clause has been identified as not applicable during the audit.
A7: Heading | B7: Evaluation Criteria | C7: Compliance | D7: Comment (on compliance or identified deficiencies)
A8: HAND TOOLS & EQUIPMENT | B8: Are all tools and equipment used by workers in a good general condition ?
B9: Are broken or fractured handles on hammers, axes and similar equipment replaced promptly ?
B10: Are the heads of hammers and sledgehammers in good condition with no splintering ?
B11: Are tool handles wedged tightly in the head of all tools?
B12: Are suitable grip and anti slip handles fitted to hand tools ?
B13: Are workers wearing appropriate safety glasses, face shields or similar where debris or flying objects are caused by tools and equipment ?
B14: Are tools stored in dry, secure location where they won't be tampered with ?
A15: PORTABLE (POWER OPERATED) TOOLS & EQUIPMENT | B15: Are grinders, saws (i.e. quick cut) and similar equipment provided with appropriate safety guards ?
B16: Are cradles used when cutting pipes with quick cut saws ?
B17: Are portable circular saws equipped with guards above and below the base shoe?
B18: Are circular saw guards checked for guard wedging which may leave a portion of the blade exposed ?
B19: Are rotating or moving parts of equipment guarded to prevent physical contact?
B20: Is there safe operation of electrical tools and equipment (incl RCD protection) where electrical cords are connected to prevent cutting or severing ?
B21: Are effective guards in place over belts, pulleys, chains, and sprockets, on equipment where there are rotating parts ?
B22: Are pneumatic and hydraulic hoses on power-operated tools checked regularly for deterioration or damage?
A23: MACHINE GAURDING | B23: Is there a regular program of safety inspection of machinery and equipment?
B24: Is all machinery and equipment kept clean and properly maintained and are guards fitted to sharp rotating parts, pinch and nip points ?
B25: Are machinery guards secure and so arranged that they do not present a hazard in their use ?
B26: Are provisions made to prevent machines from automatically starting when power is restored after a power failure or shutdown ?
B27: If machinery is cleaned with compressed air, is air pressure controlled and personal protective equipment or other safeguards used to protect operators and other workers from eye and body injury ?
A28: HOUSEKEEPING AND AMENITIES | B28: Work areas free from rubbish & obstructions ?
B29: Clear access and egress in the workplace ?
B30: Surfaces safe and suitable ?
B31: General surfaces are free from slip/trip hazards ?
B32: Stock/material stored safely ?
B33: Washrooms, toilets are clean to prevent potential infection ?
B34: Meal rooms are clean and tidy ?
B35: Rubbish bins available, covered and adequately stored ?
A36: MANUAL HANDLING | B36: Mechanical aids provided and used where lifting of excessive loads are conducted ?
B37: Manual handling risk assessment and manual handling controls have been assessed ?
B38: Ergonomic factors considered in work layout and task design ?
B39: Use of excessive force and repetitive movements minimised
B40: Are tools and equipment positioned and handled so that tasks can be performed comfortably ?
A41: NOISE EXPOSURE | B41: Are excessively noisy work tasks isolated away from high worker volume locations (i.e. crib rooms) ?
B42: Is hearing protection devices available to every employee working in areas where continuous noise levels exceed 85 dBA ?
B43: Is hearing protection (plugs) fitted correctly by workers and used when conducting high noise work tasks ?
B44: Are mobile plant operators wearing hearing protection where the mobile plant is fitted with hearing protection signage ?
A45: FUELLING OF PLANT AND EQUIPMENT | B45: Refuelling of mobile plant is completed with the plant in a fundamentally stable position with engine off ?
B46: Are procedures in place for fuel truck operators who refuel mobile plant ?
B47: Are fuelling operations done in such a manner that likelihood of spillage will be minimal ?
B48: Are fuelling hoses of a type designed to handle the specific type of fuel?
B49: Is open flame, sparking or arcing equipment prohibited near fuelling or transfer of fuel operations ?
B50: Is smoking prohibited in the vicinity of fuelling operations?
B51: Are diesel fuelling points at a safe distance from office / crib facilities to prevent particulate exposure ?
B52: Appropriate PPE being worn
B53: Geotechnical Company on site
B54: Must point at the site office
B55: Signage for radio channel onsite
B56: Signage for PPE at the site office

Sheet MCS 1
B2: Minimum Control Standard - Working at Height | D2: Non Conformance (Major) | E2: Non Conformance (Major) - The absence of, or a significant failure to implement and/or maintain conformance to the clause criteria requirements.
D3: Non Conformance (Minor) | E3: Non Conformance (Minor) - A system weakness or deviation from the clause criteria requirements which could lead to a major non-conformance if not addressed.
D4: Observation | E4: Observation - An observed deviation or minor oversight from an otherwise well-implemented process meeting the clause criteria requirements.
D5: Conformance | E5: Conformance - Conformance and implementation of the clause criteria requirements.
D6: Not Applicable | E6: Not Applicable - The clause has been identified as not applicable during the audit.
A8: MCS Clause No: | B8: Evaluation Question | C8: Possible Verification | D8: Compliance | E8: Auditor Comment (Compliance or Identified Deficiency)
A9: 1.1.1 | B9: Training Competency and Awareness - Are workers trained and competent to work at height and hold a nationally recognised qualification ? | C9: Select a number of workers who perform working at height tasks required to wear personal fall protection equipment (PFPE) and verify their competencies.
A10: 1.1.2 | B10: Training Competency and Awareness - Are workers who are working at height working under a permit (excl. EWP), a SWMS, is the work supervised, if fall arrest equipment is being worn - emergency response equipment is in place and workers are trained and competent in it's use ? | C10: Observe a working at height task to make sure these requirements are in place for the work or discuss with workers who generally perform working at height tasks.
A11: 1.2.1 | B11: Personal Fall Protection Equipment - Are workers wearing compliant personal fall protection equipment (PFPE) to Australian Standards ? | C11: Select a working at height task and discuss with workers or find the location where fall protection is located, check the equipment for compliance.
A12: 1.2.2 | B12: Personal Fall Protection Equipment - Is PFPE inspected before each use by workers and defective equipment withdrawn from service when defects are identified. | C12: Review a working at height task and/or permits to ensure PFPE is checked before each use. Discuss with a selection of workers that PFPE is checked prior to use. Check the PFPE register to see whether any equipment has been tagged out of service.
A13: 1.2.3 | B13: Personal Fall Protection Equipment - Is there a Height Equipment Register in place for PFPE ? | C13: Select a number of PFPE and check the serial numbers are listed in the Register. Check the Register to ensure it meets the requirements of Table 9.1 of AS/NZS 1891.4.
A14: 1.2.4 | B14: Personal Fall Protection Equipment - Are anchorage point AS rated and capacity rated 15kn (one person) and 21kn (two person) ? Have anchorages been inspected by a height safety inspector, inspected by the worker prior to working at height ? Is there a safe means of access and egress to designated anchorage points ? | C14: Review a working at height task and/or permits to check on anchorages. Discuss with workers who perform W@H tasks and check the PFPE register for verification.
A15: 1.3.1 | B15: Mobile Elevated Work Platform - Do workers have the appropriate training to operate an EWP (Work Safely at Heights, EWP Yellow Card or unit of competency, HRWL (where applicable), (driver’s license when on a public road), VOC'd and Perform EWP Rescue (for select personnel) ? | C15: Check training records and discuss with workers who are working at height in an EWP. Permits can also be checked.
A16: 1.3.2 | B16: Mobile Elevated Work Platform - Have workers selected the most appropriate EWP for the task and assessed the risks ? public access (including public roads), safe working load (i.e. weight of workers, tools and equipment), stability (i.e. falling loads, wind, travelling mobile plant, positioning of outrigger, stabilizers & extending axles ? | C16: Discuss with workers performing working at height tasks in an EWP. Review the workers risk assessment for the task to identify the risks they have identified as well as the risk register (where practicable).
A17: 1.3.3 | B17: Mobile Elevated Work Platform - Does the EWP meet the specified design requirements as stated in Table 2.10: Safety Device Function of an EWP and Required Reliability Levels in AS/NZS 1418.10 (2011) Cranes, Hoists and Winches - Elevating Work Platforms ? | C17: Review the EWP design and OEM specifications. Review the attached specification requirements based on AS/NZS 1418.10 (2011) Cranes, Hoists and Winches - Elevating Work Platforms.
A18: 1.3.4 | B18: Mobile Elevated Work Platform - Does the EWP have the appropriate signage in accordance with Section 4.2 of AS/NZS 1418.10 (2011) Cranes, Hoists and Winches - Elevating Work Platforms. | C18: Review the EWP design and OEM specifications. Review the attached specification requirements based on Section 4.2 of AS/NZS 1418.10 (2011) Cranes, Hoists and Winches - Elevating Work Platforms.
A19: 1.3.5 | B19: Mobile Elevated Work Platform - Are workers operating an EWP (boom type) elevated at height, wearing PPE (full body harness and a restraining lanyard attached to the manufacturer specified anchorage point) ? | C19: Check and EWP task to see that workers are wearing PFPE and also check current available and archived permits for the project.
A20: 1.3.6 | B20: Mobile Elevated Work Platform - Is a spotter must be in place for each EWP where a worker is elevated at height ? Does the spotter have the same qualifications as the EWP operator ? | C20: Visually observe that a spotter is in place for any EWP task. Where unavailable discuss with workers who perform working at height in an EWP.
... A41: 1.7.4 | B41: Open Edge Protection - Are exposed holes, edges, penetrations or openings protected from workers falling ? | C41: Check around the site and observe activities or structures where there are exposed edges penetrations and holes. Discuss with workers where available.

Sheet MCS 2
B2: Minimum Control Standard - Demolition Work | D2: Non Conformance (Major) | E2: Non Conformance (Major) - The absence of, or a significant failure to implement and/or maintain conformance to the clause criteria requirements.
D3: Non Conformance (Minor) | E3: Non Conformance (Minor) - A system weakness or deviation from the clause criteria requirements which could lead to a major non-conformance if not addressed.
D4: Observation | E4: Observation - An observed deviation or minor oversight from an otherwise well-implemented process meeting the clause criteria requirements.
D5: Conformance | E5: Conformance - Conformance and implementation of the clause criteria requirements.
D6: Not Applicable | E6: Not Applicable - The clause has been identified as not applicable during the audit.
A8: MCS Clause No: | B8: Evaluation Question | C8: Possible Verification (Field) | D8: Compliance | E8: Auditor Comment (Compliance or Identified Deficiency)
A9: 2.2.1 | B9: Training, Competency and Licensing - Are all workers trained and competent in the specific role or function associated with the demolition work. Are training and competency requirements applied collectively | C9: Select available demolition workers and view relevant competencies / licences. Check the viewed competencies / licences against site training records.
A10: 2.1.2 | B10: Training, Competency and Licensing - If a dedicated demolition worker, demolition plant operator or demolition leading hand form part of the demolition team, do they possess a Certificate 3 in Demolition from a registered training organisation ? | C10: Select a dedicated demolition workers and verify all workers have a certificate 3 in demolition.
A11: 2.1.3 | B11: Training, Competency and Licensing - Is a demolition supervisor on site at all times while demolition work is being undertaken ? Does the supervisor (demolition) or a dedicated contracted demolition supervisor in charge of the demolition work hold a current Certificate 3 in Demolition and Certificate 4 in Demolition ? | C11: Ask the demolition supervisor if they are onsite while demolition work is being undertaken. Confirm that the demolition supervisor holds a current Certificate 3 and Certificate 4 in Demolition. Confirm that the qualification has been verified (VOC) prior to commencing work.
A12: 2.1.4 | B12: Training, Competency and Licensing - Where the scope of demolition work meets the requirement of class 1, 2 or 3 demolition, does the demolition contractor have the appropriate demolition license ? | C12: Ask the demolition contractor to present their current demolition license. Verify this meets the requirement of class 1, 2 or 3 for demolition in the WHS Regulations, and that this was current prior to any demolition work occurring.
A13: 2.1.5 | B13: Training, Competency and Licensing - Where class 1, 2 or 3 demolition work is conducted has the commissioner been notified 5 days prior to the intended demolition work with a copy the notification provided to the Principal ? | C13: For Class 1,2 or 3 Demolition work, ask the contractor if the commissioner was notified 5 days prior to intended demolition work with a copy of the notification provided to the Principal
A14: 2.1.6 | B14: Training, Competency and Licensing - Where class 1, 2 or 3 demolition work is not conducted in a manner which meets the requirements of AS 2601 (2001) Demolition of Structures, has the Worksafe Commissioner been notified 10 days prior to the demolition start date to seek approval of the intended demolition method ? | C14: Ask the contractor if any class 1,2, or 3 demolition work was completed which did not meet AS 2601(2001). In this case, verify that the Worksafe Commissioner was notified 10 days prior to the demolition start date. Verify any conditions imposed were met with subsequent approval by the Worksafe Commissioner and initial notification, conditions imposed and subsequent approval were provided to the Principal.
A15: 2.2.1 | B15: Safe Design and Planning - Where a structure is to be demolished under a class 1, 2 or 3 demolition license, have site and structural investigations been completed (demolition engineer) in accordance with Appendix A of AS2601 (2001) Demolition of Structures ? Have site investigations to ensure the safe demolition of the structure ? | C15: For demolitions under a class 1, 2 or 3 demolition licenses, ask the contractor if site and structural investigations were completed by a competent person (demolition engineer). Ask the contractor how they ensured safe demolition of the structure. Verify that risk assessments included location, structural designs, layout and condition of the structure and adjoining structures.
A16: 2.2.2 | B16: Safe Design and Planning - Has a hazardous substances audit been completed to identify their presence on or near the structure which has the potential to impact workers or members of the public ? | C16: Ask the contractor how hazardous substances were identified (if present)
A17: 2.2.3 | B17: Safe Design and Planning - Has a Demolition Management Plan (DMP) been developed by a competent person (demolition engineer) and authorised (Regulator and Principal) prior to demolition work commencing ? Where hazardous substances or explosive blasting is part of the scope, have plans been developed in addition to the DMP ? | C17: Ask the contractor who developed the Demolition Management Plan. Verify this was completed by a competent person (demolition engineer) and authorised (Regulator and Principal) prior to demolition work commencing. Ask the worker if hazardous substances were identified were they documented in a Hazardous Substance Management Plan and Blast Management Plan.
A18: 2.3.1 | B18: Exclusion Zones and Access Control - Have exclusion zones been established for all demolition work ? Do they prevent health and safety risks to workers and members of public ? Where multiple exclusions zones apply, are they applied collectively ? | C18: Ask the contractor to outline how exclusion zones are established for all demolition work. Confirm that these are effective in preventing unauthorised access.
A19: 2.3.2 | B19: Exclusion Zones and Access Control - Is access to the demolition site strictly controlled to prevent unauthorised access from members of the public and workers ? Is access controlled by signage, barriers, fences etc. to control access ? | C19: Ask the demolition contractor to outline how access to the demolition site is controlled and verify that this prevents all unauthorised access.
A20: 2.4.1 | B20: Mobile Plant, Equipment and Materials - Where mobile plant is used in the demolition work, are the requirements of the other MCS applied collectively to the demolition work ? | C20: Verify that if mobile plant form part of the demolition work, that the requirements specified within Minimum control standards applied collectively.
... A31: 2.6.7 | B31: Safe Execution of the Demolition Plan - Prior to the completion of daily demolition, has a post work inspection of the demolition site been completed ? | C31: Ask the worker if they conduct post work inspections and verify that this is comprehensive in eliminating all risks and hazards associated with the demolition work.

Sheet MCS 3
B2: Minimum Control Standard - Absestos Removal and Control | D2: Non Conformance (Major) | E2: Non Conformance (Major) - The absence of, or a significant failure to implement and/or maintain conformance to the clause criteria requirements.
D3: Non Conformance (Minor) | E3: Non Conformance (Minor) - A system weakness or deviation from the clause criteria requirements which could lead to a major non-conformance if not addressed.
D4: Observation | E4: Observation - An observed deviation or minor oversight from an otherwise well-implemented process meeting the clause criteria requirements.
D5: Conformance | E5: Conformance - Conformance and implementation of the clause criteria requirements.
D6: Not Applicable | E6: Not Applicable - The clause has been identified as not applicable during the audit.
A8: MCS Clause No: | B8: Evaluation Question | C8: Possible Verification (Field) | D8: Compliance | E8: Auditor Comment (Compliance or Identified Deficiency)
A9: 3.1.1 | B9: Training, Competency and Awareness – Are all workers who are conducting ACM removal working under an ACM license ? | C9: Select available workers engaged in ACM removal and view relevant competencies / licences. Check the viewed competencies / licences against site training records.
A10: 3.1.2 | B10: Training, Competency and Awareness - Is removal work directly supervised at all times by a supervisor who holds the current qualification “Supervise Asbestos Removal” ? In addition, are the working in accordance with the Code of Practice (is this physical copy on site) ? | C10: Review the training records of the Supervisor and verify that they hold a current qualification "Supervise Asbestos Removal" Ask the supervisor do they directly supervise work at all times and how they ensure all control measures are in place compliant with the COP.
A11: 3.1.3 | B11: Training, Competency and Awareness - For bonded non-friable ACM to be removed are workers directly supervised at all times by a supervisor who holds the current qualification “Supervise Asbestos Removal” ? | C11: Select a supervisor involved in removal of bonded non-friable asbestos. Check they hold the relevant licence. Verify that the supervisor directly supervises workers involved with bonded non-friable asbestos.
A12: 3.1.4 | B12: Training, Competency and Awareness - Where workers are conducting asbestos removal work under a unrestricted asbestos removal license, have all workers completed asbestos awareness training and under the supervision of a Workers who hold the qualification “Supervise Asbestos Removal” ? | C12: Review the training records of the Supervisor and verify that they hold a current qualification "Supervise Asbestos Removal". Check all workers working under an unrestricted asbestos removal license have completed asbestos awareness training and are under appropriate supervision.
A13: 3.1.5 | B13: Training, Competency and Awareness - Have the hazards associated with asbestos removal been considered ? (i.e. The type, amount, condition, the method or removal, PPE requirements, impacts to other workers and/or members of the public, wind conditions, direction and any other environmental factors) | C13: Review worker/supervisor training & competency records. Verify that prior to performing asbestos removal work all workers possess a current qualification "Asbestos Awareness" and that the supervisor possesses the current qualification "Supervise Asbestos Removal" from a registered training organisation
A14: 3.1.6 | B14: Training, Competency and Awareness - Where the scope of work and impact from asbestos requires the development of an Asbestos Management Plan (refer clause criteria), has a Plan been developed ? | C14: Review a selection of risk assessments performed for Asbestos removal. Verify an asbestos management plan has been developed and is effective in controlling risks of asbestos exposure.
A15: 3.2.1 | B15: Barricading, Demarcation and Exclusion Zones - Are demarcated and barricaded exclusion zones established for the asbestos removal work consistent with respective Australian Standards ? | C15: Review any demarcated and barricaded exclusion zones established for the asbestos removal work. Check they are consistent with respective Australian Standards
A16: 3.2.2 | B16: Barricading, Demarcation and Exclusion Zones - are demarcated and barricaded exclusion zones in place for the duration of the removal works including after hours ? | C16: Review any present (or past) demarcated and barricaded exclusion zones in place and check that they were present for the duration of the removal works including after hours
A17: 3.2.3 | B17: Barricading, Demarcation and Exclusion Zones - Are communication and consultation arrangements in place for the intended asbestos removal work ? (i.e. workers, non-ACM removal workers and members of public) ? | C17: Select a group of workers and review that communication and consultation arrangements are in place for the intended asbestos removal work. Check that this cover worker, non-ACM workers and members of the public
A18: 3.2.4 | B18: Barricading, Demarcation and Exclusion Zones - Has there been a breach of an exclusion zone by non ACM workers or MOP where there has been a risk of exposure ? | C18: Discuss with workers and the supervisor of ACM removal work their methods of communication (MOP, workers and workers in the vicinity). Review SWMS and permit for removal.
A19: 3.3.1 | B19: Personal Protective Equipment - are workers who perform asbestos removal supplied with suitable respiratory protection device (RPD) based on the risk assessment ? | C19: Discuss with workers incidents involving breach of excl. zone and the reporting of the incident. Where this has not occurred ask the supervisor the process for reporting of excl. zone breaches.
A20: 3.3.2 | B20: Personal Protective Equipment - In addition to RPD has additional asbestos PPE been provided and used by removal workers ? (coveralls incl for footwear, gloves) based on the risk assessment ? | C20: Select workers involved in ACM removal. Verify workers are wearing appropriate PPE (in addition to RPD). Where this is not occurring review ACM removal permits, SWMS and ACM removal plan to verify PPE was documented by workers.
... A29: 3.6.3 | B29: Decontamination and Disposal - is asbestos waste sealed and secured prior to transit ? Is asbestos waste disposed of at a licensed facility with records retained and provided to the Principal ? | C29: Check with workers that asbestos waste sealed and secured prior to transit. Verify that asbestos waste disposed of at a licensed facility with records retained and provided to the Principal

Sheet MCS 4
B2: Minimum Control Standard - Work in Confined Spaces | D2: Non Conformance (Major) | E2: Non Conformance (Major) - The absence of, or a significant failure to implement and/or maintain conformance to the clause criteria requirements.
D3: Non Conformance (Minor) | E3: Non Conformance (Minor) - A system weakness or deviation from the clause criteria requirements which could lead to a major non-conformance if not addressed.
D4: Observation | E4: Observation - An observed deviation or minor oversight from an otherwise well-implemented process meeting the clause criteria requirements.
D5: Conformance | E5: Conformance - Conformance and implementation of the clause criteria requirements.
D6: Not Applicable | E6: Not Applicable - The clause has been identified as not applicable during the audit.
A8: MCS Clause No: | B8: Evaluation Question | C8: Possible Verification (Field) | D8: Compliance | E8: Auditor Comment (Compliance or Identified Deficiency)
A9: 4.1.1 | B9: Training, Competency and Awareness – Are identified confined spaces consistent with the AS :2685(2009) determination of a confined space ? Are there locations which have not been classed as a confined space which workers are working in ? | C9: Ask the worker to outline how a space is identified as a confined space. Verify in site documents that this is consistent with Section 3.2 – Identification of a Confined Space AS: 2685 (2009) Confined Spaces.
A10: 4.1.2 | B10: Training, Competency and Awareness – Is a risk assessment completed prior to work commencing to determine the safest method of work in a confined space ? | C10: Review SWMS documentation related to work in a confined space, and review a current work task (if possible) where confined space entry is required. Verify that appropriate risk assessments were completed consistent with Section 3.3 Risk Assessment in AS: 2685 (2009) Confined Spaces.
A11: 4.1.3 | B11: Training, Competency and Awareness – Are workers trained and competent for the specific role in association with the intended confined space entry ? (Identify Confined Space; Test Confined Space Environment; Enter Confined Space; Enter and work in Confined Spaces; Undertake Confined Space Rescue; Apply First Aid) | C11: Select available workers and view relevant competencies / licences. Check the viewed competencies / licences against site training records.
A12: 4.1.4 | B12: Training, Competency and Awareness – Do workers have the appropriate training and qualifications for the work they are performing in a confined space ? | C12: View qualifications for workers involved in issuing permits for confined space entry, identifying a confined space, working in a confined space, acting as a confined space standby person, and emergency response/first aid. Confirm they meet the minimum requirements in AS 2685 (2009) Confined Spaces
A13: 4.1.5 | B13: Training, Competency and Awareness – Has the person with overall responsibility for the confined space met their duties to ensure emergency response is effectively managed with trained and competent workers, emergency equipment ? Has each confined space been risk assessed ? | C13: Ask the contractor to outline how the emergency response team are trained/assessed in confined space rescue. Check they possess appropriate equipment and authority to conduct a rescue from a confined space. Verify training competencies and view rescue plans for currency.
A14: 4.2.1 | B14: Confined Space Stand by Worker - Does the confined space standby person have the relevant qualifications to perform the function of the stand by person ? | C14: Select a worker who acts as the confined space standby person. Check they have the appropriate qualifications and experience to act in this capacity, they understand risks to workers within a confined space and that they know how to initiate emergency response procedures.
A15: 4.2.2 | B15: Confined Space Stand by Worker - Does the person with overall responsibility of the confined space ensure the stand by person is performing their stand by function effectively ? (remain outside the confined space at all times, maintain constant communication with workers, not involved in multiple tasks etc.) | C15: Select a worker acting as a confined space standby worker. Verify they remain outside the confined space at all times, maintain communication with workers in the confined space, are not involved in any other tasks while acting as the standby worker and are only substituted by a worker with the equivalent qualifications
A16: 4.3.1 | B16: Confined Space Entry Permit, Signage and Record Management - Is a confined space entry permit completed prior to entry to a confined space ? | C16: Ask the contractor to outline the permitting process completed for work in confined spaces. Check this in accordance with AS2685(2009) Confined space entry - Section 3. Ask where the confined space entry permit is located. Verify that the permit is located where confined space work is being conducted.
A17: 4.3.2 | B17: Confined Space Entry Permit, Signage and Record Management - How are confined spaces identified? Are confined spaces placarded with appropriate signage ? | C17: Review confined space works and verify signage identifies the confined space and other identified risks. If no confined space work is occurring, ask workers to outline the process for identification and signage for confined space work. Verify that this is consistent with AS2685(2009) – Confined Spaces
A18: 4.3.3 | B18: Confined Space Entry Permit, Signage and Record Management - Are all workers briefed on the confined space entry permit requirements and understand their role prior to entering the confined space ? Does this include emergency response workers? | C18: Review confined space permits. Verify they outline specific controls/role requirements for the confined space. Ask contractors (including emergency response workers) to outline their understanding of the requirements of the confined space permit and check this is consistent with the permit
A19: 4.3.4 | B19: Confined Space Entry Permit, Signage and Record Management - How is documentation for Confined Space recorded ? (register recording confined space entry permits, confined space locations, risk assessments, confined space inspections & audits, required training and competencies, atmospheric testing etc..) | C19: Review the Confined Space Register. Verify it documents all relevant records related to confined spaces e.g. permits, locations, risk assessments, audits & inspections, work procedures, documented worker training, monitoring of atmospheric testing, and incidences related to confined spaces.
A20: 4.4.1 | B20: Atmosphere and Atmospheric Testing - Is atmospheric testing conducted prior to entry in confined spaces ? (i.e. the concentration of oxygen, flammable and airborne contaminants) Is retesting and continuous atmospheric monitoring conducted ? | C20: Ask the contractor to present records of atmospheric testing and monitoring of confined spaces based on risk assessments. Verify these determine the safe concentration for atmospheric gasses and contaminants for worker entry of the confined space and that the monitoring is consistent with AS2685(2009) - Confined Spaces
... A29: 4.6.1 | B29: Safe Work in a Confined Space - Are safe work practices in place when workers are working in a confined space ? (refer to clause criteria) | C29: Review confined space work (if possible). Confirm Safe work practices outlined in MCS 4.6.1 are in existence. Review Confined space permit & SWMS. Verify risk assessment and controls exist for the confined space work, all workers involved have signed these documents, and that all other work permits are in place.

Sheet MCS 5
B2: Minimum Control Standard - Excavation and Trench Work | D2: Non Conformance (Major) | E2: Non Conformance (Major) - The absence of, or a significant failure to implement and/or maintain conformance to the clause criteria requirements.
D3: Non Conformance (Minor) | E3: Non Conformance (Minor) - A system weakness or deviation from the clause criteria requirements which could lead to a major non-conformance if not addressed.
D4: Observation | E4: Observation - An observed deviation or minor oversight from an otherwise well-implemented process meeting the clause criteria requirements.
D5: Conformance | E5: Conformance - Conformance and implementation of the clause criteria requirements.
D6: Not Applicable | E6: Not Applicable - The clause has been identified as not applicable during the audit.
A8: MCS Clause No: | B8: Evaluation Question | C8: Possible Verification (Field) | D8: Compliance | E8: Auditor Comment (Compliance or Identified Deficiency)
A9: 5.1.1 | B9: Safe Design and Planning - Are the risks associated with excavation and trench work (>1.5m depth) evaluated during the planning and design stage ? Are these documented in the safe design plan ? | C9: Check the safe design plan is consistent with regulatory requirements for any excavation or trench which is greater than 1.5 meters in depth Ask the worker(designer) what risks were evaluated and how they were evaluated during the planning and design stage
A10: 5.1.2 | B10: Safe Design and Planning - Has a safe design plan identified potential unexploded ordinates (UXO) ? What processes are in place when UXO has been identified ? | C10: Check the Safe Design Report for an assessment to identify unexploded ordinates. Ask the worker (designer) what processes are followed where UXO is identified (e.g. Department of Fire and Emergency Services (DFES) and Department of Defence notification & processes consistent with regulations)
A11: 5.1.3 | B11: Safe Design and Planning - Are the risks of underground or overhead utilities have been identified ? Are controls for all risks which may impact excavation and trench work been adequately assessed ? | C11: Review the safe design plan and verify controls were implemented to managed risks identified with underground or overhead utilities.
A12: 5.1.4 | B12: Safe Design and Planning - Does the safe design report identify the need for ground support system in accordance with AS 1726 (2017) Geotechnical Site Investigations ? Are Geotechnical investigations conducted by a trained and competent worker ? (i.e. geotechnical engineer) | C12: Review the safe design report. Verify Geotechnical Investigation occurred, and was performed by a trained and competent worker. Check training competencies of the Geotechnical Engineer, and review certificates of calibration for any equipment used in this tasks for currency.
A13: 5.1.5 | B13: Safe Design and Planning - Where ground support systems are used, did the geotechnical investigation identify the hazards which for the specific excavation ? (i.e. depth of the excavation/trench, local site conditions, variable soil types, stability, shear strength, underground water, fractures or faults in rock, stressors from vibration) | C13: Review the safe design plan. Check that a comprehensive risk assessment was conducted when assessing the need for ground support systems. Ask the worker (designer) what factors were considered when establishing the need for ground support systems.
A14: 5.2.1 | B14: Ground Support Systems - Where benching and battering is conducted, is it conducted by a trained and competent mobile plant operator ? | C14: Select work where benching and battering is conducted and check this is conducted by a trained and competent mobile plant operator. Check the viewed competencies / licences against site training records.
A15: 5.2.2 | B15: Ground Support Systems - Are safe work practices used for benching / battering ? ( vertical faces consistent with geotechnical design and soil type, access to excavation prevents authorised entry, unstable and loose material identified). | C15: Select a worker performing benching/battering for excavation or trench work. Check they operate within safe work practice requirements. Verify that operating procedures meet the specified requirements in the Code of Practice for Excavation (2005) WA. & consider safety factors outlined in MCS 5.2.2
A16: 5.2.3 | B16: Ground Support Systems - Where shoring / shielding is used, are the systems compliant with Australian Standards ? (AS 5047 (2015): Hydraulic Shoring and Trench Lining Equipment / AS 4744.1 (2000): Steel Shoring and Trench Lining – Design) | C16: Ask the worker to outline how ground support systems are consistent with the outlined Australian Standards. Verify these methods are consistent with AS5047(2015) & AS4744.1(2000)
A17: 5.2.4 | B17: Ground Support Systems - Are shoring or shield system installed by trained and competent workers in accordance with manufacturer instructions and the safe design plan ? | C17: Review training competencies of workers involved in installation of shoring or shield systems. Verify that these are current and from a registered training organisation. Confirm that the shoring systems used are compliant with Australian Standards.
A18: 5.2.5 | B18: Ground Support Systems - Are safe work practices used when installing, maintaining and removing temporary shoring or shield system ? (where required a spotter, mobile plant operating at a safe distance from trench, no workers in trench when it is being excavated, safe placement of excavated material) | C18: Ask (or observe) workers involved in installing, maintaining and removing temporary shoring to outline work practices for this task. Check these are consistent with the Code of Practice for Excavation (2005) and that safe work practices are observed at all times.
A19: 5.2.6 | B19: Ground Support Systems - In addition to clause 5.2.5 are the following safe work practices in place (where applicable) ? (authorised excavation permit, task specific SWMS, safety signage; secure access/egress, edge protection consistent with AS/NZS 4994.1 & 4994:3 barricading, authorised/inspected by geotechnical engineer) | C19: Ask the worker(s) to outline work practices where bench, batter or shoring ground systems are in place. Verify that this is in accordance with safe work practices and Australian Standards outlined in MCS5.2.6 potentially review this in the field if such work is occurring for further confirmation of safe work practices.
A20: 5.3.1 | B20: Geotechnical Monitoring and Inspection - Where trenches are > 1.5m is the geotechnical design and monitoring completed by a trained, competent and qualified worker (geotechnical engineer) ? What are the requirements for geotechnical monitoring and inspection? | C20: Review and verify that designer of any trenches has approved qualifications of a geotechnical engineer and that any monitoring and inspection was determined by the geotechnical engineer in the design report and in accordance with AS 1726 (2017).
... A24: 5.4.3 | B24: Exclusion Zones and Access Control - Are exclusion zones established and documented in the sites vehicle movement plan ? Is this communicated to workers or any other person(s) who may be affected by the trench or excavation ? How is the exclusion zone deemed adequate in preventing cave in of the trench ? | C24: Review the site movement plan. Verify that an exclusion zones exists which is effective in preventing trench collapse and it includes all factors impacting the trench. Ask a selection of workers to outline site vehicle movement plan to verify the effectiveness of site communication regarding exclusion zones.

Sheet MCS 6
B2: Minimum Control Standard - Explosive Blasting | D2: Non Conformance (Major) | E2: Non Conformance (Major) - The absence of, or a significant failure to implement and/or maintain conformance to the clause criteria requirements.
D3: Non Conformance (Minor) | E3: Non Conformance (Minor) - A system weakness or deviation from the clause criteria requirements which could lead to a major non-conformance if not addressed.
D4: Observation | E4: Observation - An observed deviation or minor oversight from an otherwise well-implemented process meeting the clause criteria requirements.
D5: Conformance | E5: Conformance - Conformance and implementation of the clause criteria requirements.
D6: Not Applicable | E6: Not Applicable - The clause has been identified as not applicable during the audit.
A8: MCS Clause No: | B8: Evaluation Question | C8: Possible Verification (Field) | D8: Compliance | E8: Auditor Comment (Compliance or Identified Deficiency)
A9: 6.1.1 | B9: Training, Competency and Awareness - Does the blast controller have the appropriate qualifications and training to perform this task (including shotfirer) ? Does the blast controller perform the following functions; manage the exclusion zone, complete blast checklist, conducts checks on the blast guard and perform siren runs pre-blast to give the shot firer the all clear ? | C9: Where available at pre-blast, discuss with the blast controller his duties in the management and control of the blast prior to initiation. Where this is not possible, review the Blast Management Plan and consult with the Contractor.
A10: 6.1.2 | B10: Training, Competency and Awareness - Does the shotfirer hold a current shotfirer license issued by the DMIRS ? In addition does the shotfirer hold a explosives drivers license and the appropriate licences when blasting inside or outside of a town's perimeter ? | C10: Review training records of the shotfirer and the qualifications of the person transporting the explosives. Check these details are detailed in the Blast Management Plan and are in accordance with the Dangerous Good Safety (Explosives) Regulation 2007:
A11: 6.1.3 | B11: Training, Competency and Awareness - The worker who transports, stores and handles explosives must have a Explosives Driver’s License and the “Store, Handle and Transport Explosives” qualification ? | C11: Review training records and or the Blast Management Plan to ensure the appropriate workers hold the required qualifications and competencies.
A12: 6.1.4 | B12: Training, Competency and Awareness - Does the company who are conducting the blasting activity have a permit (Regulation 131) from the Local Government of where the blasting is to occur ? Does the company have the appropriate level of insurance approved by the Local Government ? | C12: Review the Blast Management Plan to ensure the blast permit is documented and a copy of the permit is verified as well as the insurances.
A13: 6.1.5 | B13: Training, Competency and Awareness - Has the company completed and documented an explosive blast risk assessment, which must be specific to the blasting activities being undertaken ? | C13: Review the blast risk assessment, discuss with the contractor the attendance of the risk assessment and review for quality.
A14: 6.1.6 | B14: Training, Competency and Awareness - Does the he Blast Management Plan Appendix A: Blast Management Plan and Records in AS 2187:2 (2006) (refer hyperlink) ? Has the Blast Management Plan has been approved by the Principal ? | C14: Review the Blast Management Plan submission to the (Superintendent / Project Manager) and verify with the nominated authority appointed by the Principal.
A15: 6.2.1 | B15: Explosive Transport, Storage and Handling - Does the worker who transports, handles and stores explosive do so in accordance with the relevant Acts, Standards and guidance material ? (refer to the clause criteria) | C15: Review the Blast Management Plan to ensure the Plan acknowledges compliance to the referenced standards in the clause. Discuss the safety precautions taken with the worker who transports handles and stores the explosives.
A16: 6.3.1 | B16: Planning and Charging - Is the safest method considered when deciding on the blast method to be used ? (i.e. lowest charge possible, reducing holes numbers fired on the same delay, using delays with sequential timing, stemming holes with suitable material and using low energy detonation cords). | C16: Review the blast method in the Blast Management Plan. Discuss with the Contractor how they determined the most appropriate (lowest charge) for conducting the blast.
A17: 6.3.2 | B17: Planning and Charging - Does the company measure vibration and air blast at three separate locations at each blasting location to minimise noise and airborne shock wave ? | C17: Review the vibration measuring method in the Blast Management Plan. Discuss with the contractor the vibration measurements taken to minimize shock wave and noise.
A18: 6.3.3 | B18: Planning and Charging - Is the proposed firing method included in the blast design ? Is the method of firing is non-electric (Nonel) or electrical components (not electric firing) and remote firing devices being used ? If not non-electric, how was this determined ? | C18: Review the firing method in the Blast Management Plan. Discuss with the Contractor the correct firing method is being used which must be reflected in the Plan. Where the stated method is not used, discuss with the contractor their risk based determination in using another method.
A19: 6.4.1 | B19: Blast Exclusion Zone and Access Control - Has a blast exclusion zone been established and is this documented in the blast management plan ? | C19: Review the Blast Management Plan to assess the risk based suitability of the exclusion zone. Where possible on site, assess the physical exclusion zone against the documented exclusion zone prior to blasting (i.e. demarcation areas, blast guard positioning)
A20: 6.4.2 | B20: Blast Exclusion Zone and Access Control - Are there appropriate means if delineating and demarcating the exclusion zone (i.e. safety signage, traffic control devices) to prevent workers or members of public from entering ? | C20: Review the Blast Management Plan to ensure delineation and demarcation is documented using the appropriate signage and traffic control devices to prevent access to the exclusion zone. Where possible on site prior to detonation, view the devices are in place and effectively set up.
... A27: 6.6.1 | B27: Safe Blast Initiation - Are safe work practices used by all workers involved in the blasting ? (i.e. upwind of blast fume, shotfirer sheltering, exclusion zones, two-way communications, advanced warning systems, fly rock protection for workers and MOP, suitable PPE, post blast inspection protocols, explosive storage & handling, method of loading holes) | C27: Where on site conduct walk around inspections and have worker discussion on the general safe work practices they following for blasting activities. Where this cannot be achieved, consult with the Contractor and review relevant information in the Plan.

Sheet MCS 7
B2: Minimum Control Standard - Above Ground Services | D2: Non Conformance (Major) | E2: Non Conformance (Major) - The absence of, or a significant failure to implement and/or maintain conformance to the clause criteria requirements.
D3: Non Conformance (Minor) | E3: Non Conformance (Minor) - A system weakness or deviation from the clause criteria requirements which could lead to a major non-conformance if not addressed.
D4: Observation | E4: Observation - An observed deviation or minor oversight from an otherwise well-implemented process meeting the clause criteria requirements.
D5: Conformance | E5: Conformance - Conformance and implementation of the clause criteria requirements.
D6: Not Applicable | E6: Not Applicable - The clause has been identified as not applicable during the audit.
A8: MCS Clause No: | B8: Evaluation Question | C8: Possible Verification (Field) | D8: Compliance | E8: Auditor Comment (Compliance or Identified Deficiency)
A9: 7.1.1 | B9: Training, Competency and Awareness - Are all workers who work near overhead electric lines trained and competent in the specific role or function associated with the work ? | C9: Select available workers completing work near overhead electrical lines and view relevant competencies / licences. Check the viewed competencies / licences against site training records.
A10: 7.1.2 | B10: Training, Competency and Awareness - Where workers are working in the vicinity of live overhead electrical apparatus where the network minimum approach distances may be impacted, do workers hold the nationally recognised qualification “Working Safely Near Live Electrical Apparatus as a Non-Electrical Worker” ? | C10: Observe work in the vicinity of live overhead electrical apparatus where the network minimum approach distances may be impacted. Select a number of workers engaged in this task. Check workers hold the qualification “Working Safely Near Live Electrical Apparatus as a Non-Electrical Worker”
A11: 7.1.3 | B11: Training, Competency and Awareness - Is a safety observer in place who holds the current qualification “Work as a Safety Observer / Spotter” where the network minimum approach distances may be impacted ? | C11: Observe works being conducted in close proximity to live overhead electrical lines where the network minimum approach distances may be impacted. Verify that a safety observer is present who holds the nationally recognised qualification “Work as a Safety Observer / Spotter”.
A12: 7.2.1 | B12: Safe Design and Planning - Have all of the hazards been risk assessed where work is conducted near overhead electric lines ? | C12: Observe work being conducted near overhead electric lines. Check all of the hazards been risk assessed as outlined in clause note 7.2.1
A13: 7.2.2 | B13: Safe Design and Planning - Have overhead electric lines been de-energised by the service provider where work is to be conducted in the “danger zone” of a overhead lines ? | C13: Observe workers. If work is being conducted in the “danger zone” of a live overhead power line check this has been de-energised by the service provider.
A14: 7.2.3 | B14: Safe Design and Planning - Where work cannot be completed outside of the danger zone, has the utility service provider contacted to obtain authorisation in accordance with their permit authorisation requirements ? | C14: Select workers involved in work near overhead power lines. Check that where work cannot be completed outside of the danger zone, the utility service provider has been contacted to obtain authorisation in accordance with their permit authorisation requirements
A15: 7.2.4 | B15: Safe Design and Planning - Where vegetation clearing is required in the vicinity of overhead electric lines, is the work conducted in accordance with the Code of Practice for Personnel Electrical Safety for Vegetation Control Work Near Live Power Lines (2012) ? | C15: Where vegetation clearing is required in the vicinity of overhead electric lines observe the work and verify that it is being conducted in accordance with the Code of Practice for Personnel Electrical Safety for Vegetation Control Work Near Live Power Lines (2012).
A16: 7.2.5 | B16: Safe Design and Planning - for all works conducted in the vicinity of overhead electric lines, has a risk assessment been completed ? Is the work being completed under a site and task specific SWMS ? | C16: Observe works conducted in the vicinity of overhead electric lines and verify that a formal risk assessment was completed. Assess if the works were completed under a site and task specific safe work method statement for the duration of the work.
A17: 7.3.1 | B17: Isolation of Overhead Electrical Services - Where work is being conducted in the danger zone of overhead electrical services, do workers treat as “live” unless confirmed by the utility service provider ? | C17: Select a group of workers. Check that if the works are within the danger zone of overhead electrical services, electrical lines are treated as “live”. Review documentary evidence provided by the utility provider.
A18: 7.3.2 | B18: Isolation of Overhead Electrical Services - Are workers aware of all the requirements for authorisation, access control and the requirements of working under the authority of the service provider understood ? | C18: Observe work where an overhead electrical service is to be isolated and de-energised. Verify documented evidence that workers understand all the requirements for authorisation, access control and the requirements of working under the authority of the service provider
A19: 7.4.1 | B19: Safe Work Practices for Overhead Electric Lines -If the risk of contact with overhead electric lines is present, is the work done in accordance with the requirements of the Utility Providers Code of Practice (2016) and the guidance material published by Safe Work Australia ? | C19: Observe work where overhead electric lines are present. Verify that the work is being done in accordance with the requirements of the utility provider (where specified), the Utility Providers Code of Practice (2016) and material published by Safe Work Australia (refer to clause note 7.4.1)
A20: 7.4.2 | B20: Safe Work Practices for Overhead Electric Lines - Where mobile plant, cranes etc. are used in the vicinity of overhead electric lines, have the applicable control standards been applied collectively ? | C20: Select mobile plant workers where mobile plant, cranes etc. are used in the vicinity of overhead electric lines. Check the applicable control standards been applied collectively

Sheet MCS 8
B2: Minimum Control Standard - Below Ground Services | D2: Non Conformance (Major) | E2: Non Conformance (Major) - The absence of, or a significant failure to implement and/or maintain conformance to the clause criteria requirements.
D3: Non Conformance (Minor) | E3: Non Conformance (Minor) - A system weakness or deviation from the clause criteria requirements which could lead to a major non-conformance if not addressed.
D4: Observation | E4: Observation - An observed deviation or minor oversight from an otherwise well-implemented process meeting the clause criteria requirements.
D5: Conformance | E5: Conformance - Conformance and implementation of the clause criteria requirements.
D6: Not Applicable | E6: Not Applicable - The clause has been identified as not applicable during the audit.
A8: MCS Clause No: | B8: Evaluation Question | C8: Possible Verification (Field) | D8: Compliance | E8: Auditor Comment (Compliance or Identified Deficiency)
A9: 8.1.1 | B9: Training, Competency and Awareness - Are workers who conduct underground service and utility location trained and competent ? ( RTO qualification “Use Locating Devices") | C9: Review a selection of workers who conduct underground service and utility location and view relevant competencies / licences. Check the viewed competencies / licences against site training records.
A10: 8.1.2 | B10: Training, Competency and Awareness - Are mobile plant operators who excavate in the vicinity of underground services and utilities confirmed as trained and competent for the specific item of mobile plant they are operating ? | C10: Review a selection of workers and verify that all mobile plant operators who excavate in the vicinity of underground services and utilities are trained and competent for the specific item of mobile plant performing the excavation work and hold appropriate specific HME competencies
A11: 8.1.3 | B11: Training, Competency and Awareness - Where a spotter is in place to perform the role of safety observer are they competent to perform the task ? Is the spotter given appropriate authority for the role ? (to stop the work when there is a risk from the movement of people, plant, equipment and contact with and/or damage to services) | C11: Review training records from workers who act as a safety observer for underground electrical work. Check they hold appropriate competencies for this role. Further verify by interviewing a worker who acts as a safety observer and ask them what training, experience and competencies they possess related to this role.
A12: 8.1.4 | B12: Training, Competency and Awareness - Are there adequate communication systems in place for the spotter to ensure their safety while performing spotter duties ? (pausing the task if the spotter cannot be sighted, when the spotter is changing or adjusting their position) | C12: Select mobile equipment operators who are guided by a safety observer during work near underground electrical services. Check the workers understanding of positive communication and safe work practices when working with a safety observer. Confirm this occurs and safe work practices are maintained.
A13: 8.2.1 | B13: Safe Design and Planning - Have underground utilities and services been identified during the project planning stage ? (i.e. contact Dial Before you Dig, contact Main Roads for design drawings, check with utility providers for updated drawings) | C13: Select workers involved in the project planning stage. Check underground utilities and services are identified. Verify safe design requirements are met before any work commences.
A14: 8.2.2 | B14: Safe Design and Planning - Are utility owners consulted in the planning phase for the works ? What procedures are in place where underground services are damaged or there is energy release or transfer ? Is the utility provider contacted where services are damaged ? | C14: Select workers involved in the project planning stage for underground works. Check that utility owners are consulted and any direction they provide is followed by the contractor.
A15: 8.3.1 | B15: Service Location and Exploratory Boring Practices (Potholing) -Does underground service location equipment have a current certificate of calibration ? Is the equipment serviced and maintained in accordance with manufacturer specifications ? | C15: Review documentation related to underground location devices. Verify they have a current certificate of calibration and are serviced according to manufacturers specifications.
A16: 8.3.2 | B16: Service Location and Exploratory Boring Practices (Potholing) - Are the risks associated with being unable to accurately identify or locate services known by service locators ? (inaccurate drawings - depth and direction, inaccurate reference points, ground movement; boundary changes, obstacles underground, no DBYD listings) | C16: Select workers using underground location devices. Check accurate location of underground services occurs. Verify that a range of factors are/were considered resulting in accurately location of underground services.
A17: 8.3.3 | B17: Service Location and Exploratory Boring Practices (Potholing) - Are underground services and utilities re-evaluated prior to excavation subsequent to identification during the planning stage ? (i.e. review design report, review drawings of location; contacting DBYD, utility detection, mark up of underground service route) | C17: Select workers using underground location devices. Check that the location of underground services is re-evaluated prior to excavation, and underground service routes marked in accordance with AS: 5488 (2009) Classification of Subsurface Utility Information Part 1: Subsurface Utility Information.
A18: 8.3.4 | B18: Service Location and Exploratory Boring Practices (Potholing) - Are safe work practices used when potholing ? (i.e. working under a SWMS & excavation permit, de-energising known electrical services, use of non-destructive penetration methods, correct digging techniques) | C18: Ask workers to describe Safe work practices used when potholing. Verify this conforms to the Utility Providers Code of Practice for Western Australia (2018).
A19: 8.3.5 | B19: Service Location and Exploratory Boring Practices (Potholing) - What practices are adopted if variance is noted in the location, depth or direction from supplied drawings or plans ? Are planners, designers and utility owners informed of the actual locations of utilities where variations are identified ? | C19: Select workers involved in Potholing. Check that if variance is detected between supplied plans and that observed by the worker during potholing, or a new service is identified, this new information is recorded and utility owners, planners and designers are informed where variations are identified.
A20: 8.3.6 | B20: Service Location and Exploratory Boring Practices (Potholing) - Are specific control measures are in place where power tools are required to break up concrete near electrical assets ? (i.e. worker trained in safe use of power tool, use of spotter, de-energise electrical service, location marked up, PPE, insulated earthed power tools) | C20: Select workers who use power tools near electrical assets. Confirm that suitable controls are in place which eliminate the risk of harm to the worker
... A32: 8.6.3 | B32: Safe Excavation near Water Pipes, Sewer Systems and Telecommunication Cables - Are safety precautions taken when excavating in the vicinity of underground telecommunication cables? (i.e. safe digging practices, follow minimum approach distances, contact utility provider when contacted or damaged) | C32: Select a worker involved with work near telecommunication cables. Confirm safe digging practices are followed; consultation with the utility owner occurs; all underground cables are regarded as electrically energised (until proven otherwise). Review and confirm this in SWMS/work permits.

Sheet MCS 9
B2: Minimum Control Standard - Pre-cast Tilt Up Concrete | D2: Non Conformance (Major) | E2: Non Conformance (Major) - The absence of, or a significant failure to implement and/or maintain conformance to the clause criteria requirements.
D3: Non Conformance (Minor) | E3: Non Conformance (Minor) - A system weakness or deviation from the clause criteria requirements which could lead to a major non-conformance if not addressed.
D4: Observation | E4: Observation - An observed deviation or minor oversight from an otherwise well-implemented process meeting the clause criteria requirements.
D5: Conformance | E5: Conformance - Conformance and implementation of the clause criteria requirements.
D6: Not Applicable | E6: Not Applicable - The clause has been identified as not applicable during the audit.
A8: MCS Clause No: | B8: Evaluation Question | C8: Possible Verification (Field) | D8: Compliance | E8: Auditor Comment (Compliance or Identified Deficiency)
A9: 9.1.1 | B9: Safe Design and Planning - Do the pre-cast elements meet specific design criteria in accordance with the relevant Australian Standards ? (including but not limited to AS 3850.1 (2015), AS 3600 (2018) and Section 4: Design Considerations of the National Code of Practice for Pre-cast, Tilt-up and Concrete Elements) | C9: Review the designers engineering drawings to confirm the design engineer has documented manufacturing compliance to Australian standards which meets Code of Practice requirements.
A10: 9.1.2 | B10: Safe Design and Planning - Has the manufacturer met the safe design duties in accordance with AS 3850.1 (2011) Prefabricated Concrete Elements. ? Has the Worksafe Commissioner been notified of the manufacture 10 days prior to the intention of element lifting ? | C10: Review the design drawings and safe erection design plan to confirm standard compliance. Review the notification to the Worksafe Commissioner in accordance with regulatory requirements.
A11: 9.1.3 | B11: Safe Design and Planning - Are compliance certificates completed in accordance with AS 3850.1 (2011) Prefabricated Concrete Elements and verified prior to arrival on site ? | C11: Review the compliance certificates of the pre-cast elements. Ask the Contractor that a verification of the certificates was completed prior to transport to site.
A12: 9.1.4 | B12: Safe Design and Planning - Has a Safe Erection Design Plan must be developed by a design engineer in consultation with the manufacturer, Contractor and Sub-contractors (erector) ? Has the Safe Erection Design Plan been authorised by the Principal Contractor ? | C12: Review the safe erection design plan to ensure the Contractor has authorised the plan. Review the plan to ensure all stakeholders were consulted by the design engineer.
A13: 9.1.5 | B13: Safe Design and Planning - Does the Safe Erection Design Plan include specific design information from the design engineer ? (panel erection sequence, orientation and element position, configuration of erection braces, brace footings, strength of the brace footings, levelling shims and requirements for grouting). | C13: Review the plan to ensure the specified design information is included in the plan.
A14: 9.1.6 | B14: Safe Design and Planning - Have the risks of transportation and storage been assessed from initial transit point to arrival on site ? | C14: Review the risk assessment to ensure the hazards associated with the transportation of elements have been considered and controls implemented to prevent risks to members of public and site workers.
A15: 9.1.7 | B15: Safe Design and Planning - Has heavy vehicle chain of responsibility been undertaken with relevant approvals and notifications (where applicable) ? | C15: Where oversize loads are transported, have applicable permits been attained from the heavy vehicle services branch in association with a heavy vehicle transportation plan.
A16: 9.2.1 | B16: Training, Competency and Awareness - Do worker have the relevant HRWL's for their specific role and function in the erection team ? (incl. Rigger: HRWL, Dogman, HRWL Crane Operator, HRWL for the Crane which will lift the pre-cast elements, Supervisor: Supervise Tilt-Up Work, All Workers: Identify Requirements for Safe Tilt-up Work (all tilt-up team members) | C16: Discuss with erection crew team members their qualifications for the specific role and function they will be performing. Review training records to validate qualifications.
A17: 9.3.1 | B17: Mechanical Integrity of Crane - Does the Crane which lifts pre-cast elements meet the requirements of Section 15 - Crane and Lifting Operations ? (MCS 15 must be completed where a crane lifts pre-cast elements). | C17: Review the compliance requirements of operation of cranes in MCS 15.
A18: 9.4.1 | B18: Integrity of Lifting Equipment - Does the selected rigging equipment intended to lift the elements have the capacity to lift the intended loads ? Are the rigging configurations detailed in the Safe Erection Design Plan ? | C18: Review the critical lift plan and rigging equipment register to ensure load capacity can be achieved. Review the Safe Erection Design Plan to check whether the rigging equipment configurations is in alignment with the critical lift plan.
A19: 9.4.2 | B19: Integrity of Lifting Equipment - Do the materials, components and equipment, which lift and support pre-cast elements meet structural design standards compliant with AS 1111.1 (2015), AS 1252 (1996) and Section 2.5 of AS3850.2 (2015) ? (this includes lifting inserts, post install brace inserts, bolts, cast in fixings and brace inserts) | C19: Review the compliance certificates to confirm compliance with structural design standards of the stated Australian Standards.
A20: 9.4.3 | B20: Integrity of Lifting Equipment - Is all lifting equipment listed on a lifting equipment register and is the lifting gear clearly and permanently marked ? (in accordance with AS 4991 (2004) Lifting Devices and Section 8: AS 2550.1 (2011) ? | C20: Rigging equipment must be inspected prior to use, paying specific attention to damage and excessive wear. Where this has been identified, the rigging equipment must be tagged out of service and not form part of element lifting.
... A28: 9.6.5 | B28: Safe Execution of the Design Plan - Where final fixing position is achieved, have inspections been completed to ensure the integrity prior to brace removal ? (includes: braces inspected on a weekly basis where still propped or after extreme weather when propped, inspection by design engineer prior to brace removal) | C28: Review inspection records and the frequency of inspections. Ask workers what protocols are in place when faults are identified during the inspection process. Where braces have been removed, review the final inspection report to confirm the design engineer has authorised brace removal.

Sheet MCS 10
B2: Minimum Control Standard - Traffic Management (Interaction with Live Traffic) | D2: Non Conformance (Major) | E2: Non Conformance (Major) - The absence of, or a significant failure to implement and/or maintain conformance to the clause criteria requirements.
D3: Non Conformance (Minor) | E3: Non Conformance (Minor) - A system weakness or deviation from the clause criteria requirements which could lead to a major non-conformance if not addressed.
D4: Observation | E4: Observation - An observed deviation or minor oversight from an otherwise well-implemented process meeting the clause criteria requirements.
D5: Conformance | E5: Conformance - Conformance and implementation of the clause criteria requirements.
D6: Not Applicable | E6: Not Applicable - The clause has been identified as not applicable during the audit.
A8: MCS Clause No: | B8: Evaluation Question | C8: Possible Verification (Field) | D8: Compliance | E8: Auditor Comment (Compliance or Identified Deficiency)
A9: Approvals | B9: Has the Traffic Management Plan (TMP) been prepared by a person holding a Main Roads WA accreditation in Advanced Worksite Traffic Management (AWTM), been signed off by the person along with his/her name, AWTM certificate number and date of endorsement of the plan and has the plan been reviewed by someone other than the author? | C9: Refer to Traffic Management Plan (TMP), Traffic Guidance Scheme, Traffic Risk Assessment or in Temporary Traffic Management TTM) field activities conducted by the Traffic Controllers (TC).
A10: Approvals | B10: Does the TMP contain time information (date and duration), a statement confirming that the person preparing the plan (or a person under their direction) attended a site visit prior to preparing the plan and has the author been made aware of the staging and details of work (adequately covered)? | C10: Refer to Traffic Management Plan (TMP), Traffic Guidance Scheme, Traffic Risk Assessment or in Temporary Traffic Management TTM) field activities conducted by the Traffic Controllers (TC).
A11: Approvals | B11: Does the TMP involve “complex traffic arrangements” as defined in the Code of Practice and if so, has the Traffic Management Plan been endorsed by a Roadworks Traffic Manager (RTM)? | C11: Refer to Traffic Management Plan (TMP), Traffic Guidance Scheme, Traffic Risk Assessment or in Temporary Traffic Management TTM) field activities conducted by the Traffic Controllers (TC).
A12: Approvals | B12: Is the Traffic Guidance Schemes (TGS) included in the TMP, appropriate for the worksite and does the TGS have a unique reference number, dated and signed by an AWTM accredited person? | C12: Refer to Traffic Management Plan (TMP), Traffic Guidance Scheme, Traffic Risk Assessment or in Temporary Traffic Management TTM) field activities conducted by the Traffic Controllers (TC).
A13: Approvals | B13: Have the police, emergency services and other effected stakeholders been consulted and informed of the works and where the works are in the vicinity of railway crossings, have the necessary approvals (including conditions) been obtained from the rail authority? | C13: Refer to Traffic Management Plan (TMP), Traffic Guidance Scheme, Traffic Risk Assessment or in Temporary Traffic Management TTM) field activities conducted by the Traffic Controllers (TC).
A14: Active Worksites | B14: Where there is more than one active worksite as part of the works, are there approved (TGSs for each of the active worksites? | C14: Refer to Traffic Management Plan (TMP), Traffic Guidance Scheme, Traffic Risk Assessment or in Temporary Traffic Management TTM) field activities conducted by the Traffic Controllers (TC).
A15: Site Constraints/Impacts | B15: Does the TMP contain the following information traffic volumes and road function, general responsibilities (project manager, client contact, supervisor, road authority, TMP personnel, traffic controllers and the name of the principal contractor? | C15: Refer to Traffic Management Plan (TMP), Traffic Guidance Scheme, Traffic Risk Assessment or in Temporary Traffic Management TTM) field activities conducted by the Traffic Controllers (TC).
A16: Roles and Responsibilities | B16: Where applicable does the TMP detail information for emergency services, dangerous goods, damage to services, failure of services and will the requirements of the TMP be communicated to all workers at site inductions? | C16: Refer to Traffic Management Plan (TMP), Traffic Guidance Scheme, Traffic Risk Assessment or in Temporary Traffic Management TTM) field activities conducted by the Traffic Controllers (TC).
A17: Inspections and Record Keeping | B17: Does the TMP detail the responsibilities of implementing the TMP and evaluating its effectiveness and the frequency of auditing? | C17: Refer to Traffic Management Plan (TMP), Traffic Guidance Scheme, Traffic Risk Assessment or in Temporary Traffic Management TTM) field activities conducted by the Traffic Controllers (TC).
A18: Inspections and Record Keeping | B18: Does the TMP detail the daily routine tasks of inspecting and maintaining the traffic control devices on-site and keeping records? | C18: Refer to Traffic Management Plan (TMP), Traffic Guidance Scheme, Traffic Risk Assessment or in Temporary Traffic Management TTM) field activities conducted by the Traffic Controllers (TC).
A19: Communication and Consultation | B19: Have all relevant stakeholders been consulted and informed of the works and has a communication plan been developed to appropriately inform the public? In addition, is there a mechanism for registering complaints? | C19: Refer to Traffic Management Plan (TMP), Traffic Guidance Scheme, Traffic Risk Assessment or in Temporary Traffic Management TTM) field activities conducted by the Traffic Controllers (TC).
A20: Risk Assessment | B20: Has a risk assessment been completed and does it include site specific risks, control measures, inherent and residual risk ratings and are risks rated as HIGH, successfully controlled and authorised? | C20: Refer to Traffic Management Plan (TMP), Traffic Guidance Scheme, Traffic Risk Assessment or in Temporary Traffic Management TTM) field activities conducted by the Traffic Controllers (TC).
... A34: Traffic Controllers (Safety Specific) | B34: Are there hazards present on the Site which traffic controllers are unaware of that have the potential to cause injury or harm ? | C34: Refer to Traffic Management Plan (TMP), Traffic Guidance Scheme, Traffic Risk Assessment or in Temporary Traffic Management TTM) field activities conducted by the Traffic Controllers (TC).

Sheet MCS 11
B2: Minimum Control Standard - Mobile Plant Operation | D2: Non Conformance (Major) | E2: Non Conformance (Major) - The absence of, or a significant failure to implement and/or maintain conformance to the clause criteria requirements.
D3: Non Conformance (Minor) | E3: Non Conformance (Minor) - A system weakness or deviation from the clause criteria requirements which could lead to a major non-conformance if not addressed.
D4: Observation | E4: Observation - An observed deviation or minor oversight from an otherwise well-implemented process meeting the clause criteria requirements.
D5: Conformance | E5: Conformance - Conformance and implementation of the clause criteria requirements.
D6: Not Applicable | E6: Not Applicable - The clause has been identified as not applicable during the audit.
A8: MCS Clause No: | B8: Evaluation Question | C8: Possible Verification (Field) | D8: Compliance | E8: Auditor Comment (Compliance or Identified Deficiency)
A9: 11.1.1 | B9: Training, Competency and Awareness - Are mobile plant operators trained and competent for the specific item of plant they are operating ? (i.e. relevant RTO training, any HRWL, current WA Driver License and VOC). | C9: (Mobile Plant Inspection) Select a number of mobile plant operators and discuss there qualifications for the mobile plant which they are operating and verify their training records (i.e. training matrix)
A10: 11.2.1 | B10: Inspection and Pre-operational Requirements - Has a pre-mobilisation assessment been completed prior to mobilising to site ? (i.e. registration plant history, log book, maintenance records, operator manual, plant risk assessment) | C10: (Mobile Plant Inspection) In consultation with the operator, check the mobile plant has the required documentation and review records to check the information was assessed during pre-mobilisation.
A11: 11.2.2 | B11: Inspection and Pre-operational Requirements - Is the mobile plant in good general condition ? (chassis, body, Cabin, Steps and Handrails in good condition, doors, door locks and latches must be secure attachments and tools, windows, service brakes, suspension, steering, tyres, tracks, controls and switches etc.) | C11: (Mobile Plant Inspection) Check the condition of the mobile plant by conducting a walk around assessment to check the mobile plant is in a good general condition.
A12: 11.2.3 | B12: Inspection and Pre-operational Requirements - Are protective structures in place for the mobile plant being operated on the site ? (including ROPS, FOPS and TOPS) | C12: (Mobile Plant Inspection) Check the plant has the required protection mechanisms in place to protect workers. Review the OEM manual and plant risk assessment for verification of the protective structures.
A13: 11.2.4 | B13: Inspection and Pre-operational Requirements - Are seatbelts fitted to earthmoving machinery with roll over protection systems ? | C13: (Mobile Plant Inspection) Check mobile plant has a fitted seat belt which is in good general condition. Review against the operators pre-start the seat condition has been checked prior to operation.
A14: 11.2.5 | B14: Inspection and Pre-operational Requirements - Is earthmoving machinery been fitted with specific safety features ? (E-stop devices, lights, reverse camera, mirrors, lights and reflectors, audible horn, reverse and travel alarms, rotating amber beacons, guarding, articulation joints, neutral start and all OEM safety equipment/hydraulic locks to operate as designed. | C14: (Mobile Plant Inspection) Check the mobile plant has the stated safety features affixed to the mobile plant and operating. Review pre-start records to identify any faults with these safety features.
A15: 11.2.6 | B15: Inspection and Pre-operational Requirements - All hydraulic quickhitches compliant and all attachments correctly matched ? (marked with unique identification mark, manufacturer’s name and model, maximum rated attachment capacity, mass of the hitch and the lift point capacity and quickhitches are fully automated double locking hydraulic to prevent swing) | C15: (Mobile Plant Inspection) Check the mobile plant hydraulic quick hitches to ensure they are correctly matched with the stated identification marking and double locking mechanism.
A16: 11.2.7 | B16: Inspection and Pre-operational Requirements - Is any plant used as a crane ? (i.e. backhoes, loaders and excavators) Do lifting components (hooks and lugs) have a manufacturer’s identification and Safe Work Limit (SWL) ? | C16: (Mobile Plant Inspection) Select an item(s) of mobile plant which has fitted lifting devices and check the SWL capacity of lifting attachments.
A17: 11.2.8 | B17: Inspection and Pre-operational Requirements - Electrical systems and electrical wiring free from any damage or corrosion ? Is the battery securely mounted and free from any cracks or leaks ? Are electrical wiring casings clipped in to prevent wearing and short circuit ? | C17: (Mobile Plant Inspection) Visually inspect electrical wiring systems on selected mobile plant to assess whether electrical wiring is clipped in and clipped in to any wire harnesses to prevent rubbing or ware marks which may cause electrical short circuit.
A18: 11.2.9 | B18: Inspection and Pre-operational Requirements - Are noise levels under exposure standards at operator ear position ? Is hearing protection worn by workers where required by OEM specifications (inside and outside cabin) ? | C18: (Mobile Plant Inspection) Discuss with the operator noise levels within the cabin and whether hearing protection is worn while operating. Where hearing protection signage is demarcated within the cabin it is a mandatory requirement during operation.
A19: 11.2.10 | B19: Inspection and Pre-operational Requirements - Are fire extinguishers fitted to mobile plant ? (4.5 kg (class ABE) tested and tagged, small extinguisher 1kg dry chemical (class ABE) in cabin) Is fire suppression fitted and operable ? | C19: (Mobile Plant Inspection) Inspect the fire extinguishers affixed to the mobile plant to identify the correct extinguisher is used and the inspection tag has been check for function and operation. Where a fire suppression system is fixed, check the condition and there are no obstructions for activation.
A20: 11.2.11 | B20: Inspection and Pre-operational Requirements - Is mandatory safety signage fitted to mobile plant ? (hearing protection signage, safe working load signage, electrical hazard signage: safe working distances: seat belt signage, hydraulic steering signage, confined space signage, dual control signage and water filled tyre signage) | C20: (Mobile Plant Inspection) - Check the safety signage on the selected items of mobile plant to ensure safety signage is clearly affixed (where applicable) to the specific item of mobile plant assessed.
... A43: 11.6.4 | B43: Safe Operation of Mobile Plant - Do mobile plant operators must use positive two way communication when passing other mobile plant, vehicles or equipment ? | C43: Discuss with workers how they pass other mobile plant and vehicles on site. Do they use a call up procedure as notification and authority to pass. Observe and listed to two way comms on site to verify application.

Sheet MCS 12
B2: Minimum Control Standard - Work On, Over or Adjacent to Water | D2: Non Conformance (Major) | E2: Non Conformance (Major) - The absence of, or a significant failure to implement and/or maintain conformance to the clause criteria requirements.
D3: Non Conformance (Minor) | E3: Non Conformance (Minor) - A system weakness or deviation from the clause criteria requirements which could lead to a major non-conformance if not addressed.
D4: Observation | E4: Observation - An observed deviation or minor oversight from an otherwise well-implemented process meeting the clause criteria requirements.
D5: Conformance | E5: Conformance - Conformance and implementation of the clause criteria requirements.
D6: Not Applicable | E6: Not Applicable - The clause has been identified as not applicable during the audit.
A8: MCS Clause No: | B8: Evaluation Question | C8: Possible Verification (Field) | D8: Compliance | E8: Auditor Comment (Compliance or Identified Deficiency)
A9: 12.1.1 | B9: Planning and Safe Design - Are the hazards associated with working on, over or adjacent to water evaluated ?(i.e. falling into water, drowning, swept away by fast moving water, falling into water with electrical equipment, being trapped under water by equipment or objects) | C9: Select workers who work on, over or adjacent to water. Check hazards and risks associated with this work are identified and controlled. Confirm that a comprehensive risk assessment encompassing all risks & controls has been completed
A10: 12.1.2 | B10: Planning and Safe Design - Has the risk assessment taken into account specific considerations for working on, over or adjacent to water ? (access/egress, frequency/duration of exposure to hazards, house keeping & equipment used, environmental conditions which may impact work and rescue, controls that eliminate or mitigate the risk) | C10: Review a selection of risk assessments from work on, over or adjacent to water. Check each risk assessment is comprehensive in identifying hazards and highlighting controls. Possible further field verification includes discussing with workers how risks and controls are identified.
A11: 12.1.3 | B11: Planning and Safe Design - Is the work planned to mitigate the risks to workers based on the risk assessment ? (implementation of controls measures, competent workers to the task, planning safe access/egress, rescue planning) | C11: Select workers who work on, over or adjacent to water. Review SWMS created for work on, over or adjacent to water and confirm it/they record comprehensive method planning, risk assessment and controls. Further verification could be to review the rescue plan for adequacy
A12: 12.1.4 | B12: Planning and Safe Design - Are access and egress arrangements provided and maintained where work activities are being undertaken on, over or adjacent to a water body ? | C12: Review planning or design documents and/or work activities being conducted on, over or adjacent to water. Confirm suitable and safe access/egress arrangements are in place. Determine if these support worker security, ongoing maintenance and emergency rescue.
A13: 123.1.5 | B13: Planning and Safe Design - Is temporary edge protection and barriers used where the provision of permanent protection is not available ? Are temporary edge protection and barriers compliant with the AS/NZS 4994 (2009) Temporary Edge Protection ? | C13: Review planning or design documents and/or work activities being conducted on, over or adjacent to water where there is no permanent edge protection. Confirm temporary edge protection and barriers are in place. Verify these comply with AS/NZS 4994 (2009) Temporary Edge Protection?
A14: 12.1.6 | B14: Planning and Safe Design - Is appropriate security, locks and signage installed to prevent access to unprotected edges ? Where work is carried out during the hours of darkness, is adequate lighting provided and maintained? | C14: Review planning or design documents and/or work activities being conducted on, over or adjacent to water and verify that access to an unprotected edge is prevented via security, locks and signage. Confirm that lighting is provided if works are conducted at night.
A15: 12.1.7 | B15: Planning and Safe Design - Is there appropriate PPE provided to prevent workers falling into water sources ? (i.e. if a falls risk is present is fall restraint system / fall arrestment system in place, are Lifejackets (PFDs) available (compliant with AS 4758.1 Personal Floatation Devices: General Requirements) | C15: Check SWMS/risk assessments for work on, over or adjacent to water. Confirm appropriate equipment and PPE are available for workers to control identified hazards. Further field verification includes observing workers in the field and confirm that equipment & PPE is available is suitable for work on/over water
A16: 12.1.8 | B16: Planning and Safe Design - Is equipment used for working on, over or adjacent to water stored, maintained, inspected and serviced on a regular basis and/or in accordance with manufacturer recommendation ? | C16: Check inspection, maintenance and service records for equipment used on, over or adjacent to water. Confirm these are in accordance with manufacturers guidelines. Review equipment and verify that current service tags exists outlining compliance with inspection, service and maintenance requirements.
A17: 12.1.9 | B17: Planning and Safe Design - Are lifejackets (PFD) worn by workers as a control measures for certain risk scenarios ? (i.e. on board any watercraft (including barges); installing scaffolding over a water source and personal fall protection equipment is required; working within two metres of an unprotected edge adjacent to a body of water) | C17: Select a worker(s) who work on, over or adjacent to water. Confirm that the worker dons the PFD in all compulsory situations, where the risk assessment identifies the risk of a worker drowning, and that this is documented in the SWMS
A18: 12.2.1 | B18: Training, Competency and Awareness - What training and competencies are in effect where workers work on, over or adjacent to water ? Does this include instruction on how to check, use and care for a PFD ? | C18: Select a supervisor. Verify they confirm workers competency in swimming prior to work on, over or adjacent to water. Verify that workers who use a Personal Floatation Device (PFD) are trained in how to check, use and care for a PFD
A19: 12.2.2 | B19: Training, Competency and Awareness - Do workers have suitable biological and infection control health management to prevent potential biological hazard exposure ? (e.g. Hepatitis B) from exposed to biological hazards (contaminated water) | C19: Select workers who work over water. Confirm that where there is an identified biological hazard from contaminated water and there is a risk of falling, verify that suitable health management is in place to prevent potential biological hazard exposure
A20: 12.3.1 | B20: Specific Control Measures and Safe Work Practices - Are control measures put in place where workers need to access and work within two metres of a water body without edge protection? | C20: Review work practice for work over water. Confirm effective control measures are in place such as documented in clause note 12.3.1
... A26: 12.3.7 | B26: Specific Control Measures and Safe Work Practices - Are tools and equipment used over water sources suitable for the task to prevent electrocution ? (use of pneumatic tools, battery powered tools or extra low voltage powered tools) | C26: Select workers who utilise tools and equipment used over water sources. Confirm safe work practice are followed (refer to clause note 12.3.7). Verify they are suitable for the task to prevent electrocution? (use of pneumatic tools, battery powered tools or extra low voltage powered tools)

Sheet MCS 13
B2: Minimum Control Standard - Vehicles and Driving | D2: Non Conformance (Major) | E2: Non Conformance (Major) - The absence of, or a significant failure to implement and/or maintain conformance to the clause criteria requirements.
D3: Non Conformance (Minor) | E3: Non Conformance (Minor) - A system weakness or deviation from the clause criteria requirements which could lead to a major non-conformance if not addressed.
D4: Observation | E4: Observation - An observed deviation or minor oversight from an otherwise well-implemented process meeting the clause criteria requirements.
D5: Conformance | E5: Conformance - Conformance and implementation of the clause criteria requirements.
D6: Not Applicable | E6: Not Applicable - The clause has been identified as not applicable during the audit.
A8: MCS Clause No: | B8: Evaluation Question | C8: Possible Verification (Field) | D8: Compliance | E8: Auditor Comment (Compliance or Identified Deficiency)
A9: 13.1.1 | B9: Training, Licensing and HVCoR - Do all worker have a current and valid Western Australian drivers license ? | C9: Select a number of workers on site operating light vehicles and ask to check their current drivers license. Check validity and date of expiration. Review against site training records as a verification check.
A10: 13.1.2 | B10: Training, Licensing and HVCoR - Where goods, materials, equipment or plant is being transported are load restraint guidelines followed ? (in accordance with the National Transport Commission - Load Restraint Guide (2018) and the National Transport Commission - Load Restraint Guide for Light Vehicles (2018)). | C10: Observe any heavy vehicle haulage on site and loads that are transported in light vehicles. Check that loads are restrained correctly in accordance with national guidelines. Where unavailable, discuss with workers who transport loads how loads are restrained and transported.
A11: 13.1.3 | B11: Training, Licensing and HVCoR - Are heavy vehicle chain of responsibilities duties complied with where applicable to the relevant Acts and Codes ? (includes evidence that all parties have met their HVCoR obligations, permits and approvals and HVCoR communication duties) | C11: Review records of delivery for heavy vehicle loads to site and ask the contractor project team of their responsibilities in respect to HVCoR for the delivery of plant, equipment or materials to site. Review any permits or approval where available as evidence.
A12: 13.1.4 | B12: Training, Licensing and HVCoR - Are all HVCoR responsibilities and requirements maintained in accordance with regulatory requirements ? (includes vehicle standards, vehicle maintenance, mass, dimension and loading of vehicles, speeding and driver fatigue, training in HVCoR responsibilities and reporting of incidents in accordance with regulatory requirements) | C12: Review HVCoR documentation to verify that regulatory requirements are identified and implemented for transportation of heavy vehicle loads to site.
A13: 13.2.1 | B13: Vehicle Maintenance and Inspection - Are the vehicles selected, equipped and maintained and fit for service for the intended load to be transported ? (meeting WA statutory requirements,, Australian Design Rules and vehicle safety standards). | C13: Select a number of which are used to transport loads and/or vehicles with loads insitu. Check the loads being transported are able to hold the weight and capacity and where loads are transported inside a vehicle, are cargo barriers fitted and/or loads restrained to prevent the load becoming a projectile.
A14: 13.2.2 | B14: Vehicle Maintenance and Inspection - Are all vehicles regularly maintained and serviced in accordance with manufacturer requirements ? | C14: Review servicing records of vehicles to ensure they are within their date for next service. Discuss with the project management team the servicing schedules of the fleet and how this applies to any sub-contractors under their control.
A15: 13.2.3 | B15: Vehicle Maintenance and Inspection - Do site based vehicles have specific and specification requirements for site ? (includes fully stocked first aid kit, reversing alarm, fire extinguisher and type change equipment, ROPS, UHF radio, revolving amber flashing beacons, 2 litres of potable water) | C15: Select a number of light vehicles to verify the vehicles are to site specifications and have the applicable safety features fixed to the vehicle and operational.
A16: 13.3.1 | B16: Journey Management - Is there a journey management system in place for extended travel time such as regional travel ? | C16: Discuss with workers how extended journeys are managed when extended journeys have to be completed.
A17: 13.3.2 | B17: Journey Management - A journey management plans used, documented and authorised for extended journeys ? (this may include electronic devices or systems used by Contractors). | C17: Where extended journeys are required, review journey management plans that have been completed for workers, or if an electronic system (telematics) is used, as how this system is applied.
A18: 13.3.3 | B18: Journey Management - Are there systems and process in place for effective journey management ? (routes, stops, hazards, clearly defining the route of travel, fit for purpose vehicles, pre-trip vehicle inspection, fatigue is managed, adequate provision for breakdowns/isolation). | C18: Review the journey management system and journey management plans. Review the application and process to ensure risks are managed, documented and recovery systems are in place.
A19: 13.3.4 | B19: Journey Management - Does the journey management plan include specific information for extended journeys ? (vehicle details, passenger details, contact information, destination and route, rest stops and positive check times and emergency response for overdue vehicles) | C19: Where extended journeys are undertaken, discuss with workers how the journey management system is applied and what control measures do they apply. Discuss with the project management team their role in the recovery of vehicles where incident management protocols are activated.
A20: 13,4,1 | B20: Safe Use and Operation of Vehicles - Are safe driving practices used by vehicle operators ? (includes properly seated with seat belts, no driving and using mobile phones, loose items are secured, free from drugs or alcohol, fatigue and journey management processes are followed) | C20: Observe light vehicle and heavy vehicle movement on site to check that workers using safe driving practices in and around site. Discuss with workers the rules and obligations which must be adhered to while using work vehicles.
... A22: 13.4.3 | B22: Safe Use and Operation of Vehicles - Although not a mandatory requirement do workers assist in vehicle accidents on the road network to support members of public ? | C22: As this is not a mandatory requirement and there is no obligation on a worker to assist in a vehicle accident. Discussion of whether they would assist with a worker or member of public accident may be asked as a measure of safety culture.

Sheet MCS 14
B2: Minimum Control Standard - Bushfire Management (Ignition Causing Bushfire) | D2: Non Conformance (Major) | E2: Non Conformance (Major) - The absence of, or a significant failure to implement and/or maintain conformance to the clause criteria requirements.
D3: Non Conformance (Minor) | E3: Non Conformance (Minor) - A system weakness or deviation from the clause criteria requirements which could lead to a major non-conformance if not addressed.
D4: Observation | E4: Observation - An observed deviation or minor oversight from an otherwise well-implemented process meeting the clause criteria requirements.
D5: Conformance | E5: Conformance - Conformance and implementation of the clause criteria requirements.
D6: Not Applicable | E6: Not Applicable - The clause has been identified as not applicable during the audit.
A8: MCS Clause No: | B8: Evaluation Question | C8: Possible Verification (Field) | D8: Compliance | E8: Auditor Comment (Compliance or Identified Deficiency)
A9: 14.1.1 | B9: Risk and Impact Assessment - Has a risk assessment been completed considering ignition sources and fuel loads which may contribute to the spread and intensity of a fire ? (i.e. engine fires, vegetation contact, exhaust sparks, re-heating bitumen, camp fires, hand held gas torches, mobile generators and welding units, power tools, chainsaws, welding, grinders). | C9: Where the risk of fire is present, discuss with a selection of workers. Establish how the fire risks are assessed based on identified site hazards. Observe potential ignition sources on site to see if they have been identified in the risk assessment.
A10: 14.1.2 | B10: Risk and Impact Assessment - Has specific consideration been given to ignition sources from mobile plant ? (i.e. tramming of excavators and other tracked machinery, grading on hard surfaces, rock breakers, skid steers, scrapers etc. where ignition from metal on rock may occur). | C10: Observe the movement of mobile plant on site and assess whether ignition hazards are present. Review the risk assessment for verification the hazards have been identified. Discuss with workers who may cause ignition from mobile plant their understanding of flinting from mobile plant.
A11: 14.1.3 | B11: Risk and Impact Assessment - Have all of the causal factors, preventative and mitigative controls been evaluated and documented in the Emergency Management Plan ? | C11: Select an emergency response workers. Review the emergency management plan against the project risk assessment. Confirm preventative and mitigative controls are adequate to mitigate identified fire risk.
A12: 14.1.4 | B12: Risk and Impact Assessment - Has the risk assessment considered the potential impact on people, the environment, the community, assets / infrastructure and reputation ? | C12: Review the project risk assessment. Confirm external site impacts have been considered. Discuss with the worker(s) how these additional impacts are considered as part of the works risk assessment.
A13: 14.2.1 | B13: Warnings and Regulatory Notices - Are the requirements of regulatory notification in place under total fire ban conditions in accordance with DFES requirements ? (DFES online notification for specific work criteria) | C13: Confirm with workers that DFES notifications are managed on site where notification is required under the Bushfire Act.
A14: 14.2.2 | B14: Warnings and Regulatory Notices - Is there provision for and a system in place for notifying district or regional duty officers where work is conducted within 3km of managed land where a total fire ban is in effect ? (refer full clause criteria) | C14: Ask workers how district and regional duty officers are notified where the 3km notification is required. Confirm the notification system and that this is managed on site.
A15: 14.2.3 | B15: Warnings and Regulatory Notices - Where the activity or works does not meet the DFES total fire ban requirements, is there a system in place for obtaining and total fire ban exemption ? | C15: Ask the project management team how works under total fire ban are managed and the requirements for obtaining an exemption where required under DFES regulations and Bushfire Act.
A16: 14.2.4 | B16: Warnings and Regulatory Notices - Is there a system in place for checking with local government the current harvest and vehicle movement bans in consultation with the local government Bushfire Control Officer or Ranger ? | C16: Discuss with workers Warnings and Regulatory Notices and how bans are managed on site. Confirm harvest and vehicle movement bans are verified with local government.
A17: 14.2.5 | B17: Warnings and Regulatory Notices - Is there a system in place for enacting on bushfire alerts and warnings issued by DFES and are there documented protocols in the Emergency Management Plan to manage the impact of fires ? | C17: Review site procedures for notifications of bushfire alerts in the vicinity. Confirm DFES bushfire alerts are detailed in the Emergency Management Plan (where applicable) and with established protocols in the event of a bushfire.
A18: 14.3.1 | B18: Training, Competency and Awareness - Are workers trained in the required protocols for fires and specific control measures ? (basic bushfire / fire ignition awareness (regional works), use of fire extinguishers, fire blankets and hoses, fire watch for hot works, hot work permit training, fire watch spotters for high risk activities identified in the fire risk assessment) | C18: Discuss with a selection of workers safety protocols in place in the event of a fire on site or in the vicinity. Confirm workers receive training in the use of fire controls for general purposes. Review hot work permits and confirm the permit against clause requirements.
A19: 14.4.1 | B19: Fire Prevention and Mitigation of Impact - Where a fire has ignited are there mitigative controls measures in place to manage and contain the fire ? | C19: Review the works WHS risk assessment and the mitigative control measure for fire risks on site. Confirm stated controls against mitigative fire controls are in place on site.
A20: 14.4.2 | B20: Fire Prevention and Mitigation of Impact - Are specific mitigative controls in place for mobile plant activities identified as a high risk of igniting a fire ? (fuel source management, fire blankets or engineered spark minimisation, continuous or periodic water spraying in high risk areas, machinery maintenance programs, firefighting equipment on machinery (water cannon) | C20: Observe the potential ignition sources from mobile plant and potential fuel loads. Select a mobile plant operator. Confirm mitigative controls are in place to minimise ignition and contain a fire in the event of ignition from mobile plant.
... A28: 14.7.2 | B28: Specific Fire Personal Protective Equipment - Where the provision of fire specific PPE is not required or practical, are other preventative fire controls in place and implemented by workers ? | C28: Discuss with workers the fire fighting capability of site (where at risk). Confirm fire support is provided in the event of a fire including trained workers documented in the Emergency Management Plan.

Sheet MCS 15
B2: Minimum Control Standard - Crane and Lifting Operations | D2: Non Conformance (Major) | E2: Non Conformance (Major) - The absence of, or a significant failure to implement and/or maintain conformance to the clause criteria requirements.
D3: Non Conformance (Minor) | E3: Non Conformance (Minor) - A system weakness or deviation from the clause criteria requirements which could lead to a major non-conformance if not addressed.
D4: Observation | E4: Observation - An observed deviation or minor oversight from an otherwise well-implemented process meeting the clause criteria requirements.
D5: Conformance | E5: Conformance - Conformance and implementation of the clause criteria requirements.
D6: Not Applicable | E6: Not Applicable - The clause has been identified as not applicable during the audit.
A8: MCS Clause No: | B8: Evaluation Question | C8: Possible Verification (Field) | D8: Compliance | E8: Auditor Comment (Compliance or Identified Deficiency)
A9: 15.1.1 | B9: Training, Competency and Awareness - Are Crane operators trained and competent ? ( relevant HRWL for the Crane intended for use, qualification from a registered Worksafe HRWL assessor (specific class criteria) WA Driver License and VOC completed) | C9: Select available Crane operators and view relevant competencies / licences. Check the viewed competencies / licences against site training records.
A10: 15.1.2 | B10: Training, Competency and Awareness - Are riggers and dogmen trained and competent ? (relevant HRWL for the specific function i.e. rigging configuration, VOC) | C10: Select available riggers / dogmen and view relevant competencies / licences. Check the viewed competencies / licences against site training records.
A11: 15.1.3 | B11: Training, Competency and Awareness - Where a Crane is operating in proximity to live overhead electric lines, do the workers hold the current qualification “Working Safely Near Live Electrical Apparatus as a Non-Electrical Worker” ? | C11: Observe Crane activities on site for potential conflict point with overhead lines. Ask if any Crane operation is conducted or will be conducted in the vicinity of overhead lines. Where this is applicable discuss the training requirements (per clause) of workers who operate near overhead electric lines.
A12: 15.1.4 | B12: Training, Competency and Awareness - Where working in the vicinity of overhead electric lines, are they working in accordance with the network minimum approach distances and is there a spotter in place who holds the “Work as a Safety Observer / Spotter” qualification ? | C12: Where a Crane is being operated in the vicinity of overhead electric lines, observe whether minimum approach distances are maintained. Observe whether a dedicated spotter is in place. Where not in operation, discuss with project management team how Cranes are managed near overhead lines.
A13: 15.1.5 | B13: Training, Competency and Awareness - Do workers who operate vehicle loading cranes have the relevant qualifications to perform the task ? (CV) HRWL if the capacity is greater than 10 metric tonnes. less than 10-meter tonnes, requires a VOC) | C13: Verify the workers competencies where vehicle loading cranes are used and where applicable HRWL. Check the qualifications against the site training records for verification.
A14: 15.1.6 | B14: Training, Competency and Awareness - Where jib attachments are used on mobile plant where the capacity is greater than 3 tonnes, does the operator hold a current CN HRWL and has been VOC'd ? | C14: Discuss with workers mobile plant which is used as a lifting device. Check capacity rating of the jib attachment. Where > 3 tonne capacity verify operator training records.
A15: 15.1.7 | B15: Training, Competency and Awareness - Where a forklift jib attachments is used where the capacity is greater than 3 tonnes, does the operator hold a current CN HRWL and has been VOC'd ? | C15: Verify whether forklifts are on site and whether used as a lifting device. Check capacity rating of the jib attachment, where > 3 tonne capacity verify operator training records.
A16: 15.1.8 | B16: Training, Competency and Awareness - Have the risks been considered and a documented assessment completed on the potential impacts of crane activities ? (safety of personnel and members of public, expected fall and spread (drop zone assessment) overhead obstructions, access/egress, VMP, utilities, structures, ground conditions etc..). | C16: Review the project risk assessment and verify the hazards associated with Crane operation have been assessed. Where lifting operations are in effect, observe that hazards are controlled and the risks are managed.
A17: (Crane Inspection) | B17: Inspection and Mechanical Integrity of Crane - Is there a preventative maintenance program in place for Cranes ? (maintenance to manufacturer OEM, parts replacement identical or equivalent, in a secure location for maintenance and fundamentally stable, brakes applied and chocked (where necessary) and maintained by a trained and competent fitter) | C17: Discuss with Crane operator the maintenance conducted on the Crane and review records. Where Crane maintenance is conducted on site (i.e. breakdown maintenance) discuss how Cranes are secured and fundamentally stable prior to maintenance.
A18: 15.2.2 | B18: Inspection and Mechanical Integrity of Crane - Are inspections carried out in accordance with OEM and Australian Standard requirements ? (routine inspections, periodic third party and major inspections) | C18: (Crane Inspection) Review Crane inspection records to verify inspection have been maintained. Verify against AS frequency and OEM specific requirements.
A19: 15.2.3 | B19: Inspection and Mechanical Integrity of Crane - Where mechanical faults or safety features are not functioning, are Cranes stood down and tagged out of service ? | C19: (Crane Inspection) Review pre-starts of the Crane and verify that safety critical features have been checked prior to operation. Discuss with the Crane operator the functional testing prior to operation.
A20: 15.2.4 | B20: Inspection and Mechanical Integrity of Crane - Where modifications to any part of a crane have been undertaken, has an engineering assessment been completed prior to being placed back into service ? | C20: Discuss with the Crane operator if any modification have been made to critical safety features. Where this has occurred discuss how the Crane is deemed safe prior to being put back into service.
... A30: 15.4.6 | B30: Pre-operational Requirements - Is there an inspection regime in place for all lifting equipment which is completed as specific intervals by a trained and competent workers ? (i.e. HRWL Rigger). | C30: Review inspection records of lifting equipment and verify that a competent person completes the inspections.

Sheet MCS 16
B2: Minimum Control Standard - Dropped Objects from Height | D2: Non Conformance (Major) | E2: Non Conformance (Major) - The absence of, or a significant failure to implement and/or maintain conformance to the clause criteria requirements.
D3: Non Conformance (Minor) | E3: Non Conformance (Minor) - A system weakness or deviation from the clause criteria requirements which could lead to a major non-conformance if not addressed.
D4: Observation | E4: Observation - An observed deviation or minor oversight from an otherwise well-implemented process meeting the clause criteria requirements.
D5: Conformance | E5: Conformance - Conformance and implementation of the clause criteria requirements.
D6: Not Applicable | E6: Not Applicable - The clause has been identified as not applicable during the audit.
A8: MCS Clause No: | B8: Evaluation Question | C8: Possible Verification (Field) | D8: Compliance | E8: Auditor Comment (Compliance or Identified Deficiency)
A9: 16.1.1 | B9: Planning and Safe Design - Have the risks associated with objects (equipment, materials or tooling) falling from height been identified where a dropped object has the potential to impact workers or any other person in the line of fire. ? | C9: Review worksite safety controls for dropped objects and confirm that risks associated with objects (equipment, materials or tooling) falling from height have been identified where a dropped object has the potential to impact workers or any other person in the line of fire.
A10: 16.1.2 | B10: Planning and Safe Design - Do scaffold structure >4 meters include guardrails, guardrail infill panels, mid rails and toe boards where specified in the scaffold design plan in order to prevent an object falling from the scaffold ? | C10: Review the Scaffold plan. Confirm the risk from dropped objects have been considered and controlled in the design and construction. View and verify the Scaffold to determine if there is potential for an object to fall from the Scaffold and pose a safety risk to workers/the public
A11: 16.1.3 | B11: Planning and Safe Design - Where the scaffold design plan for a scaffold structure >4 meters specifies perimeter containment screens due to the risk of dropped objects, are the containment screens made of mesh or similar ? | C11: Review the Scaffold plan (for scaffolds > 4m). Confirm installation of containment screens to eliminate the risk of dropped objects. Confirm the scaffold design engineer has considered the effects of wind loading and the weight of the screens as documented in the scaffold design plan.
A12: 16.1.4 | B12: Planning and Safe Design - Has the installation, alteration or dismantling of containment nettings or screens been done in accordance with the scaffold plan ? Is this completed by trained and competent scaffold workers with the relevant HRWL ? | C12: Select workers involves in scaffold erection. Confirm the installation, alteration or dismantling of containment nettings or screens was done in accordance with the scaffold plan. Verify that it was completed by trained and competent scaffold workers with the relevant HRWL
A13: 16.1.5 | B13: Planning and Safe Design - If catch platforms or safety nets are installed on a scaffold structures >4 meters, has the erection, alteration or dismantling been done in accordance with the scaffold plan ? | C13: Review the Scaffold plan and verify that catch platforms/safety nets have been erected, altered or dismantled consistent with the Scaffold plan and manufacturers instructions.
A14: 16.1.6 | B14: Planning and Safe Design - Where catch platforms are used on scaffold structures, are they design rated and installed to contain the maximum impact load ? (dropped objects / worker) | C14: Review the Scaffold design/plan and confirm where catch platforms are used on scaffold structures, they are design rated and installed to contain the maximum impact load (i.e. dropped object or worker)
A15: 16.1.7 | B15: Planning and Safe Design - Where safety nets are installed are they design rated to contain the maximum impact load ? (dropped object / worker) | C15: Review the Scaffold design/plan and confirm where safety nets are installed on scaffold structures, they are design rated and installed to contain the maximum impact load (i.e. dropped object or worker)
A16: 16.2.1 | B16: Exclusion Zones and Access Control - Are exclusion zones established to prevent workers or members of the public being impacted by objects that might fall from height ? | C16: Assess the workplace. Confirm the presence and effectiveness of exclusion zones. Verify demarcation and delineation of exclusion zones are accordance with Australian Standards listed in clause 16.2.1
A17: 16.2.2 | B17: Exclusion Zones and Access Control - Are barricading, demarcation and signage of the exclusion zone in place for the duration of the work where the risk of dropped objects is present ? | C17: Select scaffold workers. Verify that exclusion zones are in place for the duration of work, including after work hours. Confirm this eliminates the risk of a dropped object impacting workers or the public.
A18: 16.2.3 | B18: Exclusion Zones and Access Control - Are the restrictions applicable to exclusion zones communicated to all workers at the worksite ? | C18: Select a group of workers. Confirm that hazards and exclusion zones are communicated to the total workforce.
A19: 16.2.4 | B19: Exclusion Zones and Access Control - Do all workers required to enter the exclusion zone wear appropriate head protection compliant with AS/NZS 1801 (1997) ? Where hardhats are required to protect against dropped objects, is there mandatory requirements in effect ? | C19: Observe workers engaged in activities in work zones where there is a risk of falling or dropped objects from height. Confirm all workers are wearing compliant head protection outlined in AS/NZS 1801 (1997) Occupational Protective Helmets. Verify that signage was installed in accordance with AS 1319 (1994)
A20: 16.3.1 | B20: Securing Devices and Methods of Control - Is there effective securing device such as a tool tether/lanyard attached to an anchorage point to prevent dropped tooling from height ? Are securing system inspected prior to use and tagged out of service where faults are identified ? | C20: Select a worker(s) required to use tools at height. Confirm systems are in place for securing the tool in the event it was dropped and securing devices are inspected prior to use and tagged out of service if faulty. Verify that the worker(s) undertake safe work practices preventing a dropped object (such as a tool)
... A32: 16.6.6 | B32: Safe Loading and Unloading Practices - Are safe systems of work in place where lifting plant or equipment are lifting objects to or from height ? (secure and demarcated area, load stability, within safe load limits, safe load positioning, lifting vertically (straight up), no dragging or off-vertical lifts, slow travel, carrying of loads close to ground) | C32: Observe worker(s) operating lifting plant or equipment. Verify safe systems of work are in place (e.g. secure and demarcated area, load stability, within safe load limits, safe load positioning, lifting vertically (straight up), no dragging or off-vertical lifts, slow travel, carrying of loads close to ground)

Sheet MCS 17
B2: Minimum Control Standard - Exposure to Thermal Stress | D2: Non Conformance (Major) | E2: Non Conformance (Major) - The absence of, or a significant failure to implement and/or maintain conformance to the clause criteria requirements.
D3: Non Conformance (Minor) | E3: Non Conformance (Minor) - A system weakness or deviation from the clause criteria requirements which could lead to a major non-conformance if not addressed.
D4: Observation | E4: Observation - An observed deviation or minor oversight from an otherwise well-implemented process meeting the clause criteria requirements.
D5: Conformance | E5: Conformance - Conformance and implementation of the clause criteria requirements.
D6: Not Applicable | E6: Not Applicable - The clause has been identified as not applicable during the audit.
A8: MCS Clause No: | B8: Evaluation Question | C8: Possible Verification (Field) | D8: Compliance | E8: Auditor Comment (Compliance or Identified Deficiency)
A9: 17.1.1 | B9: Training, Competency and Awareness - Are task or role based risk assessments completed for heat related illness ? (for heat stroke, heat exhaustion, heat syncope). | C9: Ask the worker(s) how risks from thermal stress are assessed. Ask how signs of heat stress are identified and prevented. Ask to review a SWMS to determine if a task-based risk assessment related to thermal stress has occurred. Assess effectiveness of outlined control measures for thermal stress health risks.
A10: 17.1.2 | B10: Training, Competency and Awareness - Do the thermal stress risk assessments consider contributing factors ? (i.e. temperature, humidity, airflow, worker acclimatisation, PPE, task specific location & workload, personal factors) | C10: Ask the worker(s) to outline contributing factors to thermal stress related illnesses. Ask to review a SWMS from a task conducted which was deemed high thermal risk. Verify that the risk assessment included all factors contributing to thermal stress risk.
A11: 17.1.3 | B11: Training, Competency and Awareness - Do workers exposed to high thermal risk receive training ? (includes recognition of signs/symptoms of heat illness, acclimatisation, hydration management, prevention, first aid and emergency procedures) | C11: Ask workers to outline the training they received related to thermal stress. Review training documents to verify that it includes factors which contribute to and prevent heat illness as well as first aid & emergency response procedures.
A12: 17.1.4 | B12: Training, Competency and Awareness - Do supervisors monitor workers for signs/symptoms of thermal stress ? What measures are taken by supervisors to manage workers affected by heat related illness ? | C12: Ask supervisors how workers are monitored, and what the response procedures are for workers showing signs/symptoms of thermal stress. Verify effective countermeasures are in place. Ask if there have been any heat stress related incidences & if so review the effectiveness of management and response.
A13: 17.2.1 | B13: Hydration Management - What measures are used to ensure workers maintain appropriate hydration ? (i.e. provision of potable drinking water/containers, discourage use caffeinated drinks, use of electrolyte drinks) | C13: Select a group of workers and ask them how they maintain adequate hydration in high thermal environments. Verify that that workers are provided easy access to palatable drinking water and water containers.
A14: 17.2.2 | B14: Hydration Management - How do workers determine hydration levels ? Are self-assessment tools provided and available to workers in high thermal stress environments ? (i.e. indicator sticks) | C14: Ask workers how hydration levels are assessed and verify that assessment of specific gravity to indicate hydration levels is occurring (via self-assessment sticks or refractometer)
A15: 17.3.1 | B15: Worker Acclimatisation - Is there a process of worker acclimatisation in place for workers transitioning from cooler to higher thermal environments ? Does this include graduated escalation of workload, work/rest cycling, hydration management and self-assessment ? | C15: Select a group of workers (e.g. FIFO) and ask them if acclimatisation procedure is followed when they return to site. Review Contractor Health/Safety policies to verify this is in place, and that it includes appropriate processes to minimise risk of thermal stress illness in workers transitioning from cool to hot climates.
A16: 17.4.1 | B16: Work Task Management - Where practical, are physically demanding work tasks scheduled for cooler times of the day ? Where this cannot be achieved are established control measures in place ? (i.e. work/rest cycling, job rotation, higher fluid intake). | C16: Ask the contractor how work tasks are scheduled in high thermal environments. Verify that where possible high exertion/high force work tasks are conducted at cooler times of the day. If this is impractical, ask the worker what control measures are in place to minimise the risk of thermal stress illness.
A17: 17.4.2 | B17: Work Task Management -Are air-conditioned facilities (i.e. office, air-conditioned vehicle) provided where work/ rest cycling is required to aid in worker recuperation ? | C17: Ask the contractor to outline how they manage worker recuperation during high daytime thermal peaks i.e.: are air-conditioned facilities (ideally) or a shaded area (as a minimum) provided during the work/rest cycle
A18: 17.5.1 | B18: Safe Work Practices in Hot Environments - Are safe work practices are in place when there is a risk of heat illness ? (i.e. work/task scheduling, modified work rates, no solitary work, PPE, workers monitoring, maintaining hydration, acclimatisation, avoidance of direct sun exposure, first aid and emergency response) | C18: Ask workers what safe work practices are in place for work in the heat. Verify that they are effective and appropriate to the level of risk. Review a selection of SWMS used for work tasks conducted in high thermal environments & verify that they document safe work practices and controls for workers at risk of heat illness.

Sheet MCS 18
B2: Minimum Control Standard - Exposure to Hazardous Substances and Dangerous Goods (excl. asbestos) | D2: Non Conformance (Major) | E2: Non Conformance (Major) - The absence of, or a significant failure to implement and/or maintain conformance to the clause criteria requirements.
D3: Non Conformance (Minor) | E3: Non Conformance (Minor) - A system weakness or deviation from the clause criteria requirements which could lead to a major non-conformance if not addressed.
D4: Observation | E4: Observation - An observed deviation or minor oversight from an otherwise well-implemented process meeting the clause criteria requirements.
D5: Conformance | E5: Conformance - Conformance and implementation of the clause criteria requirements.
D6: Not Applicable | E6: Not Applicable - The clause has been identified as not applicable during the audit.
A8: MCS Clause No: | B8: Evaluation Question | C8: Possible Verification (Field) | D8: Compliance | E8: Auditor Comment (Compliance or Identified Deficiency)
A9: 18.1.1 | B9: Training, Competency and Awareness - Is information, training and instruction provided to workers using, handling, storing, maintaining, repairing, decommissioning, or generating a hazardous substance ? | C9: Ask a selection of workers to outline what training and instruction is provided. Verify that this in accordance with the product safety data sheet. Confirm that SDSs are in place for all hazardous chemicals, easily accessible.
A10: 18.1.2 | B10: Training, Competency and Awareness - Are the risks associated with hazardous substances and dangerous goods assessed to determine the necessary preventative and mitigative control measures ? | C10: Review safety processes for hazardous and dangerous goods. Verify hazards are appropriately assessed (i.e. nature of work, the safety/health requirements in the SDS, whether the substances are toxic/carcinogenic/mutagenic or teratogenic, compatibility of emergency equipment in the workplace)
A11: 18.2.1 | B11: Personal Protective Equipment - Is PPE provided in conjunction with higher order controls to protect workers from exposure to hazardous substances ? Is the PPE suitable, appropriately maintained and do workers receive appropriate training and instruction on the PPE commensurate to the risks ? | C11: Ask a selection of workers how they determine what PPE is required to mitigate risks from hazardous substances. Confirm that the PPE available will mitigate the risks and is compliant with the SDS. Confirm that workers are trained in correct use, maintenance and replacement of PPE
A12: 18.2.2 | B12: Personal Protective Equipment - Does the PPE used to mitigate risk to workers from hazardous substances and dangerous goods meet Australian Standard specifications ? | C12: Select workers who are involved with Hazardous Substances and Dangerous Goods. Confirm that suitable PPE is available to workers and verify it is compliant with the Australian Standards listed in MCS 18.2.2 note)
A13: 18.2.3 | B13: Personal Protective Equipment - Where safety showers and eyewash stations are installed, do they meet the requirement of AS 4775 (2007) Emergency Eye Wash and Shower Equipment ? Are there facilities in place where it is not practicable to use safety showers and eyewash stations ? (i.e. saline solution eyewash bottle) | C13: Review any Emergency Eye Wash and Shower Equipment. Confirm conformance with AS 4775 (2007). Verify safe work practices are followed where safety showers/eyewash stations are unavailable. Confirm these are effective controls
A14: 18.3.1 | B14: Storage, Handling and Use - Are Safety Data Sheets (SDS) available and accessible to workers who are using, handling or storing hazardous substances ? | C14: Review the locations of SDS. Confirm they are readily available to all workers near the work area where hazardous substances are used. Ask a selection of workers where the specific SDS are located to confirm that workers can locate the correct information on hazardous substances
A15: 18.3.2 | B15: Storage, Handling and Use - Is there a SDS manifest (electronic or hard copy) for emergency service workers in the event of an emergency situation ? | C15: Select emergency response workers and confirm they have a manifest(s) for hazardous goods/dangerous substances on site, and that Placarding meets the requirements of the Guidance Note for Placarding Stores for Dangerous Goods and Specified Hazardous Substances [NOHSC 3009(1990)].
A16: 18.3.3 | B16: Storage, Handling and Use - Is the storage of hazardous substances and dangerous goods compliant with the relevant regulations and Standards ? (refer clause criteria) | C16: Review site storage of hazardous substances and dangerous goods and confirm compliance with the regulations and standards listed in MCS 18.3.3 clause notes.
A17: 18.3.4 | B17: Storage, Handling and Use - Are items segregated in accordance with regulatory requirements for incompatible mixed classes of hazardous substances and dangerous goods ? Are comparison charts used with placards at storage locations to achieve suitable segregation ? | C17: Review site storage and segregation procedures for hazardous substances and dangerous goods. Confirm all items are segregated in compliance with Australian standards where required, and that comparison charts are used where required.
A18: 18.3.5 | B18: Storage, Handling and Use - Are inventory inspections of hazardous substances and dangerous goods completed for each storage facility and location ? | C18: Select workers responsible for storage handling and use of hazardous substances and dangerous goods. Confirm that inventory inspections of such stored material occurs for each storage facility and location.
A19: 18.3.6 | B19: Storage, Handling and Use - Where volatile substances are used, is there systems in place to prevent theft and subsequent substance misuse by members of the public ? | C19: Verify that appropriate steps are taken to prevent theft of volatile substances. Discuss with workers and supervisory how this is achieved. Confirm effective means exist preventing theft of volatile substances.
A20: 18.4.1 | B20: Safe Storage, Handling and Use of Compressed Gas, Oxygen and Acetylene Cylinders - Are compressed gases, fuel gases, oxygen and welding materials stored, handled and used in accordance with relevant Standards ? | C20: Select a group of workers and confirm compressed gases, fuel gases, oxygen and welding materials stored, handled and used in accordance with relevant Standards
... A22: 18.4.3 | B22: Safe Storage, Handling and Use of Compressed Gas, Oxygen and Acetylene Cylinders - Are there safe work practices in place for compressed gas cylinder ? (includes the use, storage and handling) | C22: Select workers who use compressed gas cylinders. Confirm safe work practices are used for the storage, handling and used of compressed gas cylinders.

Sheet MCS 19
B2: Minimum Control Standard - Electrical Work | D2: Non Conformance (Major) | E2: Non Conformance (Major) - The absence of, or a significant failure to implement and/or maintain conformance to the clause criteria requirements.
D3: Non Conformance (Minor) | E3: Non Conformance (Minor) - A system weakness or deviation from the clause criteria requirements which could lead to a major non-conformance if not addressed.
D4: Observation | E4: Observation - An observed deviation or minor oversight from an otherwise well-implemented process meeting the clause criteria requirements.
D5: Conformance | E5: Conformance - Conformance and implementation of the clause criteria requirements.
D6: Not Applicable | E6: Not Applicable - The clause has been identified as not applicable during the audit.
A8: MCS Clause No: | B8: Evaluation Question | C8: Possible Verification (Field) | D8: Compliance | E8: Auditor Comment (Compliance or Identified Deficiency)
A9: 19.1.1 | B9: Training Competency and Awareness - Are electrical workers trained and competent to perform installation and maintenance on electrical assets ? (licenced Electrician (trade qualification) in accordance with the Electrical (Licensing) Regulations 1991. | C9: Select a number of electrical workers and verify their qualifications and verify against qualifications records / register.
A10: 19.1.2 | B10: Training Competency and Awareness - Is supervision provided to electrical apprentices in accordance with regulatory requirements ? (Safe Working Guidelines and Effective Supervision of Electrical Apprentices and Safe Working Guidelines for Electrical Workers) | C10: Identify any electrical workers who are trade apprentices (where available) and discuss the tasks they perform and the supervision they receive. Ask trade qualified electricians the supervision they provide and knowledge of the supervision requirements in the Regulations and Code of Practice.
A11: 19.1.3 | B11: Training Competency and Awareness - Is the electrical work being conducted in accordance with Australian and New Zealand Standards and the relevant Acts and Regulations ? | C11: Ask electrical workers how electrical installations are completed in accordance with Standards and Regulatory requirements. Possible verification against engineer installation designs drawings.
A12: 19.1.4 | B12: Training Competency and Awareness - Have safe design principles been applies to the intended installation of electrical systems in accordance with regulatory and Standard requirements ? (Regulation 49A of the Electricity (Licensing) Regulations (1991) and AS 3000 (2018) Electrical Installations (Wiring Rules). | C12: Discuss with electrical workers / project management team the safe design requirements in accordance with the electrical Regulations. View safe design drawings for electrical installations and confirm the safe design is applied under AS 3000 for electrical installations.
A13: 19.1.5 | B13: Training Competency and Awareness - Are electrical records and plans retained and handed over (as-constructed) showing the location of cabling, fixtures, equipment, main switches and buried electrical services ? Are updated electrical drawing submitted for any subsequent installations which were not part of the original as-construct drawings ? | C13: Review documentation. Confirm electrical records and plans are retained and handed over illustrating location of cabling, fixtures, equipment, main switches and buried electrical services. Verify that updated electrical drawing are submitted for any subsequent installations not part of the original drawings ?
A14: 19.1.6 | B14: Training Competency and Awareness - Are the hazards associated with exposure to electrical sources risk assessed to prevent injury or harm to workers ? (i.e. voltage of electrical sources, type of installation, sources of electrocution, electric shock and arc flash, plant and equipment, isolation requirements, work in or near pits, ladders, scaffolding structures) | C14: Conduct visual observations of electrical work or electrical installations. Verify electrical risk scenarios have been evaluated for the installations that have or are to be completed. Discuss with a selection of electrical workers the risk associated with their scope of work. Confirm effective controls are in place.
A15: 19.1.7 | B15: Training Competency and Awareness - Is there a task specific SWMS is place for workers who are conducting electrical work ? Is the SWMS task specific and have all workers read and signed onto the SWMS ? | C15: Select electrical workers and review SWMS for electrical work and verify the SWMS against the electrical work being conducted. Confirm that the SWMS has been signed onto by all workers and applied.
A16: 19.2.1 | B16: Electrical Protection and Inspection - Are portable and non-portable electrical sources protected by type 1 or 2 RCD's in accordance with regulatory requirements and Standards ? (AS/NZS 3000 (2018) Electrical Installations (Australian/New Zealand Wiring Rules)) | C16: Inspect a selection of portable and non-portable electrical equipment / devices and inspect for RCD protection.
A17: 19.2.2 | B17: Electrical Protection and Inspection - Are RCD's tested for integrity and function in accordance with regulatory requirements, Standards and test specifications ? (AS/NZS 3760 (2010) In-Service Safety Inspection and Testing of Electrical Equipment and AS/NZS 3190 (2016) Residual Current Devices (current-operated earth-leakage devices). | C17: Select electrical workers and confirm the inspection and testing of RCD's. Verify testing records (where available). Confirm with the RCD electrical inspectors the in-service testing requirements meets standard compliance.
A18: 19.2.3 | B18: Electrical Protection and Inspection - Are electrical systems tested after first use, repair, when purchased second hand and at frequencies specified in AS/NZS 3000 ? Is there a electrical inspection tag affixed which is durable, water resistant, self-adhesive and well secured ? | C18: Inspect a selection of electrical devices for affixed inspection tags. Check the tag is within the inspection date for next inspection.
A19: 19.2.4 | B19: Electrical Protection and Inspection - Does the testing of electrical equipment include observation of damage, defects or modifications to the equipment, accessories connectors, plugs or cords ? Does the inspection also include the assessment of anchoring of the equipment, plugs, connectors and cord extension sockets damage free, operating controls, guards etc. ? | C19: Observe electrical equipment to assess the integrity of the equipment. Check for non compliant wiring and damage. View electrical inspection records and confirm fault rectification.
A20: 19.2.5 | B20: Electrical Protection and Inspection - Are records retained for new electrical equipment which is used such as the date of purchase, date of entry into service and the first safety inspection test ? | C20: Note a selection of electrical equipment / devices and reconcile against the site electrical equipment register.
... A39: 19.7.2 | B39: Electrical Safe Work Practices - Are compliant electrical cords safe for use and used in a safe manner ? (protected from heat, damage and sharp objects, suspended off the ground where possible, heavy duty sheath compliant with AS3191, not joined through an RCD and > 10 amp rating) | C39: Ask to view a selection of electrical leads and cords and confirm Standard compliance. Confirm with workers that appropriate safety measures are taken to ensure the integrity of electrical cords.

Sheet MCS 20
B2: Minimum Control Standard - Piling Rig Operation | D2: Non Conformance (Major) | E2: Non Conformance (Major) - The absence of, or a significant failure to implement and/or maintain conformance to the clause criteria requirements.
D3: Non Conformance (Minor) | E3: Non Conformance (Minor) - A system weakness or deviation from the clause criteria requirements which could lead to a major non-conformance if not addressed.
D4: Observation | E4: Observation - An observed deviation or minor oversight from an otherwise well-implemented process meeting the clause criteria requirements.
D5: Conformance | E5: Conformance - Conformance and implementation of the clause criteria requirements.
D6: Not Applicable | E6: Not Applicable - The clause has been identified as not applicable during the audit.
A8: MCS Clause No: | B8: Evaluation Question | C8: Possible Verification (Field) | D8: Compliance | E8: Auditor Comment (Compliance or Identified Deficiency)
A9: 20.1.1 | B9: Training, Competency and Awareness - Does the piling rig operator have the required competencies for operation of the piling rig ? Where a Crane is used as with piling attachments does the Crane operator have the appropriate HRWL for the Crane ? (both operators must have the “Conduct Pile Driving Operations” qualification. | C9: Discuss with the operators who are conducting the piling rig work, view their competencies and verify these competencies are listed in the training matrix/register.
A10: 20.1.2 | B10: Training, Competency and Awareness - Has the Safe Design Plan adequately assessed whether the hazards have been adequately assessed for the Piling work ? Was there a geotechnical site investigation report provided in association with the Safe Design Plan ? | C10: Discuss with the Contractor and request to view the stated documentation. Review for consistency and in field application. Discuss with the Piling Rig Operator the geotechnical report for the establishment of the working platform.
A11: 20.1.3 | B11: Training, Competency and Awareness - Has a suitable risk assessment been completed identifying all of the hazards associated with Piling Rig operations ? | C11: Observe the site location and discuss with the Piling team the hazards associated with the work. Review relevant information such as the SWMS to see the Piling team have adequately.
A12: 20.1.4 | B12: Training, Competency and Awareness - Has the risk assessment and geotechnical investigation identified UXO (unexploded ordinates) as a hazard associated with the piling work ? | C12: Review the risk assessment and the geotechnical investigation report to assess whether the UXO has been evaluated as a potential hazard for the piling rig work. Discuss with the piling rig operator and Contractor the assessment requirements they undertake for UXO
A13: 20.1.5 | B13: Training, Competency and Awareness - Is the formation of the working platform based on the geotechnical inspection report ? Discuss with the piling rig operator how the design of the working platform is built based on the investigation report ? | C13: View the geotechnical investigation report and the working platform certificate to identify the working platform is based on the report. Discuss with the piling rig operator the application of the report in conjunction with the working platform design.
A14: 20.2.1 | B14: Inspection and Mechanical Integrity of Piling Rig - Is there a preventative maintenance program in place for the Piling Rig / Crane ? Is the system in place for safe isolation ? Is maintenance completed by a competent person ? (fitter) Are part “like for Like” and maintained in accordance with OEM instruction ? | C14: Discuss with the operator/ maintainer the maintenance requirements of the item of plant. Ask how the Plant is isolated and plant replacement requirements in accordance with OEM instructions. Review records and isolation procedures where available.
A15: 20.2.2 | B15: Inspection and Mechanical Integrity of Piling Rig - Discuss with the piling rig operator the preventative maintenance that is conducted on the Piling Rig or Crane (where used for Piling) ? How does the Plant get maintained and does the preventative maintenance meet the requirements of the Code of Practice ? | C15: Discuss with the operator and view the preventative maintenance records to ensure it has been completed in accordance with regulatory requirements.
A16: 20.2.3 | B16: Inspection and Mechanical Integrity of Piling Rig - Have repairs be conducted on the piling rig for structural steel components ? Was this completed by a qualified tradesman and are there records detailing the repair ? | C16: Discuss with the plant operator any repairs that have required welding on the rig. Where this has been conducted, request to view the records for the repair in the plant log books.
A17: 20.3.1 | B17: Pre-operational Requirements - Does the piling rig have the required documentation with the piling rig (or Crane where applicable) ? (includes log book, pre-start book, operation manual, plant risk assessment) | C17: Request to view the stated documents through consultation with the piling rig operator. Check the last inspection dates and review the daily pre-start book.
A18: 20.3.2 | B18: Pre-operational Requirements - Is the Piling Rig / Crane in a good general condition ? (free from leaks and visible signs of damage which may cause a risk to the operator and workers) | C18: Conduct a visual observation of the Piling Rig to identify any faults or hazards. Discuss with the operator the stand down procedures for any safety critical faults on the Plant.
A19: 20.3.3 | B19: Pre-operational Requirements - Has a pre-start been completed for the safe operation and function of the Piling Rig / Crane been completed ? (i.e. mechanical and electric components, structural components, brakes, tracks, safety and limit switches, control systems) | C19: Discuss with operator pre-start requirements on the plant. View the pre-start books to identify consistent use and identification of faults. Ask the operator the process he runs through for functional testing prior to commencing work.
A20: 20.3.4 | B20: Pre-operational Requirements - Does the person conducting the maintenance isolate all power and hydraulic systems through an isolation procedure ? Is a “test for dead” process completed prior to maintenance being conducted ? | C20: Discuss with the operator and where available the person who conducts the maintenance the systems in place for maintenance and the systems for isolation prior to maintenance. Check isolation points and where available the isolation process for the specific Piling Rig / Crane.
... A27: 20.5.2 | B27: Safe Work Practices Is the working platform well maintained including the floor surfaces in the vicinity of the piling rig ? (i.e. trips hazards, uneven / broken ground, slurry and water management) Is there an inspection regime in place for the working platform ? | C27: Observe the working platform and discuss with workers how it is maintained and where applicable, repaired. Discuss the inspection process undertaken and what processes are in place where the integrity of the working platform is compromised.

Sheet MCS 21
B2: Minimum Control Standard - Respirable Crystalline Silica | D2: Non Conformance (Major) | E2: Non Conformance (Major) - The absence of, or a significant failure to implement and/or maintain conformance to the clause criteria requirements.
D3: Non Conformance (Minor) | E3: Non Conformance (Minor) - A system weakness or deviation from the clause criteria requirements which could lead to a major non-conformance if not addressed.
D4: Observation | E4: Observation - An observed deviation or minor oversight from an otherwise well-implemented process meeting the clause criteria requirements.
D5: Conformance | E5: Conformance - Conformance and implementation of the clause criteria requirements.
D6: Not Applicable | E6: Not Applicable - The clause has been identified as not applicable during the audit.
A8: MCS Clause No: | B8: Evaluation Question | C8: Possible Verification (Field) | D8: Compliance | E8: Auditor Comment (Compliance or Identified Deficiency)
A9: 21.1.1 | B9: Training, Competency and Awareness - Has information, training and instruction been provided to workers who are involved in the processing of a crystalline silica substance or at risk of exposure to respirable crystalline silica ? | C9: Ask a selection of workers to outline what training and instruction is provided and verify their training records (i.e. training matrix)
A10: 21.2.1 | B10: Silica Risk Control Plan - Has a Silica Risk Control Plan been prepared, or incorporated into a SWMS for high risk construction work that includes a high risk of exposure to respirable crystalline silica ? | C10: Request to view the stated documents. Review the plan or SWMS to ensure the specified silica risk control information is included in the plan.
A11: 21.2.2 | B11: Silica Risk Control Plan - Does the Silica Risk Control Plan or SWMS identify all high risk silica process activities, including a risk assessment for these activities, and document control measures to mitigate the risks ? Does the doucment outline how these controls will be implemented, monitored and reviewed ? | C11: Review the plan or SWMS to ensure the specified silica risk control information is completed in accordance with the legislative requirements. Observe works conducted involving processing of crystalline silica substance(s) and assess if the works were completed in accordance with the safe work method statement or silica risk control plan for the duration of the work.
A12: 21.3.1 | B12: Exclusion Zones and Access Control - Has an exclusion zone been estalished where exposure to RCS has been identified ? Is the exclusion zone in accordance with Australian Standards ? | C12: Confirm the presence and effectiveness of exclusion zones. Verify demarcation and delineation of exclusion zones are accordance with Australian Standards listed in clause 21.3.1
A13: 21.3.2 | B13: Exclusion Zones and Access Control - Has the barricading, demarcation and signage for the exclusion zone been in place for the duration of the work ? | C13: Select workers involved in high risk silica processing activities. Verify that exclusion zones are in place for the duration of work. Confirm this eliminates the risk of workers being exposure to respirable crystalline silica.
A14: 21.3.3 | B14: Exclusion Zones and Access Control - Are the restrictions applicable to exclusion zones communicated to all workers at the worksite ? | C14: Select a group of workers. Confirm that hazards and exclusion zones are communicated to the total workforce.
A15: 21.3.4 | B15: Exclusion Zones and Access Control - Do all workers required to enter the exclusion zone wear appropriate PPE and RPE ? | C15: Observe workers engaged in activities in work zones where there is a risk of respirable crystalline silica. Confirm all workers are wearing compliant PPE and RPE.
A16: 21.4.1 | B16: Personal Protective Equipment - Does the Respirable Protective Equipment (RPE) used to mitigate risk to workers from respirable crystalline silica meet Australian Standard specifications ? | C16: Select workers who are involved with processing crystalline silica substances. Confirm that suitable PPE is available to workers and verify it is compliant with the Australian Standards listed in MCS 21.4.1
A17: 21.4.2 | B17: Personal Protective Equipment - Is the RPE provided to protect workers from exposure to respirable crystalline silica worn at all times when there is a reasonable expectation of exposure? Is the RPE suitable, fit tested and do workers receive appropriate training and instruction on the RPE ? | C17: Ask a selection of workers how they determine when RPE is required to mitigate risks from crystalline silica substances. Confirm that the RPE available will mitigate the risks and is compliant (i.e. fit tested). Confirm that workers are trained in correct use, maintenance and replacement of RPE
A18: 21.4.3 | B18: Personal Protective Equipment - In addition to RPE has additional PPE been provided and used by workers at risk of respirable crystalline silica ? (coveralls incl for footwear, gloves) based on the risk assessment ? | C18: Select workers involved in processing crystalline silica substances. Verify workers are wearing appropriate PPE (in addition to RPE). Where this is not occurring review SWMS or silica risk control plan to verify PPE was documented by workers.
A19: 21.5.1 | B19: Air Monitoring - Have the requirements for air monitoring been identified based on a risk assessment and documented in the SWMS or silica risk control plan ? | C19: Check that any requirements for air monitoring have been identified where specified in the clause criteria and documented in the SWMS or silica risk control plan
A20: 21.5.2 | B20: Air Monitoring - Is there uncertainty, or reasonably likely that the airborne concentration of RCS will exceed half the WES ? Is air monitoring necessary to find out if there is a risk to health ? | C20: Confirm that air monitoring is based on a risk assessment of the scope of work.
... A22: 21.5.4 | B22: Air Monitoring - Where air monitoring has been conducted have they been evaluated by a NATA accredited laboratory? Where exceedances have been detected has work immediately stopped and have the exceedances been reported, investigated with immediate notification provided to the Principal ? | C22: Review any air monitoring which has been conducted. Verify that this has been evaluated by a NATA accredited laboratory. Check that any if exceedances have been detected did the work stop immediately and the exceedances reported, investigated with immediate notification provided to the Principal
